BEGIN:VCALENDAR
VERSION:2.0
PRODID:-//Hospizverein Bramsche - ECPv6.15.16//NONSGML v1.0//EN
CALSCALE:GREGORIAN
METHOD:PUBLISH
X-WR-CALNAME:Hospizverein Bramsche
X-ORIGINAL-URL:https://hospizverein-bramsche.de
X-WR-CALDESC:Veranstaltungen für Hospizverein Bramsche
REFRESH-INTERVAL;VALUE=DURATION:PT1H
X-Robots-Tag:noindex
X-PUBLISHED-TTL:PT1H
BEGIN:VTIMEZONE
TZID:Europe/Berlin
BEGIN:DAYLIGHT
TZOFFSETFROM:+0100
TZOFFSETTO:+0200
TZNAME:CEST
DTSTART:20250330T010000
END:DAYLIGHT
BEGIN:STANDARD
TZOFFSETFROM:+0200
TZOFFSETTO:+0100
TZNAME:CET
DTSTART:20251026T010000
END:STANDARD
BEGIN:DAYLIGHT
TZOFFSETFROM:+0100
TZOFFSETTO:+0200
TZNAME:CEST
DTSTART:20260329T010000
END:DAYLIGHT
BEGIN:STANDARD
TZOFFSETFROM:+0200
TZOFFSETTO:+0100
TZNAME:CET
DTSTART:20261025T010000
END:STANDARD
BEGIN:DAYLIGHT
TZOFFSETFROM:+0100
TZOFFSETTO:+0200
TZNAME:CEST
DTSTART:20270328T010000
END:DAYLIGHT
BEGIN:STANDARD
TZOFFSETFROM:+0200
TZOFFSETTO:+0100
TZNAME:CET
DTSTART:20271031T010000
END:STANDARD
BEGIN:DAYLIGHT
TZOFFSETFROM:+0100
TZOFFSETTO:+0200
TZNAME:CEST
DTSTART:20280326T010000
END:DAYLIGHT
BEGIN:STANDARD
TZOFFSETFROM:+0200
TZOFFSETTO:+0100
TZNAME:CET
DTSTART:20281029T010000
END:STANDARD
BEGIN:DAYLIGHT
TZOFFSETFROM:+0100
TZOFFSETTO:+0200
TZNAME:CEST
DTSTART:20290325T010000
END:DAYLIGHT
BEGIN:STANDARD
TZOFFSETFROM:+0200
TZOFFSETTO:+0100
TZNAME:CET
DTSTART:20291028T010000
END:STANDARD
END:VTIMEZONE
BEGIN:VEVENT
DTSTART;TZID=Europe/Berlin:20260506T160000
DTEND;TZID=Europe/Berlin:20260506T173000
DTSTAMP:20260420T055200
CREATED:20240514T133036Z
LAST-MODIFIED:20241219T171135Z
UID:10000219-1778083200-1778088600@hospizverein-bramsche.de
SUMMARY:Hospizcafe
DESCRIPTION:
URL:https://hospizverein-bramsche.de/event/hospizcafe/2026-05-06/
LOCATION:Hopizbüro\, Münsterstrasse 16\, Bramsche\, Niedersachsen\, 49565\, Deutschland
END:VEVENT
BEGIN:VEVENT
DTSTART;TZID=Europe/Berlin:20260603T160000
DTEND;TZID=Europe/Berlin:20260603T173000
DTSTAMP:20260420T055200
CREATED:20240514T133036Z
LAST-MODIFIED:20241219T171135Z
UID:10000220-1780502400-1780507800@hospizverein-bramsche.de
SUMMARY:Hospizcafe
DESCRIPTION:
URL:https://hospizverein-bramsche.de/event/hospizcafe/2026-06-03/
LOCATION:Hopizbüro\, Münsterstrasse 16\, Bramsche\, Niedersachsen\, 49565\, Deutschland
END:VEVENT
BEGIN:VEVENT
DTSTART;TZID=Europe/Berlin:20260701T160000
DTEND;TZID=Europe/Berlin:20260701T173000
DTSTAMP:20260420T055200
CREATED:20240514T133036Z
LAST-MODIFIED:20241219T171135Z
UID:10000221-1782921600-1782927000@hospizverein-bramsche.de
SUMMARY:Hospizcafe
DESCRIPTION:
URL:https://hospizverein-bramsche.de/event/hospizcafe/2026-07-01/
LOCATION:Hopizbüro\, Münsterstrasse 16\, Bramsche\, Niedersachsen\, 49565\, Deutschland
END:VEVENT
BEGIN:VEVENT
DTSTART;TZID=Europe/Berlin:20260805T160000
DTEND;TZID=Europe/Berlin:20260805T173000
DTSTAMP:20260420T055200
CREATED:20240514T133036Z
LAST-MODIFIED:20241219T171135Z
UID:10000222-1785945600-1785951000@hospizverein-bramsche.de
SUMMARY:Hospizcafe
DESCRIPTION:
URL:https://hospizverein-bramsche.de/event/hospizcafe/2026-08-05/
LOCATION:Hopizbüro\, Münsterstrasse 16\, Bramsche\, Niedersachsen\, 49565\, Deutschland
END:VEVENT
BEGIN:VEVENT
DTSTART;TZID=Europe/Berlin:20260902T160000
DTEND;TZID=Europe/Berlin:20260902T173000
DTSTAMP:20260420T055200
CREATED:20240514T133036Z
LAST-MODIFIED:20241219T171135Z
UID:10000223-1788364800-1788370200@hospizverein-bramsche.de
SUMMARY:Hospizcafe
DESCRIPTION:
URL:https://hospizverein-bramsche.de/event/hospizcafe/2026-09-02/
LOCATION:Hopizbüro\, Münsterstrasse 16\, Bramsche\, Niedersachsen\, 49565\, Deutschland
END:VEVENT
BEGIN:VEVENT
DTSTART;TZID=Europe/Berlin:20261007T160000
DTEND;TZID=Europe/Berlin:20261007T173000
DTSTAMP:20260420T055200
CREATED:20240514T133036Z
LAST-MODIFIED:20241219T171135Z
UID:10000224-1791388800-1791394200@hospizverein-bramsche.de
SUMMARY:Hospizcafe
DESCRIPTION:
URL:https://hospizverein-bramsche.de/event/hospizcafe/2026-10-07/
LOCATION:Hopizbüro\, Münsterstrasse 16\, Bramsche\, Niedersachsen\, 49565\, Deutschland
END:VEVENT
BEGIN:VEVENT
DTSTART;TZID=Europe/Berlin:20261104T160000
DTEND;TZID=Europe/Berlin:20261104T173000
DTSTAMP:20260420T055200
CREATED:20240514T133036Z
LAST-MODIFIED:20241219T171135Z
UID:10000225-1793808000-1793813400@hospizverein-bramsche.de
SUMMARY:Hospizcafe
DESCRIPTION:
URL:https://hospizverein-bramsche.de/event/hospizcafe/2026-11-04/
LOCATION:Hopizbüro\, Münsterstrasse 16\, Bramsche\, Niedersachsen\, 49565\, Deutschland
END:VEVENT
BEGIN:VEVENT
DTSTART;TZID=Europe/Berlin:20261202T160000
DTEND;TZID=Europe/Berlin:20261202T173000
DTSTAMP:20260420T055200
CREATED:20240514T133036Z
LAST-MODIFIED:20241219T171135Z
UID:10000226-1796227200-1796232600@hospizverein-bramsche.de
SUMMARY:Hospizcafe
DESCRIPTION:
URL:https://hospizverein-bramsche.de/event/hospizcafe/2026-12-02/
LOCATION:Hopizbüro\, Münsterstrasse 16\, Bramsche\, Niedersachsen\, 49565\, Deutschland
END:VEVENT
BEGIN:VEVENT
DTSTART;TZID=Europe/Berlin:20270106T160000
DTEND;TZID=Europe/Berlin:20270106T173000
DTSTAMP:20260420T055200
CREATED:20240514T133036Z
LAST-MODIFIED:20241219T171135Z
UID:10000227-1799251200-1799256600@hospizverein-bramsche.de
SUMMARY:Hospizcafe
DESCRIPTION:
URL:https://hospizverein-bramsche.de/event/hospizcafe/2027-01-06/
LOCATION:Hopizbüro\, Münsterstrasse 16\, Bramsche\, Niedersachsen\, 49565\, Deutschland
END:VEVENT
BEGIN:VEVENT
DTSTART;TZID=Europe/Berlin:20270203T160000
DTEND;TZID=Europe/Berlin:20270203T173000
DTSTAMP:20260420T055200
CREATED:20240514T133036Z
LAST-MODIFIED:20241219T171135Z
UID:10000228-1801670400-1801675800@hospizverein-bramsche.de
SUMMARY:Hospizcafe
DESCRIPTION:
URL:https://hospizverein-bramsche.de/event/hospizcafe/2027-02-03/
LOCATION:Hopizbüro\, Münsterstrasse 16\, Bramsche\, Niedersachsen\, 49565\, Deutschland
END:VEVENT
BEGIN:VEVENT
DTSTART;TZID=Europe/Berlin:20270303T160000
DTEND;TZID=Europe/Berlin:20270303T173000
DTSTAMP:20260420T055200
CREATED:20240514T133036Z
LAST-MODIFIED:20241219T171135Z
UID:10000229-1804089600-1804095000@hospizverein-bramsche.de
SUMMARY:Hospizcafe
DESCRIPTION:
URL:https://hospizverein-bramsche.de/event/hospizcafe/2027-03-03/
LOCATION:Hopizbüro\, Münsterstrasse 16\, Bramsche\, Niedersachsen\, 49565\, Deutschland
END:VEVENT
BEGIN:VEVENT
DTSTART;TZID=Europe/Berlin:20270407T160000
DTEND;TZID=Europe/Berlin:20270407T173000
DTSTAMP:20260420T055200
CREATED:20240514T133036Z
LAST-MODIFIED:20241219T171135Z
UID:10000230-1807113600-1807119000@hospizverein-bramsche.de
SUMMARY:Hospizcafe
DESCRIPTION:
URL:https://hospizverein-bramsche.de/event/hospizcafe/2027-04-07/
LOCATION:Hopizbüro\, Münsterstrasse 16\, Bramsche\, Niedersachsen\, 49565\, Deutschland
END:VEVENT
BEGIN:VEVENT
DTSTART;TZID=Europe/Berlin:20270505T160000
DTEND;TZID=Europe/Berlin:20270505T173000
DTSTAMP:20260420T055200
CREATED:20240514T133036Z
LAST-MODIFIED:20241219T171135Z
UID:10000231-1809532800-1809538200@hospizverein-bramsche.de
SUMMARY:Hospizcafe
DESCRIPTION:
URL:https://hospizverein-bramsche.de/event/hospizcafe/2027-05-05/
LOCATION:Hopizbüro\, Münsterstrasse 16\, Bramsche\, Niedersachsen\, 49565\, Deutschland
END:VEVENT
BEGIN:VEVENT
DTSTART;TZID=Europe/Berlin:20270602T160000
DTEND;TZID=Europe/Berlin:20270602T173000
DTSTAMP:20260420T055200
CREATED:20240514T133036Z
LAST-MODIFIED:20241219T171135Z
UID:10000232-1811952000-1811957400@hospizverein-bramsche.de
SUMMARY:Hospizcafe
DESCRIPTION:
URL:https://hospizverein-bramsche.de/event/hospizcafe/2027-06-02/
LOCATION:Hopizbüro\, Münsterstrasse 16\, Bramsche\, Niedersachsen\, 49565\, Deutschland
END:VEVENT
BEGIN:VEVENT
DTSTART;TZID=Europe/Berlin:20270707T160000
DTEND;TZID=Europe/Berlin:20270707T173000
DTSTAMP:20260420T055200
CREATED:20240514T133036Z
LAST-MODIFIED:20241219T171135Z
UID:10000233-1814976000-1814981400@hospizverein-bramsche.de
SUMMARY:Hospizcafe
DESCRIPTION:
URL:https://hospizverein-bramsche.de/event/hospizcafe/2027-07-07/
LOCATION:Hopizbüro\, Münsterstrasse 16\, Bramsche\, Niedersachsen\, 49565\, Deutschland
END:VEVENT
BEGIN:VEVENT
DTSTART;TZID=Europe/Berlin:20270804T160000
DTEND;TZID=Europe/Berlin:20270804T173000
DTSTAMP:20260420T055200
CREATED:20240514T133036Z
LAST-MODIFIED:20241219T171135Z
UID:10000234-1817395200-1817400600@hospizverein-bramsche.de
SUMMARY:Hospizcafe
DESCRIPTION:
URL:https://hospizverein-bramsche.de/event/hospizcafe/2027-08-04/
LOCATION:Hopizbüro\, Münsterstrasse 16\, Bramsche\, Niedersachsen\, 49565\, Deutschland
END:VEVENT
BEGIN:VEVENT
DTSTART;TZID=Europe/Berlin:20270901T160000
DTEND;TZID=Europe/Berlin:20270901T173000
DTSTAMP:20260420T055200
CREATED:20240514T133036Z
LAST-MODIFIED:20241219T171135Z
UID:10000235-1819814400-1819819800@hospizverein-bramsche.de
SUMMARY:Hospizcafe
DESCRIPTION:
URL:https://hospizverein-bramsche.de/event/hospizcafe/2027-09-01/
LOCATION:Hopizbüro\, Münsterstrasse 16\, Bramsche\, Niedersachsen\, 49565\, Deutschland
END:VEVENT
BEGIN:VEVENT
DTSTART;TZID=Europe/Berlin:20271006T160000
DTEND;TZID=Europe/Berlin:20271006T173000
DTSTAMP:20260420T055200
CREATED:20240514T133036Z
LAST-MODIFIED:20241219T171135Z
UID:10000236-1822838400-1822843800@hospizverein-bramsche.de
SUMMARY:Hospizcafe
DESCRIPTION:
URL:https://hospizverein-bramsche.de/event/hospizcafe/2027-10-06/
LOCATION:Hopizbüro\, Münsterstrasse 16\, Bramsche\, Niedersachsen\, 49565\, Deutschland
END:VEVENT
BEGIN:VEVENT
DTSTART;TZID=Europe/Berlin:20271103T160000
DTEND;TZID=Europe/Berlin:20271103T173000
DTSTAMP:20260420T055200
CREATED:20240514T133036Z
LAST-MODIFIED:20241219T171135Z
UID:10000237-1825257600-1825263000@hospizverein-bramsche.de
SUMMARY:Hospizcafe
DESCRIPTION:
URL:https://hospizverein-bramsche.de/event/hospizcafe/2027-11-03/
LOCATION:Hopizbüro\, Münsterstrasse 16\, Bramsche\, Niedersachsen\, 49565\, Deutschland
END:VEVENT
BEGIN:VEVENT
DTSTART;TZID=Europe/Berlin:20271201T160000
DTEND;TZID=Europe/Berlin:20271201T173000
DTSTAMP:20260420T055200
CREATED:20240514T133036Z
LAST-MODIFIED:20241219T171135Z
UID:10000238-1827676800-1827682200@hospizverein-bramsche.de
SUMMARY:Hospizcafe
DESCRIPTION:
URL:https://hospizverein-bramsche.de/event/hospizcafe/2027-12-01/
LOCATION:Hopizbüro\, Münsterstrasse 16\, Bramsche\, Niedersachsen\, 49565\, Deutschland
END:VEVENT
BEGIN:VEVENT
DTSTART;TZID=Europe/Berlin:20280105T160000
DTEND;TZID=Europe/Berlin:20280105T173000
DTSTAMP:20260420T055200
CREATED:20240514T133036Z
LAST-MODIFIED:20241219T171135Z
UID:10000239-1830700800-1830706200@hospizverein-bramsche.de
SUMMARY:Hospizcafe
DESCRIPTION:
URL:https://hospizverein-bramsche.de/event/hospizcafe/2028-01-05/
LOCATION:Hopizbüro\, Münsterstrasse 16\, Bramsche\, Niedersachsen\, 49565\, Deutschland
END:VEVENT
BEGIN:VEVENT
DTSTART;TZID=Europe/Berlin:20280202T160000
DTEND;TZID=Europe/Berlin:20280202T173000
DTSTAMP:20260420T055200
CREATED:20240514T133036Z
LAST-MODIFIED:20241219T171135Z
UID:10000240-1833120000-1833125400@hospizverein-bramsche.de
SUMMARY:Hospizcafe
DESCRIPTION:
URL:https://hospizverein-bramsche.de/event/hospizcafe/2028-02-02/
LOCATION:Hopizbüro\, Münsterstrasse 16\, Bramsche\, Niedersachsen\, 49565\, Deutschland
END:VEVENT
BEGIN:VEVENT
DTSTART;TZID=Europe/Berlin:20280301T160000
DTEND;TZID=Europe/Berlin:20280301T173000
DTSTAMP:20260420T055200
CREATED:20240514T133036Z
LAST-MODIFIED:20241219T171135Z
UID:10000241-1835539200-1835544600@hospizverein-bramsche.de
SUMMARY:Hospizcafe
DESCRIPTION:
URL:https://hospizverein-bramsche.de/event/hospizcafe/2028-03-01/
LOCATION:Hopizbüro\, Münsterstrasse 16\, Bramsche\, Niedersachsen\, 49565\, Deutschland
END:VEVENT
BEGIN:VEVENT
DTSTART;TZID=Europe/Berlin:20280405T160000
DTEND;TZID=Europe/Berlin:20280405T173000
DTSTAMP:20260420T055200
CREATED:20240514T133036Z
LAST-MODIFIED:20241219T171135Z
UID:10000242-1838563200-1838568600@hospizverein-bramsche.de
SUMMARY:Hospizcafe
DESCRIPTION:
URL:https://hospizverein-bramsche.de/event/hospizcafe/2028-04-05/
LOCATION:Hopizbüro\, Münsterstrasse 16\, Bramsche\, Niedersachsen\, 49565\, Deutschland
END:VEVENT
BEGIN:VEVENT
DTSTART;TZID=Europe/Berlin:20280503T160000
DTEND;TZID=Europe/Berlin:20280503T173000
DTSTAMP:20260420T055200
CREATED:20240514T133036Z
LAST-MODIFIED:20241219T171135Z
UID:10000243-1840982400-1840987800@hospizverein-bramsche.de
SUMMARY:Hospizcafe
DESCRIPTION:
URL:https://hospizverein-bramsche.de/event/hospizcafe/2028-05-03/
LOCATION:Hopizbüro\, Münsterstrasse 16\, Bramsche\, Niedersachsen\, 49565\, Deutschland
END:VEVENT
BEGIN:VEVENT
DTSTART;TZID=Europe/Berlin:20280607T160000
DTEND;TZID=Europe/Berlin:20280607T173000
DTSTAMP:20260420T055200
CREATED:20240514T133036Z
LAST-MODIFIED:20241219T171135Z
UID:10000244-1844006400-1844011800@hospizverein-bramsche.de
SUMMARY:Hospizcafe
DESCRIPTION:
URL:https://hospizverein-bramsche.de/event/hospizcafe/2028-06-07/
LOCATION:Hopizbüro\, Münsterstrasse 16\, Bramsche\, Niedersachsen\, 49565\, Deutschland
END:VEVENT
BEGIN:VEVENT
DTSTART;TZID=Europe/Berlin:20280705T160000
DTEND;TZID=Europe/Berlin:20280705T173000
DTSTAMP:20260420T055200
CREATED:20240514T133036Z
LAST-MODIFIED:20241219T171135Z
UID:10000245-1846425600-1846431000@hospizverein-bramsche.de
SUMMARY:Hospizcafe
DESCRIPTION:
URL:https://hospizverein-bramsche.de/event/hospizcafe/2028-07-05/
LOCATION:Hopizbüro\, Münsterstrasse 16\, Bramsche\, Niedersachsen\, 49565\, Deutschland
END:VEVENT
BEGIN:VEVENT
DTSTART;TZID=Europe/Berlin:20280802T160000
DTEND;TZID=Europe/Berlin:20280802T173000
DTSTAMP:20260420T055200
CREATED:20240514T133036Z
LAST-MODIFIED:20241219T171135Z
UID:10000246-1848844800-1848850200@hospizverein-bramsche.de
SUMMARY:Hospizcafe
DESCRIPTION:
URL:https://hospizverein-bramsche.de/event/hospizcafe/2028-08-02/
LOCATION:Hopizbüro\, Münsterstrasse 16\, Bramsche\, Niedersachsen\, 49565\, Deutschland
END:VEVENT
BEGIN:VEVENT
DTSTART;TZID=Europe/Berlin:20280906T160000
DTEND;TZID=Europe/Berlin:20280906T173000
DTSTAMP:20260420T055200
CREATED:20240514T133036Z
LAST-MODIFIED:20241219T171135Z
UID:10000247-1851868800-1851874200@hospizverein-bramsche.de
SUMMARY:Hospizcafe
DESCRIPTION:
URL:https://hospizverein-bramsche.de/event/hospizcafe/2028-09-06/
LOCATION:Hopizbüro\, Münsterstrasse 16\, Bramsche\, Niedersachsen\, 49565\, Deutschland
END:VEVENT
BEGIN:VEVENT
DTSTART;TZID=Europe/Berlin:20281004T160000
DTEND;TZID=Europe/Berlin:20281004T173000
DTSTAMP:20260420T055200
CREATED:20240514T133036Z
LAST-MODIFIED:20241219T171135Z
UID:10000248-1854288000-1854293400@hospizverein-bramsche.de
SUMMARY:Hospizcafe
DESCRIPTION:
URL:https://hospizverein-bramsche.de/event/hospizcafe/2028-10-04/
LOCATION:Hopizbüro\, Münsterstrasse 16\, Bramsche\, Niedersachsen\, 49565\, Deutschland
END:VEVENT
END:VCALENDAR