BEGIN:VCALENDAR
VERSION:2.0
PRODID:-//Hospizverein Bramsche - ECPv6.15.16//NONSGML v1.0//EN
CALSCALE:GREGORIAN
METHOD:PUBLISH
X-ORIGINAL-URL:https://hospizverein-bramsche.de
X-WR-CALDESC:Veranstaltungen für Hospizverein Bramsche
REFRESH-INTERVAL;VALUE=DURATION:PT1H
X-Robots-Tag:noindex
X-PUBLISHED-TTL:PT1H
BEGIN:VTIMEZONE
TZID:Europe/Berlin
BEGIN:DAYLIGHT
TZOFFSETFROM:+0100
TZOFFSETTO:+0200
TZNAME:CEST
DTSTART:20250330T010000
END:DAYLIGHT
BEGIN:STANDARD
TZOFFSETFROM:+0200
TZOFFSETTO:+0100
TZNAME:CET
DTSTART:20251026T010000
END:STANDARD
BEGIN:DAYLIGHT
TZOFFSETFROM:+0100
TZOFFSETTO:+0200
TZNAME:CEST
DTSTART:20260329T010000
END:DAYLIGHT
BEGIN:STANDARD
TZOFFSETFROM:+0200
TZOFFSETTO:+0100
TZNAME:CET
DTSTART:20261025T010000
END:STANDARD
BEGIN:DAYLIGHT
TZOFFSETFROM:+0100
TZOFFSETTO:+0200
TZNAME:CEST
DTSTART:20270328T010000
END:DAYLIGHT
BEGIN:STANDARD
TZOFFSETFROM:+0200
TZOFFSETTO:+0100
TZNAME:CET
DTSTART:20271031T010000
END:STANDARD
END:VTIMEZONE
BEGIN:VEVENT
DTSTART;TZID=Europe/Berlin:20261030T100000
DTEND;TZID=Europe/Berlin:20261030T120000
DTSTAMP:20260422T130648
CREATED:20241218T143911Z
LAST-MODIFIED:20241219T171401Z
UID:10000935-1793354400-1793361600@hospizverein-bramsche.de
SUMMARY:Bürozeiten
DESCRIPTION:
URL:https://hospizverein-bramsche.de/event/buerozeiten-2/2026-10-30/
LOCATION:Hopizbüro\, Münsterstrasse 16\, Bramsche\, Niedersachsen\, 49565\, Deutschland
END:VEVENT
BEGIN:VEVENT
DTSTART;TZID=Europe/Berlin:20261030T140000
DTEND;TZID=Europe/Berlin:20261030T170000
DTSTAMP:20260422T130648
CREATED:20260202T165353Z
LAST-MODIFIED:20260202T165353Z
UID:10001518-1793368800-1793379600@hospizverein-bramsche.de
SUMMARY:Besuch/Führung Krematorium Osnabrück
DESCRIPTION:
URL:https://hospizverein-bramsche.de/event/besuch-fuehrung-krematorium-osnabrueck/
LOCATION:Krematorium Osnabrück\, Rheiner Landstraße 168\, Osnabrück\, 49078
END:VEVENT
END:VCALENDAR