BEGIN:VCALENDAR
VERSION:2.0
PRODID:-//Hospizverein Bramsche - ECPv6.15.16//NONSGML v1.0//EN
CALSCALE:GREGORIAN
METHOD:PUBLISH
X-WR-CALNAME:Hospizverein Bramsche
X-ORIGINAL-URL:https://hospizverein-bramsche.de
X-WR-CALDESC:Veranstaltungen für Hospizverein Bramsche
REFRESH-INTERVAL;VALUE=DURATION:PT1H
X-Robots-Tag:noindex
X-PUBLISHED-TTL:PT1H
BEGIN:VTIMEZONE
TZID:Europe/Berlin
BEGIN:DAYLIGHT
TZOFFSETFROM:+0100
TZOFFSETTO:+0200
TZNAME:CEST
DTSTART:20260329T010000
END:DAYLIGHT
BEGIN:STANDARD
TZOFFSETFROM:+0200
TZOFFSETTO:+0100
TZNAME:CET
DTSTART:20261025T010000
END:STANDARD
BEGIN:DAYLIGHT
TZOFFSETFROM:+0100
TZOFFSETTO:+0200
TZNAME:CEST
DTSTART:20270328T010000
END:DAYLIGHT
BEGIN:STANDARD
TZOFFSETFROM:+0200
TZOFFSETTO:+0100
TZNAME:CET
DTSTART:20271031T010000
END:STANDARD
BEGIN:DAYLIGHT
TZOFFSETFROM:+0100
TZOFFSETTO:+0200
TZNAME:CEST
DTSTART:20280326T010000
END:DAYLIGHT
BEGIN:STANDARD
TZOFFSETFROM:+0200
TZOFFSETTO:+0100
TZNAME:CET
DTSTART:20281029T010000
END:STANDARD
END:VTIMEZONE
BEGIN:VEVENT
DTSTART;TZID=Europe/Berlin:20270301T150000
DTEND;TZID=Europe/Berlin:20270301T170000
DTSTAMP:20260423T032546
CREATED:20241218T141550Z
LAST-MODIFIED:20241218T143113Z
UID:10000088-1803913200-1803920400@hospizverein-bramsche.de
SUMMARY:Gesprächskreis für Trauernde
DESCRIPTION:
URL:https://hospizverein-bramsche.de/event/gespraechskreis-fuer-trauernde-6-copy/2027-03-01/
LOCATION:Hopizbüro\, Münsterstrasse 16\, Bramsche\, Niedersachsen\, 49565\, Deutschland
END:VEVENT
BEGIN:VEVENT
DTSTART;TZID=Europe/Berlin:20270303T150000
DTEND;TZID=Europe/Berlin:20270303T170000
DTSTAMP:20260423T032546
CREATED:20241218T143731Z
LAST-MODIFIED:20241219T171346Z
UID:10000664-1804086000-1804093200@hospizverein-bramsche.de
SUMMARY:Bürozeiten
DESCRIPTION:
URL:https://hospizverein-bramsche.de/event/buerozeiten/2027-03-03/
LOCATION:Hopizbüro\, Münsterstrasse 16\, Bramsche\, Niedersachsen\, 49565\, Deutschland
END:VEVENT
BEGIN:VEVENT
DTSTART;TZID=Europe/Berlin:20270303T160000
DTEND;TZID=Europe/Berlin:20270303T173000
DTSTAMP:20260423T032546
CREATED:20240514T133036Z
LAST-MODIFIED:20241219T171135Z
UID:10000229-1804089600-1804095000@hospizverein-bramsche.de
SUMMARY:Hospizcafe
DESCRIPTION:
URL:https://hospizverein-bramsche.de/event/hospizcafe/2027-03-03/
LOCATION:Hopizbüro\, Münsterstrasse 16\, Bramsche\, Niedersachsen\, 49565\, Deutschland
END:VEVENT
BEGIN:VEVENT
DTSTART;TZID=Europe/Berlin:20270305T100000
DTEND;TZID=Europe/Berlin:20270305T120000
DTSTAMP:20260423T032546
CREATED:20241218T143911Z
LAST-MODIFIED:20241219T171401Z
UID:10000953-1804240800-1804248000@hospizverein-bramsche.de
SUMMARY:Bürozeiten
DESCRIPTION:
URL:https://hospizverein-bramsche.de/event/buerozeiten-2/2027-03-05/
LOCATION:Hopizbüro\, Münsterstrasse 16\, Bramsche\, Niedersachsen\, 49565\, Deutschland
END:VEVENT
BEGIN:VEVENT
DTSTART;TZID=Europe/Berlin:20270310T150000
DTEND;TZID=Europe/Berlin:20270310T170000
DTSTAMP:20260423T032546
CREATED:20241218T143731Z
LAST-MODIFIED:20241219T171346Z
UID:10000665-1804690800-1804698000@hospizverein-bramsche.de
SUMMARY:Bürozeiten
DESCRIPTION:
URL:https://hospizverein-bramsche.de/event/buerozeiten/2027-03-10/
LOCATION:Hopizbüro\, Münsterstrasse 16\, Bramsche\, Niedersachsen\, 49565\, Deutschland
END:VEVENT
BEGIN:VEVENT
DTSTART;TZID=Europe/Berlin:20270310T180000
DTEND;TZID=Europe/Berlin:20270310T203000
DTSTAMP:20260423T032546
CREATED:20240606T164438Z
LAST-MODIFIED:20241218T143553Z
UID:10000491-1804701600-1804710600@hospizverein-bramsche.de
SUMMARY:Begleitertreffen
DESCRIPTION:
URL:https://hospizverein-bramsche.de/event/begleitertreffen/2027-03-10/
LOCATION:Hopizbüro\, Münsterstrasse 16\, Bramsche\, Niedersachsen\, 49565\, Deutschland
END:VEVENT
BEGIN:VEVENT
DTSTART;TZID=Europe/Berlin:20270312T100000
DTEND;TZID=Europe/Berlin:20270312T120000
DTSTAMP:20260423T032546
CREATED:20241218T143911Z
LAST-MODIFIED:20241219T171401Z
UID:10000954-1804845600-1804852800@hospizverein-bramsche.de
SUMMARY:Bürozeiten
DESCRIPTION:
URL:https://hospizverein-bramsche.de/event/buerozeiten-2/2027-03-12/
LOCATION:Hopizbüro\, Münsterstrasse 16\, Bramsche\, Niedersachsen\, 49565\, Deutschland
END:VEVENT
BEGIN:VEVENT
DTSTART;TZID=Europe/Berlin:20270314T143000
DTEND;TZID=Europe/Berlin:20270314T163000
DTSTAMP:20260423T032546
CREATED:20240514T164846Z
LAST-MODIFIED:20241218T143322Z
UID:10000295-1805034600-1805041800@hospizverein-bramsche.de
SUMMARY:Trostbank Friedhof Lindenstraße
DESCRIPTION:
URL:https://hospizverein-bramsche.de/event/trostbank-friedhof-lindenstrasse/2027-03-14/
LOCATION:Friedhof Lindenstraße
END:VEVENT
BEGIN:VEVENT
DTSTART;TZID=Europe/Berlin:20270317T150000
DTEND;TZID=Europe/Berlin:20270317T170000
DTSTAMP:20260423T032546
CREATED:20241218T143731Z
LAST-MODIFIED:20241219T171346Z
UID:10000666-1805295600-1805302800@hospizverein-bramsche.de
SUMMARY:Bürozeiten
DESCRIPTION:
URL:https://hospizverein-bramsche.de/event/buerozeiten/2027-03-17/
LOCATION:Hopizbüro\, Münsterstrasse 16\, Bramsche\, Niedersachsen\, 49565\, Deutschland
END:VEVENT
BEGIN:VEVENT
DTSTART;TZID=Europe/Berlin:20270318T143000
DTEND;TZID=Europe/Berlin:20270318T163000
DTSTAMP:20260423T032546
CREATED:20240514T162809Z
LAST-MODIFIED:20260106T111718Z
UID:10001465-1805380200-1805387400@hospizverein-bramsche.de
SUMMARY:Trostbank Friedhof Malgarten
DESCRIPTION:
URL:https://hospizverein-bramsche.de/event/trostbank-friedhof-malgarten/2027-03-18/
LOCATION:Friedhof Malgarten
END:VEVENT
BEGIN:VEVENT
DTSTART;TZID=Europe/Berlin:20270318T143000
DTEND;TZID=Europe/Berlin:20270318T163000
DTSTAMP:20260423T032546
CREATED:20250812T114952Z
LAST-MODIFIED:20250812T115036Z
UID:10001200-1805380200-1805387400@hospizverein-bramsche.de
SUMMARY:Trostbank Osnabrücker Straße
DESCRIPTION:
URL:https://hospizverein-bramsche.de/event/trostbank-osnabruecker-strasse-2/2027-03-18/
LOCATION:Friedhof Osnabrücker Straße
END:VEVENT
BEGIN:VEVENT
DTSTART;TZID=Europe/Berlin:20270319T100000
DTEND;TZID=Europe/Berlin:20270319T120000
DTSTAMP:20260423T032546
CREATED:20241218T143911Z
LAST-MODIFIED:20241219T171401Z
UID:10000955-1805450400-1805457600@hospizverein-bramsche.de
SUMMARY:Bürozeiten
DESCRIPTION:
URL:https://hospizverein-bramsche.de/event/buerozeiten-2/2027-03-19/
LOCATION:Hopizbüro\, Münsterstrasse 16\, Bramsche\, Niedersachsen\, 49565\, Deutschland
END:VEVENT
BEGIN:VEVENT
DTSTART;TZID=Europe/Berlin:20270324T150000
DTEND;TZID=Europe/Berlin:20270324T170000
DTSTAMP:20260423T032546
CREATED:20241218T143731Z
LAST-MODIFIED:20241219T171346Z
UID:10000667-1805900400-1805907600@hospizverein-bramsche.de
SUMMARY:Bürozeiten
DESCRIPTION:
URL:https://hospizverein-bramsche.de/event/buerozeiten/2027-03-24/
LOCATION:Hopizbüro\, Münsterstrasse 16\, Bramsche\, Niedersachsen\, 49565\, Deutschland
END:VEVENT
BEGIN:VEVENT
DTSTART;TZID=Europe/Berlin:20270326T100000
DTEND;TZID=Europe/Berlin:20270326T120000
DTSTAMP:20260423T032546
CREATED:20241218T143911Z
LAST-MODIFIED:20241219T171401Z
UID:10000956-1806055200-1806062400@hospizverein-bramsche.de
SUMMARY:Bürozeiten
DESCRIPTION:
URL:https://hospizverein-bramsche.de/event/buerozeiten-2/2027-03-26/
LOCATION:Hopizbüro\, Münsterstrasse 16\, Bramsche\, Niedersachsen\, 49565\, Deutschland
END:VEVENT
BEGIN:VEVENT
DTSTART;TZID=Europe/Berlin:20270326T143000
DTEND;TZID=Europe/Berlin:20270326T163000
DTSTAMP:20260423T032546
CREATED:20250915T122852Z
LAST-MODIFIED:20260106T111609Z
UID:10001386-1806071400-1806078600@hospizverein-bramsche.de
SUMMARY:Trostbank Friedwald Bramsche
DESCRIPTION:
URL:https://hospizverein-bramsche.de/event/trostbank-friedwald-bramsche-2/2027-03-26/
LOCATION:Friedwald Bramsche
END:VEVENT
BEGIN:VEVENT
DTSTART;TZID=Europe/Berlin:20270331T150000
DTEND;TZID=Europe/Berlin:20270331T170000
DTSTAMP:20260423T032546
CREATED:20241218T143731Z
LAST-MODIFIED:20241219T171346Z
UID:10000668-1806505200-1806512400@hospizverein-bramsche.de
SUMMARY:Bürozeiten
DESCRIPTION:
URL:https://hospizverein-bramsche.de/event/buerozeiten/2027-03-31/
LOCATION:Hopizbüro\, Münsterstrasse 16\, Bramsche\, Niedersachsen\, 49565\, Deutschland
END:VEVENT
BEGIN:VEVENT
DTSTART;TZID=Europe/Berlin:20270402T100000
DTEND;TZID=Europe/Berlin:20270402T120000
DTSTAMP:20260423T032546
CREATED:20241218T143911Z
LAST-MODIFIED:20241219T171401Z
UID:10000957-1806660000-1806667200@hospizverein-bramsche.de
SUMMARY:Bürozeiten
DESCRIPTION:
URL:https://hospizverein-bramsche.de/event/buerozeiten-2/2027-04-02/
LOCATION:Hopizbüro\, Münsterstrasse 16\, Bramsche\, Niedersachsen\, 49565\, Deutschland
END:VEVENT
BEGIN:VEVENT
DTSTART;TZID=Europe/Berlin:20270405T150000
DTEND;TZID=Europe/Berlin:20270405T170000
DTSTAMP:20260423T032546
CREATED:20241218T141550Z
LAST-MODIFIED:20241218T143113Z
UID:10000089-1806937200-1806944400@hospizverein-bramsche.de
SUMMARY:Gesprächskreis für Trauernde
DESCRIPTION:
URL:https://hospizverein-bramsche.de/event/gespraechskreis-fuer-trauernde-6-copy/2027-04-05/
LOCATION:Hopizbüro\, Münsterstrasse 16\, Bramsche\, Niedersachsen\, 49565\, Deutschland
END:VEVENT
BEGIN:VEVENT
DTSTART;TZID=Europe/Berlin:20270407T150000
DTEND;TZID=Europe/Berlin:20270407T170000
DTSTAMP:20260423T032546
CREATED:20241218T143731Z
LAST-MODIFIED:20241219T171346Z
UID:10000669-1807110000-1807117200@hospizverein-bramsche.de
SUMMARY:Bürozeiten
DESCRIPTION:
URL:https://hospizverein-bramsche.de/event/buerozeiten/2027-04-07/
LOCATION:Hopizbüro\, Münsterstrasse 16\, Bramsche\, Niedersachsen\, 49565\, Deutschland
END:VEVENT
BEGIN:VEVENT
DTSTART;TZID=Europe/Berlin:20270407T160000
DTEND;TZID=Europe/Berlin:20270407T173000
DTSTAMP:20260423T032546
CREATED:20240514T133036Z
LAST-MODIFIED:20241219T171135Z
UID:10000230-1807113600-1807119000@hospizverein-bramsche.de
SUMMARY:Hospizcafe
DESCRIPTION:
URL:https://hospizverein-bramsche.de/event/hospizcafe/2027-04-07/
LOCATION:Hopizbüro\, Münsterstrasse 16\, Bramsche\, Niedersachsen\, 49565\, Deutschland
END:VEVENT
BEGIN:VEVENT
DTSTART;TZID=Europe/Berlin:20270409T100000
DTEND;TZID=Europe/Berlin:20270409T120000
DTSTAMP:20260423T032546
CREATED:20241218T143911Z
LAST-MODIFIED:20241219T171401Z
UID:10000958-1807264800-1807272000@hospizverein-bramsche.de
SUMMARY:Bürozeiten
DESCRIPTION:
URL:https://hospizverein-bramsche.de/event/buerozeiten-2/2027-04-09/
LOCATION:Hopizbüro\, Münsterstrasse 16\, Bramsche\, Niedersachsen\, 49565\, Deutschland
END:VEVENT
BEGIN:VEVENT
DTSTART;TZID=Europe/Berlin:20270411T143000
DTEND;TZID=Europe/Berlin:20270411T163000
DTSTAMP:20260423T032546
CREATED:20240514T164846Z
LAST-MODIFIED:20241218T143322Z
UID:10000296-1807453800-1807461000@hospizverein-bramsche.de
SUMMARY:Trostbank Friedhof Lindenstraße
DESCRIPTION:
URL:https://hospizverein-bramsche.de/event/trostbank-friedhof-lindenstrasse/2027-04-11/
LOCATION:Friedhof Lindenstraße
END:VEVENT
BEGIN:VEVENT
DTSTART;TZID=Europe/Berlin:20270414T150000
DTEND;TZID=Europe/Berlin:20270414T170000
DTSTAMP:20260423T032546
CREATED:20241218T143731Z
LAST-MODIFIED:20241219T171346Z
UID:10000670-1807714800-1807722000@hospizverein-bramsche.de
SUMMARY:Bürozeiten
DESCRIPTION:
URL:https://hospizverein-bramsche.de/event/buerozeiten/2027-04-14/
LOCATION:Hopizbüro\, Münsterstrasse 16\, Bramsche\, Niedersachsen\, 49565\, Deutschland
END:VEVENT
BEGIN:VEVENT
DTSTART;TZID=Europe/Berlin:20270414T180000
DTEND;TZID=Europe/Berlin:20270414T203000
DTSTAMP:20260423T032546
CREATED:20240606T164438Z
LAST-MODIFIED:20241218T143553Z
UID:10000492-1807725600-1807734600@hospizverein-bramsche.de
SUMMARY:Begleitertreffen
DESCRIPTION:
URL:https://hospizverein-bramsche.de/event/begleitertreffen/2027-04-14/
LOCATION:Hopizbüro\, Münsterstrasse 16\, Bramsche\, Niedersachsen\, 49565\, Deutschland
END:VEVENT
BEGIN:VEVENT
DTSTART;TZID=Europe/Berlin:20270415T143000
DTEND;TZID=Europe/Berlin:20270415T163000
DTSTAMP:20260423T032546
CREATED:20240514T162809Z
LAST-MODIFIED:20260106T111718Z
UID:10001466-1807799400-1807806600@hospizverein-bramsche.de
SUMMARY:Trostbank Friedhof Malgarten
DESCRIPTION:
URL:https://hospizverein-bramsche.de/event/trostbank-friedhof-malgarten/2027-04-15/
LOCATION:Friedhof Malgarten
END:VEVENT
BEGIN:VEVENT
DTSTART;TZID=Europe/Berlin:20270415T143000
DTEND;TZID=Europe/Berlin:20270415T163000
DTSTAMP:20260423T032546
CREATED:20250812T114952Z
LAST-MODIFIED:20250812T115036Z
UID:10001201-1807799400-1807806600@hospizverein-bramsche.de
SUMMARY:Trostbank Osnabrücker Straße
DESCRIPTION:
URL:https://hospizverein-bramsche.de/event/trostbank-osnabruecker-strasse-2/2027-04-15/
LOCATION:Friedhof Osnabrücker Straße
END:VEVENT
BEGIN:VEVENT
DTSTART;TZID=Europe/Berlin:20270416T100000
DTEND;TZID=Europe/Berlin:20270416T120000
DTSTAMP:20260423T032546
CREATED:20241218T143911Z
LAST-MODIFIED:20241219T171401Z
UID:10000959-1807869600-1807876800@hospizverein-bramsche.de
SUMMARY:Bürozeiten
DESCRIPTION:
URL:https://hospizverein-bramsche.de/event/buerozeiten-2/2027-04-16/
LOCATION:Hopizbüro\, Münsterstrasse 16\, Bramsche\, Niedersachsen\, 49565\, Deutschland
END:VEVENT
BEGIN:VEVENT
DTSTART;TZID=Europe/Berlin:20270421T150000
DTEND;TZID=Europe/Berlin:20270421T170000
DTSTAMP:20260423T032546
CREATED:20241218T143731Z
LAST-MODIFIED:20241219T171346Z
UID:10000671-1808319600-1808326800@hospizverein-bramsche.de
SUMMARY:Bürozeiten
DESCRIPTION:
URL:https://hospizverein-bramsche.de/event/buerozeiten/2027-04-21/
LOCATION:Hopizbüro\, Münsterstrasse 16\, Bramsche\, Niedersachsen\, 49565\, Deutschland
END:VEVENT
BEGIN:VEVENT
DTSTART;TZID=Europe/Berlin:20270423T100000
DTEND;TZID=Europe/Berlin:20270423T120000
DTSTAMP:20260423T032546
CREATED:20241218T143911Z
LAST-MODIFIED:20241219T171401Z
UID:10000960-1808474400-1808481600@hospizverein-bramsche.de
SUMMARY:Bürozeiten
DESCRIPTION:
URL:https://hospizverein-bramsche.de/event/buerozeiten-2/2027-04-23/
LOCATION:Hopizbüro\, Münsterstrasse 16\, Bramsche\, Niedersachsen\, 49565\, Deutschland
END:VEVENT
BEGIN:VEVENT
DTSTART;TZID=Europe/Berlin:20270423T143000
DTEND;TZID=Europe/Berlin:20270423T163000
DTSTAMP:20260423T032546
CREATED:20250915T122852Z
LAST-MODIFIED:20260106T111609Z
UID:10001387-1808490600-1808497800@hospizverein-bramsche.de
SUMMARY:Trostbank Friedwald Bramsche
DESCRIPTION:
URL:https://hospizverein-bramsche.de/event/trostbank-friedwald-bramsche-2/2027-04-23/
LOCATION:Friedwald Bramsche
END:VEVENT
END:VCALENDAR