BEGIN:VCALENDAR
VERSION:2.0
PRODID:-//Hospizverein Bramsche - ECPv6.15.16//NONSGML v1.0//EN
CALSCALE:GREGORIAN
METHOD:PUBLISH
X-WR-CALNAME:Hospizverein Bramsche
X-ORIGINAL-URL:https://hospizverein-bramsche.de
X-WR-CALDESC:Veranstaltungen für Hospizverein Bramsche
REFRESH-INTERVAL;VALUE=DURATION:PT1H
X-Robots-Tag:noindex
X-PUBLISHED-TTL:PT1H
BEGIN:VTIMEZONE
TZID:Europe/Berlin
BEGIN:DAYLIGHT
TZOFFSETFROM:+0100
TZOFFSETTO:+0200
TZNAME:CEST
DTSTART:20260329T010000
END:DAYLIGHT
BEGIN:STANDARD
TZOFFSETFROM:+0200
TZOFFSETTO:+0100
TZNAME:CET
DTSTART:20261025T010000
END:STANDARD
BEGIN:DAYLIGHT
TZOFFSETFROM:+0100
TZOFFSETTO:+0200
TZNAME:CEST
DTSTART:20270328T010000
END:DAYLIGHT
BEGIN:STANDARD
TZOFFSETFROM:+0200
TZOFFSETTO:+0100
TZNAME:CET
DTSTART:20271031T010000
END:STANDARD
BEGIN:DAYLIGHT
TZOFFSETFROM:+0100
TZOFFSETTO:+0200
TZNAME:CEST
DTSTART:20280326T010000
END:DAYLIGHT
BEGIN:STANDARD
TZOFFSETFROM:+0200
TZOFFSETTO:+0100
TZNAME:CET
DTSTART:20281029T010000
END:STANDARD
END:VTIMEZONE
BEGIN:VEVENT
DTSTART;TZID=Europe/Berlin:20270924T143000
DTEND;TZID=Europe/Berlin:20270924T163000
DTSTAMP:20260423T164001
CREATED:20250915T122852Z
LAST-MODIFIED:20260106T111609Z
UID:10001392-1821796200-1821803400@hospizverein-bramsche.de
SUMMARY:Trostbank Friedwald Bramsche
DESCRIPTION:
URL:https://hospizverein-bramsche.de/event/trostbank-friedwald-bramsche-2/2027-09-24/
LOCATION:Friedwald Bramsche
END:VEVENT
BEGIN:VEVENT
DTSTART;TZID=Europe/Berlin:20270929T150000
DTEND;TZID=Europe/Berlin:20270929T170000
DTSTAMP:20260423T164001
CREATED:20241218T143731Z
LAST-MODIFIED:20241219T171346Z
UID:10000694-1822230000-1822237200@hospizverein-bramsche.de
SUMMARY:Bürozeiten
DESCRIPTION:
URL:https://hospizverein-bramsche.de/event/buerozeiten/2027-09-29/
LOCATION:Hopizbüro\, Münsterstrasse 16\, Bramsche\, Niedersachsen\, 49565\, Deutschland
END:VEVENT
BEGIN:VEVENT
DTSTART;TZID=Europe/Berlin:20271001T100000
DTEND;TZID=Europe/Berlin:20271001T120000
DTSTAMP:20260423T164001
CREATED:20241218T143911Z
LAST-MODIFIED:20241219T171401Z
UID:10000983-1822384800-1822392000@hospizverein-bramsche.de
SUMMARY:Bürozeiten
DESCRIPTION:
URL:https://hospizverein-bramsche.de/event/buerozeiten-2/2027-10-01/
LOCATION:Hopizbüro\, Münsterstrasse 16\, Bramsche\, Niedersachsen\, 49565\, Deutschland
END:VEVENT
BEGIN:VEVENT
DTSTART;TZID=Europe/Berlin:20271004T150000
DTEND;TZID=Europe/Berlin:20271004T170000
DTSTAMP:20260423T164001
CREATED:20241218T141550Z
LAST-MODIFIED:20241218T143113Z
UID:10000095-1822662000-1822669200@hospizverein-bramsche.de
SUMMARY:Gesprächskreis für Trauernde
DESCRIPTION:
URL:https://hospizverein-bramsche.de/event/gespraechskreis-fuer-trauernde-6-copy/2027-10-04/
LOCATION:Hopizbüro\, Münsterstrasse 16\, Bramsche\, Niedersachsen\, 49565\, Deutschland
END:VEVENT
BEGIN:VEVENT
DTSTART;TZID=Europe/Berlin:20271006T150000
DTEND;TZID=Europe/Berlin:20271006T170000
DTSTAMP:20260423T164001
CREATED:20241218T143731Z
LAST-MODIFIED:20241219T171346Z
UID:10000695-1822834800-1822842000@hospizverein-bramsche.de
SUMMARY:Bürozeiten
DESCRIPTION:
URL:https://hospizverein-bramsche.de/event/buerozeiten/2027-10-06/
LOCATION:Hopizbüro\, Münsterstrasse 16\, Bramsche\, Niedersachsen\, 49565\, Deutschland
END:VEVENT
BEGIN:VEVENT
DTSTART;TZID=Europe/Berlin:20271006T160000
DTEND;TZID=Europe/Berlin:20271006T173000
DTSTAMP:20260423T164001
CREATED:20240514T133036Z
LAST-MODIFIED:20241219T171135Z
UID:10000236-1822838400-1822843800@hospizverein-bramsche.de
SUMMARY:Hospizcafe
DESCRIPTION:
URL:https://hospizverein-bramsche.de/event/hospizcafe/2027-10-06/
LOCATION:Hopizbüro\, Münsterstrasse 16\, Bramsche\, Niedersachsen\, 49565\, Deutschland
END:VEVENT
BEGIN:VEVENT
DTSTART;TZID=Europe/Berlin:20271008T100000
DTEND;TZID=Europe/Berlin:20271008T120000
DTSTAMP:20260423T164001
CREATED:20241218T143911Z
LAST-MODIFIED:20241219T171401Z
UID:10000984-1822989600-1822996800@hospizverein-bramsche.de
SUMMARY:Bürozeiten
DESCRIPTION:
URL:https://hospizverein-bramsche.de/event/buerozeiten-2/2027-10-08/
LOCATION:Hopizbüro\, Münsterstrasse 16\, Bramsche\, Niedersachsen\, 49565\, Deutschland
END:VEVENT
BEGIN:VEVENT
DTSTART;TZID=Europe/Berlin:20271010T143000
DTEND;TZID=Europe/Berlin:20271010T163000
DTSTAMP:20260423T164001
CREATED:20240514T164846Z
LAST-MODIFIED:20241218T143322Z
UID:10000302-1823178600-1823185800@hospizverein-bramsche.de
SUMMARY:Trostbank Friedhof Lindenstraße
DESCRIPTION:
URL:https://hospizverein-bramsche.de/event/trostbank-friedhof-lindenstrasse/2027-10-10/
LOCATION:Friedhof Lindenstraße
END:VEVENT
BEGIN:VEVENT
DTSTART;TZID=Europe/Berlin:20271013T150000
DTEND;TZID=Europe/Berlin:20271013T170000
DTSTAMP:20260423T164001
CREATED:20241218T143731Z
LAST-MODIFIED:20241219T171346Z
UID:10000696-1823439600-1823446800@hospizverein-bramsche.de
SUMMARY:Bürozeiten
DESCRIPTION:
URL:https://hospizverein-bramsche.de/event/buerozeiten/2027-10-13/
LOCATION:Hopizbüro\, Münsterstrasse 16\, Bramsche\, Niedersachsen\, 49565\, Deutschland
END:VEVENT
BEGIN:VEVENT
DTSTART;TZID=Europe/Berlin:20271013T180000
DTEND;TZID=Europe/Berlin:20271013T203000
DTSTAMP:20260423T164001
CREATED:20240606T164438Z
LAST-MODIFIED:20241218T143553Z
UID:10000498-1823450400-1823459400@hospizverein-bramsche.de
SUMMARY:Begleitertreffen
DESCRIPTION:
URL:https://hospizverein-bramsche.de/event/begleitertreffen/2027-10-13/
LOCATION:Hopizbüro\, Münsterstrasse 16\, Bramsche\, Niedersachsen\, 49565\, Deutschland
END:VEVENT
BEGIN:VEVENT
DTSTART;TZID=Europe/Berlin:20271015T100000
DTEND;TZID=Europe/Berlin:20271015T120000
DTSTAMP:20260423T164001
CREATED:20241218T143911Z
LAST-MODIFIED:20241219T171401Z
UID:10000985-1823594400-1823601600@hospizverein-bramsche.de
SUMMARY:Bürozeiten
DESCRIPTION:
URL:https://hospizverein-bramsche.de/event/buerozeiten-2/2027-10-15/
LOCATION:Hopizbüro\, Münsterstrasse 16\, Bramsche\, Niedersachsen\, 49565\, Deutschland
END:VEVENT
BEGIN:VEVENT
DTSTART;TZID=Europe/Berlin:20271020T150000
DTEND;TZID=Europe/Berlin:20271020T170000
DTSTAMP:20260423T164001
CREATED:20241218T143731Z
LAST-MODIFIED:20241219T171346Z
UID:10000697-1824044400-1824051600@hospizverein-bramsche.de
SUMMARY:Bürozeiten
DESCRIPTION:
URL:https://hospizverein-bramsche.de/event/buerozeiten/2027-10-20/
LOCATION:Hopizbüro\, Münsterstrasse 16\, Bramsche\, Niedersachsen\, 49565\, Deutschland
END:VEVENT
BEGIN:VEVENT
DTSTART;TZID=Europe/Berlin:20271021T143000
DTEND;TZID=Europe/Berlin:20271021T163000
DTSTAMP:20260423T164001
CREATED:20240514T162809Z
LAST-MODIFIED:20260106T111718Z
UID:10001472-1824129000-1824136200@hospizverein-bramsche.de
SUMMARY:Trostbank Friedhof Malgarten
DESCRIPTION:
URL:https://hospizverein-bramsche.de/event/trostbank-friedhof-malgarten/2027-10-21/
LOCATION:Friedhof Malgarten
END:VEVENT
BEGIN:VEVENT
DTSTART;TZID=Europe/Berlin:20271021T143000
DTEND;TZID=Europe/Berlin:20271021T163000
DTSTAMP:20260423T164001
CREATED:20250812T114952Z
LAST-MODIFIED:20250812T115036Z
UID:10001207-1824129000-1824136200@hospizverein-bramsche.de
SUMMARY:Trostbank Osnabrücker Straße
DESCRIPTION:
URL:https://hospizverein-bramsche.de/event/trostbank-osnabruecker-strasse-2/2027-10-21/
LOCATION:Friedhof Osnabrücker Straße
END:VEVENT
BEGIN:VEVENT
DTSTART;TZID=Europe/Berlin:20271022T100000
DTEND;TZID=Europe/Berlin:20271022T120000
DTSTAMP:20260423T164001
CREATED:20241218T143911Z
LAST-MODIFIED:20241219T171401Z
UID:10000986-1824199200-1824206400@hospizverein-bramsche.de
SUMMARY:Bürozeiten
DESCRIPTION:
URL:https://hospizverein-bramsche.de/event/buerozeiten-2/2027-10-22/
LOCATION:Hopizbüro\, Münsterstrasse 16\, Bramsche\, Niedersachsen\, 49565\, Deutschland
END:VEVENT
BEGIN:VEVENT
DTSTART;TZID=Europe/Berlin:20271022T143000
DTEND;TZID=Europe/Berlin:20271022T163000
DTSTAMP:20260423T164001
CREATED:20250915T122852Z
LAST-MODIFIED:20260106T111609Z
UID:10001393-1824215400-1824222600@hospizverein-bramsche.de
SUMMARY:Trostbank Friedwald Bramsche
DESCRIPTION:
URL:https://hospizverein-bramsche.de/event/trostbank-friedwald-bramsche-2/2027-10-22/
LOCATION:Friedwald Bramsche
END:VEVENT
BEGIN:VEVENT
DTSTART;TZID=Europe/Berlin:20271027T150000
DTEND;TZID=Europe/Berlin:20271027T170000
DTSTAMP:20260423T164001
CREATED:20241218T143731Z
LAST-MODIFIED:20241219T171346Z
UID:10000698-1824649200-1824656400@hospizverein-bramsche.de
SUMMARY:Bürozeiten
DESCRIPTION:
URL:https://hospizverein-bramsche.de/event/buerozeiten/2027-10-27/
LOCATION:Hopizbüro\, Münsterstrasse 16\, Bramsche\, Niedersachsen\, 49565\, Deutschland
END:VEVENT
BEGIN:VEVENT
DTSTART;TZID=Europe/Berlin:20271029T100000
DTEND;TZID=Europe/Berlin:20271029T120000
DTSTAMP:20260423T164001
CREATED:20241218T143911Z
LAST-MODIFIED:20241219T171401Z
UID:10000987-1824804000-1824811200@hospizverein-bramsche.de
SUMMARY:Bürozeiten
DESCRIPTION:
URL:https://hospizverein-bramsche.de/event/buerozeiten-2/2027-10-29/
LOCATION:Hopizbüro\, Münsterstrasse 16\, Bramsche\, Niedersachsen\, 49565\, Deutschland
END:VEVENT
BEGIN:VEVENT
DTSTART;TZID=Europe/Berlin:20271101T150000
DTEND;TZID=Europe/Berlin:20271101T170000
DTSTAMP:20260423T164001
CREATED:20241218T141550Z
LAST-MODIFIED:20241218T143113Z
UID:10000096-1825081200-1825088400@hospizverein-bramsche.de
SUMMARY:Gesprächskreis für Trauernde
DESCRIPTION:
URL:https://hospizverein-bramsche.de/event/gespraechskreis-fuer-trauernde-6-copy/2027-11-01/
LOCATION:Hopizbüro\, Münsterstrasse 16\, Bramsche\, Niedersachsen\, 49565\, Deutschland
END:VEVENT
BEGIN:VEVENT
DTSTART;TZID=Europe/Berlin:20271103T150000
DTEND;TZID=Europe/Berlin:20271103T170000
DTSTAMP:20260423T164001
CREATED:20241218T143731Z
LAST-MODIFIED:20241219T171346Z
UID:10000699-1825254000-1825261200@hospizverein-bramsche.de
SUMMARY:Bürozeiten
DESCRIPTION:
URL:https://hospizverein-bramsche.de/event/buerozeiten/2027-11-03/
LOCATION:Hopizbüro\, Münsterstrasse 16\, Bramsche\, Niedersachsen\, 49565\, Deutschland
END:VEVENT
BEGIN:VEVENT
DTSTART;TZID=Europe/Berlin:20271103T160000
DTEND;TZID=Europe/Berlin:20271103T173000
DTSTAMP:20260423T164001
CREATED:20240514T133036Z
LAST-MODIFIED:20241219T171135Z
UID:10000237-1825257600-1825263000@hospizverein-bramsche.de
SUMMARY:Hospizcafe
DESCRIPTION:
URL:https://hospizverein-bramsche.de/event/hospizcafe/2027-11-03/
LOCATION:Hopizbüro\, Münsterstrasse 16\, Bramsche\, Niedersachsen\, 49565\, Deutschland
END:VEVENT
BEGIN:VEVENT
DTSTART;TZID=Europe/Berlin:20271105T100000
DTEND;TZID=Europe/Berlin:20271105T120000
DTSTAMP:20260423T164001
CREATED:20241218T143911Z
LAST-MODIFIED:20241219T171401Z
UID:10000988-1825408800-1825416000@hospizverein-bramsche.de
SUMMARY:Bürozeiten
DESCRIPTION:
URL:https://hospizverein-bramsche.de/event/buerozeiten-2/2027-11-05/
LOCATION:Hopizbüro\, Münsterstrasse 16\, Bramsche\, Niedersachsen\, 49565\, Deutschland
END:VEVENT
BEGIN:VEVENT
DTSTART;TZID=Europe/Berlin:20271110T150000
DTEND;TZID=Europe/Berlin:20271110T170000
DTSTAMP:20260423T164001
CREATED:20241218T143731Z
LAST-MODIFIED:20241219T171346Z
UID:10000700-1825858800-1825866000@hospizverein-bramsche.de
SUMMARY:Bürozeiten
DESCRIPTION:
URL:https://hospizverein-bramsche.de/event/buerozeiten/2027-11-10/
LOCATION:Hopizbüro\, Münsterstrasse 16\, Bramsche\, Niedersachsen\, 49565\, Deutschland
END:VEVENT
BEGIN:VEVENT
DTSTART;TZID=Europe/Berlin:20271110T180000
DTEND;TZID=Europe/Berlin:20271110T203000
DTSTAMP:20260423T164001
CREATED:20240606T164438Z
LAST-MODIFIED:20241218T143553Z
UID:10000499-1825869600-1825878600@hospizverein-bramsche.de
SUMMARY:Begleitertreffen
DESCRIPTION:
URL:https://hospizverein-bramsche.de/event/begleitertreffen/2027-11-10/
LOCATION:Hopizbüro\, Münsterstrasse 16\, Bramsche\, Niedersachsen\, 49565\, Deutschland
END:VEVENT
BEGIN:VEVENT
DTSTART;TZID=Europe/Berlin:20271112T100000
DTEND;TZID=Europe/Berlin:20271112T120000
DTSTAMP:20260423T164001
CREATED:20241218T143911Z
LAST-MODIFIED:20241219T171401Z
UID:10000989-1826013600-1826020800@hospizverein-bramsche.de
SUMMARY:Bürozeiten
DESCRIPTION:
URL:https://hospizverein-bramsche.de/event/buerozeiten-2/2027-11-12/
LOCATION:Hopizbüro\, Münsterstrasse 16\, Bramsche\, Niedersachsen\, 49565\, Deutschland
END:VEVENT
BEGIN:VEVENT
DTSTART;TZID=Europe/Berlin:20271114T143000
DTEND;TZID=Europe/Berlin:20271114T163000
DTSTAMP:20260423T164001
CREATED:20240514T164846Z
LAST-MODIFIED:20241218T143322Z
UID:10000303-1826202600-1826209800@hospizverein-bramsche.de
SUMMARY:Trostbank Friedhof Lindenstraße
DESCRIPTION:
URL:https://hospizverein-bramsche.de/event/trostbank-friedhof-lindenstrasse/2027-11-14/
LOCATION:Friedhof Lindenstraße
END:VEVENT
BEGIN:VEVENT
DTSTART;TZID=Europe/Berlin:20271117T150000
DTEND;TZID=Europe/Berlin:20271117T170000
DTSTAMP:20260423T164001
CREATED:20241218T143731Z
LAST-MODIFIED:20241219T171346Z
UID:10000701-1826463600-1826470800@hospizverein-bramsche.de
SUMMARY:Bürozeiten
DESCRIPTION:
URL:https://hospizverein-bramsche.de/event/buerozeiten/2027-11-17/
LOCATION:Hopizbüro\, Münsterstrasse 16\, Bramsche\, Niedersachsen\, 49565\, Deutschland
END:VEVENT
BEGIN:VEVENT
DTSTART;TZID=Europe/Berlin:20271118T143000
DTEND;TZID=Europe/Berlin:20271118T163000
DTSTAMP:20260423T164001
CREATED:20240514T162809Z
LAST-MODIFIED:20260106T111718Z
UID:10001473-1826548200-1826555400@hospizverein-bramsche.de
SUMMARY:Trostbank Friedhof Malgarten
DESCRIPTION:
URL:https://hospizverein-bramsche.de/event/trostbank-friedhof-malgarten/2027-11-18/
LOCATION:Friedhof Malgarten
END:VEVENT
BEGIN:VEVENT
DTSTART;TZID=Europe/Berlin:20271118T143000
DTEND;TZID=Europe/Berlin:20271118T163000
DTSTAMP:20260423T164001
CREATED:20250812T114952Z
LAST-MODIFIED:20250812T115036Z
UID:10001208-1826548200-1826555400@hospizverein-bramsche.de
SUMMARY:Trostbank Osnabrücker Straße
DESCRIPTION:
URL:https://hospizverein-bramsche.de/event/trostbank-osnabruecker-strasse-2/2027-11-18/
LOCATION:Friedhof Osnabrücker Straße
END:VEVENT
BEGIN:VEVENT
DTSTART;TZID=Europe/Berlin:20271119T100000
DTEND;TZID=Europe/Berlin:20271119T120000
DTSTAMP:20260423T164001
CREATED:20241218T143911Z
LAST-MODIFIED:20241219T171401Z
UID:10000990-1826618400-1826625600@hospizverein-bramsche.de
SUMMARY:Bürozeiten
DESCRIPTION:
URL:https://hospizverein-bramsche.de/event/buerozeiten-2/2027-11-19/
LOCATION:Hopizbüro\, Münsterstrasse 16\, Bramsche\, Niedersachsen\, 49565\, Deutschland
END:VEVENT
END:VCALENDAR