BEGIN:VCALENDAR
VERSION:2.0
PRODID:-//Hospizverein Bramsche - ECPv6.15.16//NONSGML v1.0//EN
CALSCALE:GREGORIAN
METHOD:PUBLISH
X-WR-CALNAME:Hospizverein Bramsche
X-ORIGINAL-URL:https://hospizverein-bramsche.de
X-WR-CALDESC:Veranstaltungen für Hospizverein Bramsche
REFRESH-INTERVAL;VALUE=DURATION:PT1H
X-Robots-Tag:noindex
X-PUBLISHED-TTL:PT1H
BEGIN:VTIMEZONE
TZID:Europe/Berlin
BEGIN:DAYLIGHT
TZOFFSETFROM:+0100
TZOFFSETTO:+0200
TZNAME:CEST
DTSTART:20270328T010000
END:DAYLIGHT
BEGIN:STANDARD
TZOFFSETFROM:+0200
TZOFFSETTO:+0100
TZNAME:CET
DTSTART:20271031T010000
END:STANDARD
BEGIN:DAYLIGHT
TZOFFSETFROM:+0100
TZOFFSETTO:+0200
TZNAME:CEST
DTSTART:20280326T010000
END:DAYLIGHT
BEGIN:STANDARD
TZOFFSETFROM:+0200
TZOFFSETTO:+0100
TZNAME:CET
DTSTART:20281029T010000
END:STANDARD
BEGIN:DAYLIGHT
TZOFFSETFROM:+0100
TZOFFSETTO:+0200
TZNAME:CEST
DTSTART:20290325T010000
END:DAYLIGHT
BEGIN:STANDARD
TZOFFSETFROM:+0200
TZOFFSETTO:+0100
TZNAME:CET
DTSTART:20291028T010000
END:STANDARD
END:VTIMEZONE
BEGIN:VEVENT
DTSTART;TZID=Europe/Berlin:20280120T143000
DTEND;TZID=Europe/Berlin:20280120T163000
DTSTAMP:20260423T234034
CREATED:20250812T114952Z
LAST-MODIFIED:20250812T115036Z
UID:10001210-1831991400-1831998600@hospizverein-bramsche.de
SUMMARY:Trostbank Osnabrücker Straße
DESCRIPTION:
URL:https://hospizverein-bramsche.de/event/trostbank-osnabruecker-strasse-2/2028-01-20/
LOCATION:Friedhof Osnabrücker Straße
END:VEVENT
BEGIN:VEVENT
DTSTART;TZID=Europe/Berlin:20280121T100000
DTEND;TZID=Europe/Berlin:20280121T120000
DTSTAMP:20260423T234034
CREATED:20241218T143911Z
LAST-MODIFIED:20241219T171401Z
UID:10000999-1832061600-1832068800@hospizverein-bramsche.de
SUMMARY:Bürozeiten
DESCRIPTION:
URL:https://hospizverein-bramsche.de/event/buerozeiten-2/2028-01-21/
LOCATION:Hopizbüro\, Münsterstrasse 16\, Bramsche\, Niedersachsen\, 49565\, Deutschland
END:VEVENT
BEGIN:VEVENT
DTSTART;TZID=Europe/Berlin:20280126T150000
DTEND;TZID=Europe/Berlin:20280126T170000
DTSTAMP:20260423T234034
CREATED:20241218T143731Z
LAST-MODIFIED:20241219T171346Z
UID:10000711-1832511600-1832518800@hospizverein-bramsche.de
SUMMARY:Bürozeiten
DESCRIPTION:
URL:https://hospizverein-bramsche.de/event/buerozeiten/2028-01-26/
LOCATION:Hopizbüro\, Münsterstrasse 16\, Bramsche\, Niedersachsen\, 49565\, Deutschland
END:VEVENT
BEGIN:VEVENT
DTSTART;TZID=Europe/Berlin:20280128T100000
DTEND;TZID=Europe/Berlin:20280128T120000
DTSTAMP:20260423T234034
CREATED:20241218T143911Z
LAST-MODIFIED:20241219T171401Z
UID:10001000-1832666400-1832673600@hospizverein-bramsche.de
SUMMARY:Bürozeiten
DESCRIPTION:
URL:https://hospizverein-bramsche.de/event/buerozeiten-2/2028-01-28/
LOCATION:Hopizbüro\, Münsterstrasse 16\, Bramsche\, Niedersachsen\, 49565\, Deutschland
END:VEVENT
BEGIN:VEVENT
DTSTART;TZID=Europe/Berlin:20280128T143000
DTEND;TZID=Europe/Berlin:20280128T163000
DTSTAMP:20260423T234034
CREATED:20250915T122852Z
LAST-MODIFIED:20260106T111609Z
UID:10001396-1832682600-1832689800@hospizverein-bramsche.de
SUMMARY:Trostbank Friedwald Bramsche
DESCRIPTION:
URL:https://hospizverein-bramsche.de/event/trostbank-friedwald-bramsche-2/2028-01-28/
LOCATION:Friedwald Bramsche
END:VEVENT
BEGIN:VEVENT
DTSTART;TZID=Europe/Berlin:20280202T150000
DTEND;TZID=Europe/Berlin:20280202T170000
DTSTAMP:20260423T234034
CREATED:20241218T143731Z
LAST-MODIFIED:20241219T171346Z
UID:10000712-1833116400-1833123600@hospizverein-bramsche.de
SUMMARY:Bürozeiten
DESCRIPTION:
URL:https://hospizverein-bramsche.de/event/buerozeiten/2028-02-02/
LOCATION:Hopizbüro\, Münsterstrasse 16\, Bramsche\, Niedersachsen\, 49565\, Deutschland
END:VEVENT
BEGIN:VEVENT
DTSTART;TZID=Europe/Berlin:20280202T160000
DTEND;TZID=Europe/Berlin:20280202T173000
DTSTAMP:20260423T234034
CREATED:20240514T133036Z
LAST-MODIFIED:20241219T171135Z
UID:10000240-1833120000-1833125400@hospizverein-bramsche.de
SUMMARY:Hospizcafe
DESCRIPTION:
URL:https://hospizverein-bramsche.de/event/hospizcafe/2028-02-02/
LOCATION:Hopizbüro\, Münsterstrasse 16\, Bramsche\, Niedersachsen\, 49565\, Deutschland
END:VEVENT
BEGIN:VEVENT
DTSTART;TZID=Europe/Berlin:20280204T100000
DTEND;TZID=Europe/Berlin:20280204T120000
DTSTAMP:20260423T234034
CREATED:20241218T143911Z
LAST-MODIFIED:20241219T171401Z
UID:10001001-1833271200-1833278400@hospizverein-bramsche.de
SUMMARY:Bürozeiten
DESCRIPTION:
URL:https://hospizverein-bramsche.de/event/buerozeiten-2/2028-02-04/
LOCATION:Hopizbüro\, Münsterstrasse 16\, Bramsche\, Niedersachsen\, 49565\, Deutschland
END:VEVENT
BEGIN:VEVENT
DTSTART;TZID=Europe/Berlin:20280207T150000
DTEND;TZID=Europe/Berlin:20280207T170000
DTSTAMP:20260423T234034
CREATED:20241218T141550Z
LAST-MODIFIED:20241218T143113Z
UID:10000099-1833548400-1833555600@hospizverein-bramsche.de
SUMMARY:Gesprächskreis für Trauernde
DESCRIPTION:
URL:https://hospizverein-bramsche.de/event/gespraechskreis-fuer-trauernde-6-copy/2028-02-07/
LOCATION:Hopizbüro\, Münsterstrasse 16\, Bramsche\, Niedersachsen\, 49565\, Deutschland
END:VEVENT
BEGIN:VEVENT
DTSTART;TZID=Europe/Berlin:20280209T150000
DTEND;TZID=Europe/Berlin:20280209T170000
DTSTAMP:20260423T234034
CREATED:20241218T143731Z
LAST-MODIFIED:20241219T171346Z
UID:10000713-1833721200-1833728400@hospizverein-bramsche.de
SUMMARY:Bürozeiten
DESCRIPTION:
URL:https://hospizverein-bramsche.de/event/buerozeiten/2028-02-09/
LOCATION:Hopizbüro\, Münsterstrasse 16\, Bramsche\, Niedersachsen\, 49565\, Deutschland
END:VEVENT
BEGIN:VEVENT
DTSTART;TZID=Europe/Berlin:20280209T180000
DTEND;TZID=Europe/Berlin:20280209T203000
DTSTAMP:20260423T234034
CREATED:20240606T164438Z
LAST-MODIFIED:20241218T143553Z
UID:10000502-1833732000-1833741000@hospizverein-bramsche.de
SUMMARY:Begleitertreffen
DESCRIPTION:
URL:https://hospizverein-bramsche.de/event/begleitertreffen/2028-02-09/
LOCATION:Hopizbüro\, Münsterstrasse 16\, Bramsche\, Niedersachsen\, 49565\, Deutschland
END:VEVENT
BEGIN:VEVENT
DTSTART;TZID=Europe/Berlin:20280211T100000
DTEND;TZID=Europe/Berlin:20280211T120000
DTSTAMP:20260423T234034
CREATED:20241218T143911Z
LAST-MODIFIED:20241219T171401Z
UID:10001002-1833876000-1833883200@hospizverein-bramsche.de
SUMMARY:Bürozeiten
DESCRIPTION:
URL:https://hospizverein-bramsche.de/event/buerozeiten-2/2028-02-11/
LOCATION:Hopizbüro\, Münsterstrasse 16\, Bramsche\, Niedersachsen\, 49565\, Deutschland
END:VEVENT
BEGIN:VEVENT
DTSTART;TZID=Europe/Berlin:20280213T143000
DTEND;TZID=Europe/Berlin:20280213T163000
DTSTAMP:20260423T234034
CREATED:20240514T164846Z
LAST-MODIFIED:20241218T143322Z
UID:10000306-1834065000-1834072200@hospizverein-bramsche.de
SUMMARY:Trostbank Friedhof Lindenstraße
DESCRIPTION:
URL:https://hospizverein-bramsche.de/event/trostbank-friedhof-lindenstrasse/2028-02-13/
LOCATION:Friedhof Lindenstraße
END:VEVENT
BEGIN:VEVENT
DTSTART;TZID=Europe/Berlin:20280216T150000
DTEND;TZID=Europe/Berlin:20280216T170000
DTSTAMP:20260423T234034
CREATED:20241218T143731Z
LAST-MODIFIED:20241219T171346Z
UID:10000714-1834326000-1834333200@hospizverein-bramsche.de
SUMMARY:Bürozeiten
DESCRIPTION:
URL:https://hospizverein-bramsche.de/event/buerozeiten/2028-02-16/
LOCATION:Hopizbüro\, Münsterstrasse 16\, Bramsche\, Niedersachsen\, 49565\, Deutschland
END:VEVENT
BEGIN:VEVENT
DTSTART;TZID=Europe/Berlin:20280217T143000
DTEND;TZID=Europe/Berlin:20280217T163000
DTSTAMP:20260423T234034
CREATED:20240514T162809Z
LAST-MODIFIED:20260106T111718Z
UID:10001476-1834410600-1834417800@hospizverein-bramsche.de
SUMMARY:Trostbank Friedhof Malgarten
DESCRIPTION:
URL:https://hospizverein-bramsche.de/event/trostbank-friedhof-malgarten/2028-02-17/
LOCATION:Friedhof Malgarten
END:VEVENT
BEGIN:VEVENT
DTSTART;TZID=Europe/Berlin:20280217T143000
DTEND;TZID=Europe/Berlin:20280217T163000
DTSTAMP:20260423T234034
CREATED:20250812T114952Z
LAST-MODIFIED:20250812T115036Z
UID:10001211-1834410600-1834417800@hospizverein-bramsche.de
SUMMARY:Trostbank Osnabrücker Straße
DESCRIPTION:
URL:https://hospizverein-bramsche.de/event/trostbank-osnabruecker-strasse-2/2028-02-17/
LOCATION:Friedhof Osnabrücker Straße
END:VEVENT
BEGIN:VEVENT
DTSTART;TZID=Europe/Berlin:20280218T100000
DTEND;TZID=Europe/Berlin:20280218T120000
DTSTAMP:20260423T234034
CREATED:20241218T143911Z
LAST-MODIFIED:20241219T171401Z
UID:10001003-1834480800-1834488000@hospizverein-bramsche.de
SUMMARY:Bürozeiten
DESCRIPTION:
URL:https://hospizverein-bramsche.de/event/buerozeiten-2/2028-02-18/
LOCATION:Hopizbüro\, Münsterstrasse 16\, Bramsche\, Niedersachsen\, 49565\, Deutschland
END:VEVENT
BEGIN:VEVENT
DTSTART;TZID=Europe/Berlin:20280223T150000
DTEND;TZID=Europe/Berlin:20280223T170000
DTSTAMP:20260423T234034
CREATED:20241218T143731Z
LAST-MODIFIED:20241219T171346Z
UID:10000715-1834930800-1834938000@hospizverein-bramsche.de
SUMMARY:Bürozeiten
DESCRIPTION:
URL:https://hospizverein-bramsche.de/event/buerozeiten/2028-02-23/
LOCATION:Hopizbüro\, Münsterstrasse 16\, Bramsche\, Niedersachsen\, 49565\, Deutschland
END:VEVENT
BEGIN:VEVENT
DTSTART;TZID=Europe/Berlin:20280225T100000
DTEND;TZID=Europe/Berlin:20280225T120000
DTSTAMP:20260423T234034
CREATED:20241218T143911Z
LAST-MODIFIED:20241219T171401Z
UID:10001004-1835085600-1835092800@hospizverein-bramsche.de
SUMMARY:Bürozeiten
DESCRIPTION:
URL:https://hospizverein-bramsche.de/event/buerozeiten-2/2028-02-25/
LOCATION:Hopizbüro\, Münsterstrasse 16\, Bramsche\, Niedersachsen\, 49565\, Deutschland
END:VEVENT
BEGIN:VEVENT
DTSTART;TZID=Europe/Berlin:20280225T143000
DTEND;TZID=Europe/Berlin:20280225T163000
DTSTAMP:20260423T234034
CREATED:20250915T122852Z
LAST-MODIFIED:20260106T111609Z
UID:10001397-1835101800-1835109000@hospizverein-bramsche.de
SUMMARY:Trostbank Friedwald Bramsche
DESCRIPTION:
URL:https://hospizverein-bramsche.de/event/trostbank-friedwald-bramsche-2/2028-02-25/
LOCATION:Friedwald Bramsche
END:VEVENT
BEGIN:VEVENT
DTSTART;TZID=Europe/Berlin:20280301T150000
DTEND;TZID=Europe/Berlin:20280301T170000
DTSTAMP:20260423T234034
CREATED:20241218T143731Z
LAST-MODIFIED:20241219T171346Z
UID:10000716-1835535600-1835542800@hospizverein-bramsche.de
SUMMARY:Bürozeiten
DESCRIPTION:
URL:https://hospizverein-bramsche.de/event/buerozeiten/2028-03-01/
LOCATION:Hopizbüro\, Münsterstrasse 16\, Bramsche\, Niedersachsen\, 49565\, Deutschland
END:VEVENT
BEGIN:VEVENT
DTSTART;TZID=Europe/Berlin:20280301T160000
DTEND;TZID=Europe/Berlin:20280301T173000
DTSTAMP:20260423T234034
CREATED:20240514T133036Z
LAST-MODIFIED:20241219T171135Z
UID:10000241-1835539200-1835544600@hospizverein-bramsche.de
SUMMARY:Hospizcafe
DESCRIPTION:
URL:https://hospizverein-bramsche.de/event/hospizcafe/2028-03-01/
LOCATION:Hopizbüro\, Münsterstrasse 16\, Bramsche\, Niedersachsen\, 49565\, Deutschland
END:VEVENT
BEGIN:VEVENT
DTSTART;TZID=Europe/Berlin:20280303T100000
DTEND;TZID=Europe/Berlin:20280303T120000
DTSTAMP:20260423T234034
CREATED:20241218T143911Z
LAST-MODIFIED:20241219T171401Z
UID:10001005-1835690400-1835697600@hospizverein-bramsche.de
SUMMARY:Bürozeiten
DESCRIPTION:
URL:https://hospizverein-bramsche.de/event/buerozeiten-2/2028-03-03/
LOCATION:Hopizbüro\, Münsterstrasse 16\, Bramsche\, Niedersachsen\, 49565\, Deutschland
END:VEVENT
BEGIN:VEVENT
DTSTART;TZID=Europe/Berlin:20280306T150000
DTEND;TZID=Europe/Berlin:20280306T170000
DTSTAMP:20260423T234034
CREATED:20241218T141550Z
LAST-MODIFIED:20241218T143113Z
UID:10000100-1835967600-1835974800@hospizverein-bramsche.de
SUMMARY:Gesprächskreis für Trauernde
DESCRIPTION:
URL:https://hospizverein-bramsche.de/event/gespraechskreis-fuer-trauernde-6-copy/2028-03-06/
LOCATION:Hopizbüro\, Münsterstrasse 16\, Bramsche\, Niedersachsen\, 49565\, Deutschland
END:VEVENT
BEGIN:VEVENT
DTSTART;TZID=Europe/Berlin:20280308T150000
DTEND;TZID=Europe/Berlin:20280308T170000
DTSTAMP:20260423T234034
CREATED:20241218T143731Z
LAST-MODIFIED:20241219T171346Z
UID:10000717-1836140400-1836147600@hospizverein-bramsche.de
SUMMARY:Bürozeiten
DESCRIPTION:
URL:https://hospizverein-bramsche.de/event/buerozeiten/2028-03-08/
LOCATION:Hopizbüro\, Münsterstrasse 16\, Bramsche\, Niedersachsen\, 49565\, Deutschland
END:VEVENT
BEGIN:VEVENT
DTSTART;TZID=Europe/Berlin:20280308T180000
DTEND;TZID=Europe/Berlin:20280308T203000
DTSTAMP:20260423T234034
CREATED:20240606T164438Z
LAST-MODIFIED:20241218T143553Z
UID:10000503-1836151200-1836160200@hospizverein-bramsche.de
SUMMARY:Begleitertreffen
DESCRIPTION:
URL:https://hospizverein-bramsche.de/event/begleitertreffen/2028-03-08/
LOCATION:Hopizbüro\, Münsterstrasse 16\, Bramsche\, Niedersachsen\, 49565\, Deutschland
END:VEVENT
BEGIN:VEVENT
DTSTART;TZID=Europe/Berlin:20280310T100000
DTEND;TZID=Europe/Berlin:20280310T120000
DTSTAMP:20260423T234034
CREATED:20241218T143911Z
LAST-MODIFIED:20241219T171401Z
UID:10001006-1836295200-1836302400@hospizverein-bramsche.de
SUMMARY:Bürozeiten
DESCRIPTION:
URL:https://hospizverein-bramsche.de/event/buerozeiten-2/2028-03-10/
LOCATION:Hopizbüro\, Münsterstrasse 16\, Bramsche\, Niedersachsen\, 49565\, Deutschland
END:VEVENT
BEGIN:VEVENT
DTSTART;TZID=Europe/Berlin:20280312T143000
DTEND;TZID=Europe/Berlin:20280312T163000
DTSTAMP:20260423T234034
CREATED:20240514T164846Z
LAST-MODIFIED:20241218T143322Z
UID:10000307-1836484200-1836491400@hospizverein-bramsche.de
SUMMARY:Trostbank Friedhof Lindenstraße
DESCRIPTION:
URL:https://hospizverein-bramsche.de/event/trostbank-friedhof-lindenstrasse/2028-03-12/
LOCATION:Friedhof Lindenstraße
END:VEVENT
BEGIN:VEVENT
DTSTART;TZID=Europe/Berlin:20280315T150000
DTEND;TZID=Europe/Berlin:20280315T170000
DTSTAMP:20260423T234034
CREATED:20241218T143731Z
LAST-MODIFIED:20241219T171346Z
UID:10000718-1836745200-1836752400@hospizverein-bramsche.de
SUMMARY:Bürozeiten
DESCRIPTION:
URL:https://hospizverein-bramsche.de/event/buerozeiten/2028-03-15/
LOCATION:Hopizbüro\, Münsterstrasse 16\, Bramsche\, Niedersachsen\, 49565\, Deutschland
END:VEVENT
BEGIN:VEVENT
DTSTART;TZID=Europe/Berlin:20280316T143000
DTEND;TZID=Europe/Berlin:20280316T163000
DTSTAMP:20260423T234034
CREATED:20240514T162809Z
LAST-MODIFIED:20260106T111718Z
UID:10001477-1836829800-1836837000@hospizverein-bramsche.de
SUMMARY:Trostbank Friedhof Malgarten
DESCRIPTION:
URL:https://hospizverein-bramsche.de/event/trostbank-friedhof-malgarten/2028-03-16/
LOCATION:Friedhof Malgarten
END:VEVENT
END:VCALENDAR