BEGIN:VCALENDAR
VERSION:2.0
PRODID:-//Hospizverein Bramsche - ECPv6.15.16//NONSGML v1.0//EN
CALSCALE:GREGORIAN
METHOD:PUBLISH
X-WR-CALNAME:Hospizverein Bramsche
X-ORIGINAL-URL:https://hospizverein-bramsche.de
X-WR-CALDESC:Veranstaltungen für Hospizverein Bramsche
REFRESH-INTERVAL;VALUE=DURATION:PT1H
X-Robots-Tag:noindex
X-PUBLISHED-TTL:PT1H
BEGIN:VTIMEZONE
TZID:Europe/Berlin
BEGIN:DAYLIGHT
TZOFFSETFROM:+0100
TZOFFSETTO:+0200
TZNAME:CEST
DTSTART:20280326T010000
END:DAYLIGHT
BEGIN:STANDARD
TZOFFSETFROM:+0200
TZOFFSETTO:+0100
TZNAME:CET
DTSTART:20281029T010000
END:STANDARD
BEGIN:DAYLIGHT
TZOFFSETFROM:+0100
TZOFFSETTO:+0200
TZNAME:CEST
DTSTART:20290325T010000
END:DAYLIGHT
BEGIN:STANDARD
TZOFFSETFROM:+0200
TZOFFSETTO:+0100
TZNAME:CET
DTSTART:20291028T010000
END:STANDARD
BEGIN:DAYLIGHT
TZOFFSETFROM:+0100
TZOFFSETTO:+0200
TZNAME:CEST
DTSTART:20300331T010000
END:DAYLIGHT
BEGIN:STANDARD
TZOFFSETFROM:+0200
TZOFFSETTO:+0100
TZNAME:CET
DTSTART:20301027T010000
END:STANDARD
BEGIN:DAYLIGHT
TZOFFSETFROM:+0100
TZOFFSETTO:+0200
TZNAME:CEST
DTSTART:20310330T010000
END:DAYLIGHT
BEGIN:STANDARD
TZOFFSETFROM:+0200
TZOFFSETTO:+0100
TZNAME:CET
DTSTART:20311026T010000
END:STANDARD
END:VTIMEZONE
BEGIN:VEVENT
DTSTART;TZID=Europe/Berlin:20291107T160000
DTEND;TZID=Europe/Berlin:20291107T173000
DTSTAMP:20260425T170731
CREATED:20240514T133036Z
LAST-MODIFIED:20241219T171135Z
UID:10000261-1888761600-1888767000@hospizverein-bramsche.de
SUMMARY:Hospizcafe
DESCRIPTION:
URL:https://hospizverein-bramsche.de/event/hospizcafe/2029-11-07/
LOCATION:Hopizbüro\, Münsterstrasse 16\, Bramsche\, Niedersachsen\, 49565\, Deutschland
END:VEVENT
BEGIN:VEVENT
DTSTART;TZID=Europe/Berlin:20291109T100000
DTEND;TZID=Europe/Berlin:20291109T120000
DTSTAMP:20260425T170731
CREATED:20241218T143911Z
LAST-MODIFIED:20241219T171401Z
UID:10001093-1888912800-1888920000@hospizverein-bramsche.de
SUMMARY:Bürozeiten
DESCRIPTION:
URL:https://hospizverein-bramsche.de/event/buerozeiten-2/2029-11-09/
LOCATION:Hopizbüro\, Münsterstrasse 16\, Bramsche\, Niedersachsen\, 49565\, Deutschland
END:VEVENT
BEGIN:VEVENT
DTSTART;TZID=Europe/Berlin:20291111T143000
DTEND;TZID=Europe/Berlin:20291111T163000
DTSTAMP:20260425T170731
CREATED:20240514T164846Z
LAST-MODIFIED:20241218T143322Z
UID:10000327-1889101800-1889109000@hospizverein-bramsche.de
SUMMARY:Trostbank Friedhof Lindenstraße
DESCRIPTION:
URL:https://hospizverein-bramsche.de/event/trostbank-friedhof-lindenstrasse/2029-11-11/
LOCATION:Friedhof Lindenstraße
END:VEVENT
BEGIN:VEVENT
DTSTART;TZID=Europe/Berlin:20291114T150000
DTEND;TZID=Europe/Berlin:20291114T170000
DTSTAMP:20260425T170731
CREATED:20241218T143731Z
LAST-MODIFIED:20241219T171346Z
UID:10000805-1889362800-1889370000@hospizverein-bramsche.de
SUMMARY:Bürozeiten
DESCRIPTION:
URL:https://hospizverein-bramsche.de/event/buerozeiten/2029-11-14/
LOCATION:Hopizbüro\, Münsterstrasse 16\, Bramsche\, Niedersachsen\, 49565\, Deutschland
END:VEVENT
BEGIN:VEVENT
DTSTART;TZID=Europe/Berlin:20291114T180000
DTEND;TZID=Europe/Berlin:20291114T203000
DTSTAMP:20260425T170731
CREATED:20240606T164438Z
LAST-MODIFIED:20241218T143553Z
UID:10000523-1889373600-1889382600@hospizverein-bramsche.de
SUMMARY:Begleitertreffen
DESCRIPTION:
URL:https://hospizverein-bramsche.de/event/begleitertreffen/2029-11-14/
LOCATION:Hopizbüro\, Münsterstrasse 16\, Bramsche\, Niedersachsen\, 49565\, Deutschland
END:VEVENT
BEGIN:VEVENT
DTSTART;TZID=Europe/Berlin:20291115T143000
DTEND;TZID=Europe/Berlin:20291115T163000
DTSTAMP:20260425T170731
CREATED:20240514T162809Z
LAST-MODIFIED:20260106T111718Z
UID:10001497-1889447400-1889454600@hospizverein-bramsche.de
SUMMARY:Trostbank Friedhof Malgarten
DESCRIPTION:
URL:https://hospizverein-bramsche.de/event/trostbank-friedhof-malgarten/2029-11-15/
LOCATION:Friedhof Malgarten
END:VEVENT
BEGIN:VEVENT
DTSTART;TZID=Europe/Berlin:20291115T143000
DTEND;TZID=Europe/Berlin:20291115T163000
DTSTAMP:20260425T170731
CREATED:20250812T114952Z
LAST-MODIFIED:20250812T115036Z
UID:10001232-1889447400-1889454600@hospizverein-bramsche.de
SUMMARY:Trostbank Osnabrücker Straße
DESCRIPTION:
URL:https://hospizverein-bramsche.de/event/trostbank-osnabruecker-strasse-2/2029-11-15/
LOCATION:Friedhof Osnabrücker Straße
END:VEVENT
BEGIN:VEVENT
DTSTART;TZID=Europe/Berlin:20291116T100000
DTEND;TZID=Europe/Berlin:20291116T120000
DTSTAMP:20260425T170731
CREATED:20241218T143911Z
LAST-MODIFIED:20241219T171401Z
UID:10001094-1889517600-1889524800@hospizverein-bramsche.de
SUMMARY:Bürozeiten
DESCRIPTION:
URL:https://hospizverein-bramsche.de/event/buerozeiten-2/2029-11-16/
LOCATION:Hopizbüro\, Münsterstrasse 16\, Bramsche\, Niedersachsen\, 49565\, Deutschland
END:VEVENT
BEGIN:VEVENT
DTSTART;TZID=Europe/Berlin:20291121T150000
DTEND;TZID=Europe/Berlin:20291121T170000
DTSTAMP:20260425T170731
CREATED:20241218T143731Z
LAST-MODIFIED:20241219T171346Z
UID:10000806-1889967600-1889974800@hospizverein-bramsche.de
SUMMARY:Bürozeiten
DESCRIPTION:
URL:https://hospizverein-bramsche.de/event/buerozeiten/2029-11-21/
LOCATION:Hopizbüro\, Münsterstrasse 16\, Bramsche\, Niedersachsen\, 49565\, Deutschland
END:VEVENT
BEGIN:VEVENT
DTSTART;TZID=Europe/Berlin:20291123T100000
DTEND;TZID=Europe/Berlin:20291123T120000
DTSTAMP:20260425T170731
CREATED:20241218T143911Z
LAST-MODIFIED:20241219T171401Z
UID:10001095-1890122400-1890129600@hospizverein-bramsche.de
SUMMARY:Bürozeiten
DESCRIPTION:
URL:https://hospizverein-bramsche.de/event/buerozeiten-2/2029-11-23/
LOCATION:Hopizbüro\, Münsterstrasse 16\, Bramsche\, Niedersachsen\, 49565\, Deutschland
END:VEVENT
BEGIN:VEVENT
DTSTART;TZID=Europe/Berlin:20291123T143000
DTEND;TZID=Europe/Berlin:20291123T163000
DTSTAMP:20260425T170731
CREATED:20250915T122852Z
LAST-MODIFIED:20260106T111609Z
UID:10001418-1890138600-1890145800@hospizverein-bramsche.de
SUMMARY:Trostbank Friedwald Bramsche
DESCRIPTION:
URL:https://hospizverein-bramsche.de/event/trostbank-friedwald-bramsche-2/2029-11-23/
LOCATION:Friedwald Bramsche
END:VEVENT
BEGIN:VEVENT
DTSTART;TZID=Europe/Berlin:20291128T150000
DTEND;TZID=Europe/Berlin:20291128T170000
DTSTAMP:20260425T170731
CREATED:20241218T143731Z
LAST-MODIFIED:20241219T171346Z
UID:10000807-1890572400-1890579600@hospizverein-bramsche.de
SUMMARY:Bürozeiten
DESCRIPTION:
URL:https://hospizverein-bramsche.de/event/buerozeiten/2029-11-28/
LOCATION:Hopizbüro\, Münsterstrasse 16\, Bramsche\, Niedersachsen\, 49565\, Deutschland
END:VEVENT
BEGIN:VEVENT
DTSTART;TZID=Europe/Berlin:20291130T100000
DTEND;TZID=Europe/Berlin:20291130T120000
DTSTAMP:20260425T170731
CREATED:20241218T143911Z
LAST-MODIFIED:20241219T171401Z
UID:10001096-1890727200-1890734400@hospizverein-bramsche.de
SUMMARY:Bürozeiten
DESCRIPTION:
URL:https://hospizverein-bramsche.de/event/buerozeiten-2/2029-11-30/
LOCATION:Hopizbüro\, Münsterstrasse 16\, Bramsche\, Niedersachsen\, 49565\, Deutschland
END:VEVENT
BEGIN:VEVENT
DTSTART;TZID=Europe/Berlin:20291203T150000
DTEND;TZID=Europe/Berlin:20291203T170000
DTSTAMP:20260425T170731
CREATED:20241218T141550Z
LAST-MODIFIED:20241218T143113Z
UID:10000121-1891004400-1891011600@hospizverein-bramsche.de
SUMMARY:Gesprächskreis für Trauernde
DESCRIPTION:
URL:https://hospizverein-bramsche.de/event/gespraechskreis-fuer-trauernde-6-copy/2029-12-03/
LOCATION:Hopizbüro\, Münsterstrasse 16\, Bramsche\, Niedersachsen\, 49565\, Deutschland
END:VEVENT
BEGIN:VEVENT
DTSTART;TZID=Europe/Berlin:20291205T150000
DTEND;TZID=Europe/Berlin:20291205T170000
DTSTAMP:20260425T170731
CREATED:20241218T143731Z
LAST-MODIFIED:20241219T171346Z
UID:10000808-1891177200-1891184400@hospizverein-bramsche.de
SUMMARY:Bürozeiten
DESCRIPTION:
URL:https://hospizverein-bramsche.de/event/buerozeiten/2029-12-05/
LOCATION:Hopizbüro\, Münsterstrasse 16\, Bramsche\, Niedersachsen\, 49565\, Deutschland
END:VEVENT
BEGIN:VEVENT
DTSTART;TZID=Europe/Berlin:20291205T160000
DTEND;TZID=Europe/Berlin:20291205T173000
DTSTAMP:20260425T170731
CREATED:20240514T133036Z
LAST-MODIFIED:20241219T171135Z
UID:10000262-1891180800-1891186200@hospizverein-bramsche.de
SUMMARY:Hospizcafe
DESCRIPTION:
URL:https://hospizverein-bramsche.de/event/hospizcafe/2029-12-05/
LOCATION:Hopizbüro\, Münsterstrasse 16\, Bramsche\, Niedersachsen\, 49565\, Deutschland
END:VEVENT
BEGIN:VEVENT
DTSTART;TZID=Europe/Berlin:20291207T100000
DTEND;TZID=Europe/Berlin:20291207T120000
DTSTAMP:20260425T170731
CREATED:20241218T143911Z
LAST-MODIFIED:20241219T171401Z
UID:10001097-1891332000-1891339200@hospizverein-bramsche.de
SUMMARY:Bürozeiten
DESCRIPTION:
URL:https://hospizverein-bramsche.de/event/buerozeiten-2/2029-12-07/
LOCATION:Hopizbüro\, Münsterstrasse 16\, Bramsche\, Niedersachsen\, 49565\, Deutschland
END:VEVENT
BEGIN:VEVENT
DTSTART;TZID=Europe/Berlin:20291209T143000
DTEND;TZID=Europe/Berlin:20291209T163000
DTSTAMP:20260425T170731
CREATED:20240514T164846Z
LAST-MODIFIED:20241218T143322Z
UID:10000328-1891521000-1891528200@hospizverein-bramsche.de
SUMMARY:Trostbank Friedhof Lindenstraße
DESCRIPTION:
URL:https://hospizverein-bramsche.de/event/trostbank-friedhof-lindenstrasse/2029-12-09/
LOCATION:Friedhof Lindenstraße
END:VEVENT
BEGIN:VEVENT
DTSTART;TZID=Europe/Berlin:20291212T150000
DTEND;TZID=Europe/Berlin:20291212T170000
DTSTAMP:20260425T170731
CREATED:20241218T143731Z
LAST-MODIFIED:20241219T171346Z
UID:10000809-1891782000-1891789200@hospizverein-bramsche.de
SUMMARY:Bürozeiten
DESCRIPTION:
URL:https://hospizverein-bramsche.de/event/buerozeiten/2029-12-12/
LOCATION:Hopizbüro\, Münsterstrasse 16\, Bramsche\, Niedersachsen\, 49565\, Deutschland
END:VEVENT
BEGIN:VEVENT
DTSTART;TZID=Europe/Berlin:20291212T180000
DTEND;TZID=Europe/Berlin:20291212T203000
DTSTAMP:20260425T170731
CREATED:20240606T164438Z
LAST-MODIFIED:20241218T143553Z
UID:10000524-1891792800-1891801800@hospizverein-bramsche.de
SUMMARY:Begleitertreffen
DESCRIPTION:
URL:https://hospizverein-bramsche.de/event/begleitertreffen/2029-12-12/
LOCATION:Hopizbüro\, Münsterstrasse 16\, Bramsche\, Niedersachsen\, 49565\, Deutschland
END:VEVENT
BEGIN:VEVENT
DTSTART;TZID=Europe/Berlin:20291214T100000
DTEND;TZID=Europe/Berlin:20291214T120000
DTSTAMP:20260425T170731
CREATED:20241218T143911Z
LAST-MODIFIED:20241219T171401Z
UID:10001098-1891936800-1891944000@hospizverein-bramsche.de
SUMMARY:Bürozeiten
DESCRIPTION:
URL:https://hospizverein-bramsche.de/event/buerozeiten-2/2029-12-14/
LOCATION:Hopizbüro\, Münsterstrasse 16\, Bramsche\, Niedersachsen\, 49565\, Deutschland
END:VEVENT
BEGIN:VEVENT
DTSTART;TZID=Europe/Berlin:20291219T150000
DTEND;TZID=Europe/Berlin:20291219T170000
DTSTAMP:20260425T170731
CREATED:20241218T143731Z
LAST-MODIFIED:20241219T171346Z
UID:10001120-1892386800-1892394000@hospizverein-bramsche.de
SUMMARY:Bürozeiten
DESCRIPTION:
URL:https://hospizverein-bramsche.de/event/buerozeiten/2029-12-19/
LOCATION:Hopizbüro\, Münsterstrasse 16\, Bramsche\, Niedersachsen\, 49565\, Deutschland
END:VEVENT
BEGIN:VEVENT
DTSTART;TZID=Europe/Berlin:20291220T143000
DTEND;TZID=Europe/Berlin:20291220T163000
DTSTAMP:20260425T170731
CREATED:20240514T162809Z
LAST-MODIFIED:20260106T111718Z
UID:10001498-1892471400-1892478600@hospizverein-bramsche.de
SUMMARY:Trostbank Friedhof Malgarten
DESCRIPTION:
URL:https://hospizverein-bramsche.de/event/trostbank-friedhof-malgarten/2029-12-20/
LOCATION:Friedhof Malgarten
END:VEVENT
BEGIN:VEVENT
DTSTART;TZID=Europe/Berlin:20291220T143000
DTEND;TZID=Europe/Berlin:20291220T163000
DTSTAMP:20260425T170731
CREATED:20250812T114952Z
LAST-MODIFIED:20250812T115036Z
UID:10001233-1892471400-1892478600@hospizverein-bramsche.de
SUMMARY:Trostbank Osnabrücker Straße
DESCRIPTION:
URL:https://hospizverein-bramsche.de/event/trostbank-osnabruecker-strasse-2/2029-12-20/
LOCATION:Friedhof Osnabrücker Straße
END:VEVENT
BEGIN:VEVENT
DTSTART;TZID=Europe/Berlin:20291228T143000
DTEND;TZID=Europe/Berlin:20291228T163000
DTSTAMP:20260425T170731
CREATED:20250915T122852Z
LAST-MODIFIED:20260106T111609Z
UID:10001419-1893162600-1893169800@hospizverein-bramsche.de
SUMMARY:Trostbank Friedwald Bramsche
DESCRIPTION:
URL:https://hospizverein-bramsche.de/event/trostbank-friedwald-bramsche-2/2029-12-28/
LOCATION:Friedwald Bramsche
END:VEVENT
BEGIN:VEVENT
DTSTART;TZID=Europe/Berlin:20300117T143000
DTEND;TZID=Europe/Berlin:20300117T163000
DTSTAMP:20260425T170731
CREATED:20240514T162809Z
LAST-MODIFIED:20260106T111718Z
UID:10001499-1894890600-1894897800@hospizverein-bramsche.de
SUMMARY:Trostbank Friedhof Malgarten
DESCRIPTION:
URL:https://hospizverein-bramsche.de/event/trostbank-friedhof-malgarten/2030-01-17/
LOCATION:Friedhof Malgarten
END:VEVENT
BEGIN:VEVENT
DTSTART;TZID=Europe/Berlin:20300117T143000
DTEND;TZID=Europe/Berlin:20300117T163000
DTSTAMP:20260425T170731
CREATED:20250812T114952Z
LAST-MODIFIED:20250812T115036Z
UID:10001234-1894890600-1894897800@hospizverein-bramsche.de
SUMMARY:Trostbank Osnabrücker Straße
DESCRIPTION:
URL:https://hospizverein-bramsche.de/event/trostbank-osnabruecker-strasse-2/2030-01-17/
LOCATION:Friedhof Osnabrücker Straße
END:VEVENT
BEGIN:VEVENT
DTSTART;TZID=Europe/Berlin:20300125T143000
DTEND;TZID=Europe/Berlin:20300125T163000
DTSTAMP:20260425T170731
CREATED:20250915T122852Z
LAST-MODIFIED:20260106T111609Z
UID:10001420-1895581800-1895589000@hospizverein-bramsche.de
SUMMARY:Trostbank Friedwald Bramsche
DESCRIPTION:
URL:https://hospizverein-bramsche.de/event/trostbank-friedwald-bramsche-2/2030-01-25/
LOCATION:Friedwald Bramsche
END:VEVENT
BEGIN:VEVENT
DTSTART;TZID=Europe/Berlin:20300221T143000
DTEND;TZID=Europe/Berlin:20300221T163000
DTSTAMP:20260425T170731
CREATED:20240514T162809Z
LAST-MODIFIED:20260106T111718Z
UID:10001500-1897914600-1897921800@hospizverein-bramsche.de
SUMMARY:Trostbank Friedhof Malgarten
DESCRIPTION:
URL:https://hospizverein-bramsche.de/event/trostbank-friedhof-malgarten/2030-02-21/
LOCATION:Friedhof Malgarten
END:VEVENT
BEGIN:VEVENT
DTSTART;TZID=Europe/Berlin:20300221T143000
DTEND;TZID=Europe/Berlin:20300221T163000
DTSTAMP:20260425T170731
CREATED:20250812T114952Z
LAST-MODIFIED:20250812T115036Z
UID:10001235-1897914600-1897921800@hospizverein-bramsche.de
SUMMARY:Trostbank Osnabrücker Straße
DESCRIPTION:
URL:https://hospizverein-bramsche.de/event/trostbank-osnabruecker-strasse-2/2030-02-21/
LOCATION:Friedhof Osnabrücker Straße
END:VEVENT
END:VCALENDAR