BEGIN:VCALENDAR
VERSION:2.0
PRODID:-//Hospizverein Bramsche - ECPv6.15.16//NONSGML v1.0//EN
CALSCALE:GREGORIAN
METHOD:PUBLISH
X-ORIGINAL-URL:https://hospizverein-bramsche.de
X-WR-CALDESC:Veranstaltungen für Hospizverein Bramsche
REFRESH-INTERVAL;VALUE=DURATION:PT1H
X-Robots-Tag:noindex
X-PUBLISHED-TTL:PT1H
BEGIN:VTIMEZONE
TZID:Europe/Berlin
BEGIN:DAYLIGHT
TZOFFSETFROM:+0100
TZOFFSETTO:+0200
TZNAME:CEST
DTSTART:20240331T010000
END:DAYLIGHT
BEGIN:STANDARD
TZOFFSETFROM:+0200
TZOFFSETTO:+0100
TZNAME:CET
DTSTART:20241027T010000
END:STANDARD
BEGIN:DAYLIGHT
TZOFFSETFROM:+0100
TZOFFSETTO:+0200
TZNAME:CEST
DTSTART:20250330T010000
END:DAYLIGHT
BEGIN:STANDARD
TZOFFSETFROM:+0200
TZOFFSETTO:+0100
TZNAME:CET
DTSTART:20251026T010000
END:STANDARD
BEGIN:DAYLIGHT
TZOFFSETFROM:+0100
TZOFFSETTO:+0200
TZNAME:CEST
DTSTART:20260329T010000
END:DAYLIGHT
BEGIN:STANDARD
TZOFFSETFROM:+0200
TZOFFSETTO:+0100
TZNAME:CET
DTSTART:20261025T010000
END:STANDARD
END:VTIMEZONE
BEGIN:VEVENT
DTSTART;TZID=Europe/Berlin:20250901T150000
DTEND;TZID=Europe/Berlin:20250901T170000
DTSTAMP:20260420T163231
CREATED:20241218T141550Z
LAST-MODIFIED:20241218T143113Z
UID:10000070-1756738800-1756746000@hospizverein-bramsche.de
SUMMARY:Gesprächskreis für Trauernde
DESCRIPTION:
URL:https://hospizverein-bramsche.de/event/gespraechskreis-fuer-trauernde-6-copy/2025-09-01/
LOCATION:Hopizbüro\, Münsterstrasse 16\, Bramsche\, Niedersachsen\, 49565\, Deutschland
END:VEVENT
BEGIN:VEVENT
DTSTART;TZID=Europe/Berlin:20250903T150000
DTEND;TZID=Europe/Berlin:20250903T170000
DTSTAMP:20260420T163231
CREATED:20241218T143731Z
LAST-MODIFIED:20241219T171346Z
UID:10000586-1756911600-1756918800@hospizverein-bramsche.de
SUMMARY:Bürozeiten
DESCRIPTION:
URL:https://hospizverein-bramsche.de/event/buerozeiten/2025-09-03/
LOCATION:Hopizbüro\, Münsterstrasse 16\, Bramsche\, Niedersachsen\, 49565\, Deutschland
END:VEVENT
BEGIN:VEVENT
DTSTART;TZID=Europe/Berlin:20250903T160000
DTEND;TZID=Europe/Berlin:20250903T173000
DTSTAMP:20260420T163231
CREATED:20240514T133036Z
LAST-MODIFIED:20241219T171135Z
UID:10000211-1756915200-1756920600@hospizverein-bramsche.de
SUMMARY:Hospizcafe
DESCRIPTION:
URL:https://hospizverein-bramsche.de/event/hospizcafe/2025-09-03/
LOCATION:Hopizbüro\, Münsterstrasse 16\, Bramsche\, Niedersachsen\, 49565\, Deutschland
END:VEVENT
BEGIN:VEVENT
DTSTART;TZID=Europe/Berlin:20250905T100000
DTEND;TZID=Europe/Berlin:20250905T120000
DTSTAMP:20260420T163231
CREATED:20241218T143911Z
LAST-MODIFIED:20241219T171401Z
UID:10000875-1757066400-1757073600@hospizverein-bramsche.de
SUMMARY:Bürozeiten
DESCRIPTION:
URL:https://hospizverein-bramsche.de/event/buerozeiten-2/2025-09-05/
LOCATION:Hopizbüro\, Münsterstrasse 16\, Bramsche\, Niedersachsen\, 49565\, Deutschland
END:VEVENT
BEGIN:VEVENT
DTSTART;TZID=Europe/Berlin:20250910T150000
DTEND;TZID=Europe/Berlin:20250910T170000
DTSTAMP:20260420T163231
CREATED:20241218T143731Z
LAST-MODIFIED:20241219T171346Z
UID:10000587-1757516400-1757523600@hospizverein-bramsche.de
SUMMARY:Bürozeiten
DESCRIPTION:
URL:https://hospizverein-bramsche.de/event/buerozeiten/2025-09-10/
LOCATION:Hopizbüro\, Münsterstrasse 16\, Bramsche\, Niedersachsen\, 49565\, Deutschland
END:VEVENT
BEGIN:VEVENT
DTSTART;TZID=Europe/Berlin:20250910T180000
DTEND;TZID=Europe/Berlin:20250910T203000
DTSTAMP:20260420T163231
CREATED:20240606T164438Z
LAST-MODIFIED:20241218T143553Z
UID:10000473-1757527200-1757536200@hospizverein-bramsche.de
SUMMARY:Begleitertreffen
DESCRIPTION:
URL:https://hospizverein-bramsche.de/event/begleitertreffen/2025-09-10/
LOCATION:Hopizbüro\, Münsterstrasse 16\, Bramsche\, Niedersachsen\, 49565\, Deutschland
END:VEVENT
BEGIN:VEVENT
DTSTART;TZID=Europe/Berlin:20250912T100000
DTEND;TZID=Europe/Berlin:20250912T120000
DTSTAMP:20260420T163231
CREATED:20241218T143911Z
LAST-MODIFIED:20241219T171401Z
UID:10000876-1757671200-1757678400@hospizverein-bramsche.de
SUMMARY:Bürozeiten
DESCRIPTION:
URL:https://hospizverein-bramsche.de/event/buerozeiten-2/2025-09-12/
LOCATION:Hopizbüro\, Münsterstrasse 16\, Bramsche\, Niedersachsen\, 49565\, Deutschland
END:VEVENT
BEGIN:VEVENT
DTSTART;TZID=Europe/Berlin:20250914T143000
DTEND;TZID=Europe/Berlin:20250914T163000
DTSTAMP:20260420T163231
CREATED:20240514T164846Z
LAST-MODIFIED:20241218T143322Z
UID:10000277-1757860200-1757867400@hospizverein-bramsche.de
SUMMARY:Trostbank Friedhof Lindenstraße
DESCRIPTION:
URL:https://hospizverein-bramsche.de/event/trostbank-friedhof-lindenstrasse/2025-09-14/
LOCATION:Friedhof Lindenstraße
END:VEVENT
BEGIN:VEVENT
DTSTART;TZID=Europe/Berlin:20250915T160000
DTEND;TZID=Europe/Berlin:20250915T180000
DTSTAMP:20260420T163231
CREATED:20240514T165227Z
LAST-MODIFIED:20241218T143442Z
UID:10000408-1757952000-1757959200@hospizverein-bramsche.de
SUMMARY:Trostbank Friedwald Bramsche
DESCRIPTION:
URL:https://hospizverein-bramsche.de/event/trostbank-friedwald-bramsche/2025-09-15/
LOCATION:Friedwald Bramsche
END:VEVENT
BEGIN:VEVENT
DTSTART;TZID=Europe/Berlin:20250917T150000
DTEND;TZID=Europe/Berlin:20250917T170000
DTSTAMP:20260420T163231
CREATED:20241218T143731Z
LAST-MODIFIED:20241219T171346Z
UID:10000588-1758121200-1758128400@hospizverein-bramsche.de
SUMMARY:Bürozeiten
DESCRIPTION:
URL:https://hospizverein-bramsche.de/event/buerozeiten/2025-09-17/
LOCATION:Hopizbüro\, Münsterstrasse 16\, Bramsche\, Niedersachsen\, 49565\, Deutschland
END:VEVENT
BEGIN:VEVENT
DTSTART;TZID=Europe/Berlin:20250918T143000
DTEND;TZID=Europe/Berlin:20250918T163000
DTSTAMP:20260420T163231
CREATED:20240514T162809Z
LAST-MODIFIED:20260106T111718Z
UID:10001447-1758205800-1758213000@hospizverein-bramsche.de
SUMMARY:Trostbank Friedhof Malgarten
DESCRIPTION:
URL:https://hospizverein-bramsche.de/event/trostbank-friedhof-malgarten/2025-09-18/
LOCATION:Friedhof Malgarten
END:VEVENT
BEGIN:VEVENT
DTSTART;TZID=Europe/Berlin:20250918T143000
DTEND;TZID=Europe/Berlin:20250918T163000
DTSTAMP:20260420T163231
CREATED:20250812T114952Z
LAST-MODIFIED:20250812T115036Z
UID:10001182-1758205800-1758213000@hospizverein-bramsche.de
SUMMARY:Trostbank Osnabrücker Straße
DESCRIPTION:
URL:https://hospizverein-bramsche.de/event/trostbank-osnabruecker-strasse-2/2025-09-18/
LOCATION:Friedhof Osnabrücker Straße
END:VEVENT
BEGIN:VEVENT
DTSTART;TZID=Europe/Berlin:20250919T100000
DTEND;TZID=Europe/Berlin:20250919T120000
DTSTAMP:20260420T163231
CREATED:20241218T143911Z
LAST-MODIFIED:20241219T171401Z
UID:10000877-1758276000-1758283200@hospizverein-bramsche.de
SUMMARY:Bürozeiten
DESCRIPTION:
URL:https://hospizverein-bramsche.de/event/buerozeiten-2/2025-09-19/
LOCATION:Hopizbüro\, Münsterstrasse 16\, Bramsche\, Niedersachsen\, 49565\, Deutschland
END:VEVENT
BEGIN:VEVENT
DTSTART;TZID=Europe/Berlin:20250924T150000
DTEND;TZID=Europe/Berlin:20250924T170000
DTSTAMP:20260420T163231
CREATED:20241218T143731Z
LAST-MODIFIED:20241219T171346Z
UID:10000589-1758726000-1758733200@hospizverein-bramsche.de
SUMMARY:Bürozeiten
DESCRIPTION:
URL:https://hospizverein-bramsche.de/event/buerozeiten/2025-09-24/
LOCATION:Hopizbüro\, Münsterstrasse 16\, Bramsche\, Niedersachsen\, 49565\, Deutschland
END:VEVENT
BEGIN:VEVENT
DTSTART;TZID=Europe/Berlin:20250926T100000
DTEND;TZID=Europe/Berlin:20250926T120000
DTSTAMP:20260420T163231
CREATED:20241218T143911Z
LAST-MODIFIED:20241219T171401Z
UID:10000878-1758880800-1758888000@hospizverein-bramsche.de
SUMMARY:Bürozeiten
DESCRIPTION:
URL:https://hospizverein-bramsche.de/event/buerozeiten-2/2025-09-26/
LOCATION:Hopizbüro\, Münsterstrasse 16\, Bramsche\, Niedersachsen\, 49565\, Deutschland
END:VEVENT
END:VCALENDAR