BEGIN:VCALENDAR
VERSION:2.0
PRODID:-//Hospizverein Bramsche - ECPv6.15.16//NONSGML v1.0//EN
CALSCALE:GREGORIAN
METHOD:PUBLISH
X-ORIGINAL-URL:https://hospizverein-bramsche.de
X-WR-CALDESC:Veranstaltungen für Hospizverein Bramsche
REFRESH-INTERVAL;VALUE=DURATION:PT1H
X-Robots-Tag:noindex
X-PUBLISHED-TTL:PT1H
BEGIN:VTIMEZONE
TZID:Europe/Berlin
BEGIN:DAYLIGHT
TZOFFSETFROM:+0100
TZOFFSETTO:+0200
TZNAME:CEST
DTSTART:20260329T010000
END:DAYLIGHT
BEGIN:STANDARD
TZOFFSETFROM:+0200
TZOFFSETTO:+0100
TZNAME:CET
DTSTART:20261025T010000
END:STANDARD
BEGIN:DAYLIGHT
TZOFFSETFROM:+0100
TZOFFSETTO:+0200
TZNAME:CEST
DTSTART:20270328T010000
END:DAYLIGHT
BEGIN:STANDARD
TZOFFSETFROM:+0200
TZOFFSETTO:+0100
TZNAME:CET
DTSTART:20271031T010000
END:STANDARD
BEGIN:DAYLIGHT
TZOFFSETFROM:+0100
TZOFFSETTO:+0200
TZNAME:CEST
DTSTART:20280326T010000
END:DAYLIGHT
BEGIN:STANDARD
TZOFFSETFROM:+0200
TZOFFSETTO:+0100
TZNAME:CET
DTSTART:20281029T010000
END:STANDARD
END:VTIMEZONE
BEGIN:VEVENT
DTSTART;TZID=Europe/Berlin:20270802T150000
DTEND;TZID=Europe/Berlin:20270802T170000
DTSTAMP:20260423T005946
CREATED:20241218T141550Z
LAST-MODIFIED:20241218T143113Z
UID:10000093-1817218800-1817226000@hospizverein-bramsche.de
SUMMARY:Gesprächskreis für Trauernde
DESCRIPTION:
URL:https://hospizverein-bramsche.de/event/gespraechskreis-fuer-trauernde-6-copy/2027-08-02/
LOCATION:Hopizbüro\, Münsterstrasse 16\, Bramsche\, Niedersachsen\, 49565\, Deutschland
END:VEVENT
BEGIN:VEVENT
DTSTART;TZID=Europe/Berlin:20270804T150000
DTEND;TZID=Europe/Berlin:20270804T170000
DTSTAMP:20260423T005946
CREATED:20241218T143731Z
LAST-MODIFIED:20241219T171346Z
UID:10000686-1817391600-1817398800@hospizverein-bramsche.de
SUMMARY:Bürozeiten
DESCRIPTION:
URL:https://hospizverein-bramsche.de/event/buerozeiten/2027-08-04/
LOCATION:Hopizbüro\, Münsterstrasse 16\, Bramsche\, Niedersachsen\, 49565\, Deutschland
END:VEVENT
BEGIN:VEVENT
DTSTART;TZID=Europe/Berlin:20270804T160000
DTEND;TZID=Europe/Berlin:20270804T173000
DTSTAMP:20260423T005946
CREATED:20240514T133036Z
LAST-MODIFIED:20241219T171135Z
UID:10000234-1817395200-1817400600@hospizverein-bramsche.de
SUMMARY:Hospizcafe
DESCRIPTION:
URL:https://hospizverein-bramsche.de/event/hospizcafe/2027-08-04/
LOCATION:Hopizbüro\, Münsterstrasse 16\, Bramsche\, Niedersachsen\, 49565\, Deutschland
END:VEVENT
BEGIN:VEVENT
DTSTART;TZID=Europe/Berlin:20270806T100000
DTEND;TZID=Europe/Berlin:20270806T120000
DTSTAMP:20260423T005946
CREATED:20241218T143911Z
LAST-MODIFIED:20241219T171401Z
UID:10000975-1817546400-1817553600@hospizverein-bramsche.de
SUMMARY:Bürozeiten
DESCRIPTION:
URL:https://hospizverein-bramsche.de/event/buerozeiten-2/2027-08-06/
LOCATION:Hopizbüro\, Münsterstrasse 16\, Bramsche\, Niedersachsen\, 49565\, Deutschland
END:VEVENT
BEGIN:VEVENT
DTSTART;TZID=Europe/Berlin:20270808T143000
DTEND;TZID=Europe/Berlin:20270808T163000
DTSTAMP:20260423T005946
CREATED:20240514T164846Z
LAST-MODIFIED:20241218T143322Z
UID:10000300-1817735400-1817742600@hospizverein-bramsche.de
SUMMARY:Trostbank Friedhof Lindenstraße
DESCRIPTION:
URL:https://hospizverein-bramsche.de/event/trostbank-friedhof-lindenstrasse/2027-08-08/
LOCATION:Friedhof Lindenstraße
END:VEVENT
BEGIN:VEVENT
DTSTART;TZID=Europe/Berlin:20270811T150000
DTEND;TZID=Europe/Berlin:20270811T170000
DTSTAMP:20260423T005946
CREATED:20241218T143731Z
LAST-MODIFIED:20241219T171346Z
UID:10000687-1817996400-1818003600@hospizverein-bramsche.de
SUMMARY:Bürozeiten
DESCRIPTION:
URL:https://hospizverein-bramsche.de/event/buerozeiten/2027-08-11/
LOCATION:Hopizbüro\, Münsterstrasse 16\, Bramsche\, Niedersachsen\, 49565\, Deutschland
END:VEVENT
BEGIN:VEVENT
DTSTART;TZID=Europe/Berlin:20270811T180000
DTEND;TZID=Europe/Berlin:20270811T203000
DTSTAMP:20260423T005946
CREATED:20240606T164438Z
LAST-MODIFIED:20241218T143553Z
UID:10000496-1818007200-1818016200@hospizverein-bramsche.de
SUMMARY:Begleitertreffen
DESCRIPTION:
URL:https://hospizverein-bramsche.de/event/begleitertreffen/2027-08-11/
LOCATION:Hopizbüro\, Münsterstrasse 16\, Bramsche\, Niedersachsen\, 49565\, Deutschland
END:VEVENT
BEGIN:VEVENT
DTSTART;TZID=Europe/Berlin:20270813T100000
DTEND;TZID=Europe/Berlin:20270813T120000
DTSTAMP:20260423T005946
CREATED:20241218T143911Z
LAST-MODIFIED:20241219T171401Z
UID:10000976-1818151200-1818158400@hospizverein-bramsche.de
SUMMARY:Bürozeiten
DESCRIPTION:
URL:https://hospizverein-bramsche.de/event/buerozeiten-2/2027-08-13/
LOCATION:Hopizbüro\, Münsterstrasse 16\, Bramsche\, Niedersachsen\, 49565\, Deutschland
END:VEVENT
BEGIN:VEVENT
DTSTART;TZID=Europe/Berlin:20270818T150000
DTEND;TZID=Europe/Berlin:20270818T170000
DTSTAMP:20260423T005946
CREATED:20241218T143731Z
LAST-MODIFIED:20241219T171346Z
UID:10000688-1818601200-1818608400@hospizverein-bramsche.de
SUMMARY:Bürozeiten
DESCRIPTION:
URL:https://hospizverein-bramsche.de/event/buerozeiten/2027-08-18/
LOCATION:Hopizbüro\, Münsterstrasse 16\, Bramsche\, Niedersachsen\, 49565\, Deutschland
END:VEVENT
BEGIN:VEVENT
DTSTART;TZID=Europe/Berlin:20270819T143000
DTEND;TZID=Europe/Berlin:20270819T163000
DTSTAMP:20260423T005946
CREATED:20240514T162809Z
LAST-MODIFIED:20260106T111718Z
UID:10001470-1818685800-1818693000@hospizverein-bramsche.de
SUMMARY:Trostbank Friedhof Malgarten
DESCRIPTION:
URL:https://hospizverein-bramsche.de/event/trostbank-friedhof-malgarten/2027-08-19/
LOCATION:Friedhof Malgarten
END:VEVENT
BEGIN:VEVENT
DTSTART;TZID=Europe/Berlin:20270819T143000
DTEND;TZID=Europe/Berlin:20270819T163000
DTSTAMP:20260423T005946
CREATED:20250812T114952Z
LAST-MODIFIED:20250812T115036Z
UID:10001205-1818685800-1818693000@hospizverein-bramsche.de
SUMMARY:Trostbank Osnabrücker Straße
DESCRIPTION:
URL:https://hospizverein-bramsche.de/event/trostbank-osnabruecker-strasse-2/2027-08-19/
LOCATION:Friedhof Osnabrücker Straße
END:VEVENT
BEGIN:VEVENT
DTSTART;TZID=Europe/Berlin:20270820T100000
DTEND;TZID=Europe/Berlin:20270820T120000
DTSTAMP:20260423T005946
CREATED:20241218T143911Z
LAST-MODIFIED:20241219T171401Z
UID:10000977-1818756000-1818763200@hospizverein-bramsche.de
SUMMARY:Bürozeiten
DESCRIPTION:
URL:https://hospizverein-bramsche.de/event/buerozeiten-2/2027-08-20/
LOCATION:Hopizbüro\, Münsterstrasse 16\, Bramsche\, Niedersachsen\, 49565\, Deutschland
END:VEVENT
BEGIN:VEVENT
DTSTART;TZID=Europe/Berlin:20270825T150000
DTEND;TZID=Europe/Berlin:20270825T170000
DTSTAMP:20260423T005946
CREATED:20241218T143731Z
LAST-MODIFIED:20241219T171346Z
UID:10000689-1819206000-1819213200@hospizverein-bramsche.de
SUMMARY:Bürozeiten
DESCRIPTION:
URL:https://hospizverein-bramsche.de/event/buerozeiten/2027-08-25/
LOCATION:Hopizbüro\, Münsterstrasse 16\, Bramsche\, Niedersachsen\, 49565\, Deutschland
END:VEVENT
BEGIN:VEVENT
DTSTART;TZID=Europe/Berlin:20270827T100000
DTEND;TZID=Europe/Berlin:20270827T120000
DTSTAMP:20260423T005946
CREATED:20241218T143911Z
LAST-MODIFIED:20241219T171401Z
UID:10000978-1819360800-1819368000@hospizverein-bramsche.de
SUMMARY:Bürozeiten
DESCRIPTION:
URL:https://hospizverein-bramsche.de/event/buerozeiten-2/2027-08-27/
LOCATION:Hopizbüro\, Münsterstrasse 16\, Bramsche\, Niedersachsen\, 49565\, Deutschland
END:VEVENT
BEGIN:VEVENT
DTSTART;TZID=Europe/Berlin:20270827T143000
DTEND;TZID=Europe/Berlin:20270827T163000
DTSTAMP:20260423T005946
CREATED:20250915T122852Z
LAST-MODIFIED:20260106T111609Z
UID:10001391-1819377000-1819384200@hospizverein-bramsche.de
SUMMARY:Trostbank Friedwald Bramsche
DESCRIPTION:
URL:https://hospizverein-bramsche.de/event/trostbank-friedwald-bramsche-2/2027-08-27/
LOCATION:Friedwald Bramsche
END:VEVENT
END:VCALENDAR