BEGIN:VCALENDAR
VERSION:2.0
PRODID:-//Hospizverein Bramsche - ECPv6.15.16//NONSGML v1.0//EN
CALSCALE:GREGORIAN
METHOD:PUBLISH
X-WR-CALNAME:Hospizverein Bramsche
X-ORIGINAL-URL:https://hospizverein-bramsche.de
X-WR-CALDESC:Veranstaltungen für Hospizverein Bramsche
REFRESH-INTERVAL;VALUE=DURATION:PT1H
X-Robots-Tag:noindex
X-PUBLISHED-TTL:PT1H
BEGIN:VTIMEZONE
TZID:Europe/Berlin
BEGIN:DAYLIGHT
TZOFFSETFROM:+0100
TZOFFSETTO:+0200
TZNAME:CEST
DTSTART:20260329T010000
END:DAYLIGHT
BEGIN:STANDARD
TZOFFSETFROM:+0200
TZOFFSETTO:+0100
TZNAME:CET
DTSTART:20261025T010000
END:STANDARD
BEGIN:DAYLIGHT
TZOFFSETFROM:+0100
TZOFFSETTO:+0200
TZNAME:CEST
DTSTART:20270328T010000
END:DAYLIGHT
BEGIN:STANDARD
TZOFFSETFROM:+0200
TZOFFSETTO:+0100
TZNAME:CET
DTSTART:20271031T010000
END:STANDARD
BEGIN:DAYLIGHT
TZOFFSETFROM:+0100
TZOFFSETTO:+0200
TZNAME:CEST
DTSTART:20280326T010000
END:DAYLIGHT
BEGIN:STANDARD
TZOFFSETFROM:+0200
TZOFFSETTO:+0100
TZNAME:CET
DTSTART:20281029T010000
END:STANDARD
END:VTIMEZONE
BEGIN:VEVENT
DTSTART;TZID=Europe/Berlin:20270901T150000
DTEND;TZID=Europe/Berlin:20270901T170000
DTSTAMP:20260423T021442
CREATED:20241218T143731Z
LAST-MODIFIED:20241219T171346Z
UID:10000690-1819810800-1819818000@hospizverein-bramsche.de
SUMMARY:Bürozeiten
DESCRIPTION:
URL:https://hospizverein-bramsche.de/event/buerozeiten/2027-09-01/
LOCATION:Hopizbüro\, Münsterstrasse 16\, Bramsche\, Niedersachsen\, 49565\, Deutschland
END:VEVENT
BEGIN:VEVENT
DTSTART;TZID=Europe/Berlin:20270901T160000
DTEND;TZID=Europe/Berlin:20270901T173000
DTSTAMP:20260423T021442
CREATED:20240514T133036Z
LAST-MODIFIED:20241219T171135Z
UID:10000235-1819814400-1819819800@hospizverein-bramsche.de
SUMMARY:Hospizcafe
DESCRIPTION:
URL:https://hospizverein-bramsche.de/event/hospizcafe/2027-09-01/
LOCATION:Hopizbüro\, Münsterstrasse 16\, Bramsche\, Niedersachsen\, 49565\, Deutschland
END:VEVENT
BEGIN:VEVENT
DTSTART;TZID=Europe/Berlin:20270903T100000
DTEND;TZID=Europe/Berlin:20270903T120000
DTSTAMP:20260423T021442
CREATED:20241218T143911Z
LAST-MODIFIED:20241219T171401Z
UID:10000979-1819965600-1819972800@hospizverein-bramsche.de
SUMMARY:Bürozeiten
DESCRIPTION:
URL:https://hospizverein-bramsche.de/event/buerozeiten-2/2027-09-03/
LOCATION:Hopizbüro\, Münsterstrasse 16\, Bramsche\, Niedersachsen\, 49565\, Deutschland
END:VEVENT
BEGIN:VEVENT
DTSTART;TZID=Europe/Berlin:20270906T150000
DTEND;TZID=Europe/Berlin:20270906T170000
DTSTAMP:20260423T021442
CREATED:20241218T141550Z
LAST-MODIFIED:20241218T143113Z
UID:10000094-1820242800-1820250000@hospizverein-bramsche.de
SUMMARY:Gesprächskreis für Trauernde
DESCRIPTION:
URL:https://hospizverein-bramsche.de/event/gespraechskreis-fuer-trauernde-6-copy/2027-09-06/
LOCATION:Hopizbüro\, Münsterstrasse 16\, Bramsche\, Niedersachsen\, 49565\, Deutschland
END:VEVENT
BEGIN:VEVENT
DTSTART;TZID=Europe/Berlin:20270908T150000
DTEND;TZID=Europe/Berlin:20270908T170000
DTSTAMP:20260423T021442
CREATED:20241218T143731Z
LAST-MODIFIED:20241219T171346Z
UID:10000691-1820415600-1820422800@hospizverein-bramsche.de
SUMMARY:Bürozeiten
DESCRIPTION:
URL:https://hospizverein-bramsche.de/event/buerozeiten/2027-09-08/
LOCATION:Hopizbüro\, Münsterstrasse 16\, Bramsche\, Niedersachsen\, 49565\, Deutschland
END:VEVENT
BEGIN:VEVENT
DTSTART;TZID=Europe/Berlin:20270908T180000
DTEND;TZID=Europe/Berlin:20270908T203000
DTSTAMP:20260423T021442
CREATED:20240606T164438Z
LAST-MODIFIED:20241218T143553Z
UID:10000497-1820426400-1820435400@hospizverein-bramsche.de
SUMMARY:Begleitertreffen
DESCRIPTION:
URL:https://hospizverein-bramsche.de/event/begleitertreffen/2027-09-08/
LOCATION:Hopizbüro\, Münsterstrasse 16\, Bramsche\, Niedersachsen\, 49565\, Deutschland
END:VEVENT
BEGIN:VEVENT
DTSTART;TZID=Europe/Berlin:20270910T100000
DTEND;TZID=Europe/Berlin:20270910T120000
DTSTAMP:20260423T021442
CREATED:20241218T143911Z
LAST-MODIFIED:20241219T171401Z
UID:10000980-1820570400-1820577600@hospizverein-bramsche.de
SUMMARY:Bürozeiten
DESCRIPTION:
URL:https://hospizverein-bramsche.de/event/buerozeiten-2/2027-09-10/
LOCATION:Hopizbüro\, Münsterstrasse 16\, Bramsche\, Niedersachsen\, 49565\, Deutschland
END:VEVENT
BEGIN:VEVENT
DTSTART;TZID=Europe/Berlin:20270912T143000
DTEND;TZID=Europe/Berlin:20270912T163000
DTSTAMP:20260423T021442
CREATED:20240514T164846Z
LAST-MODIFIED:20241218T143322Z
UID:10000301-1820759400-1820766600@hospizverein-bramsche.de
SUMMARY:Trostbank Friedhof Lindenstraße
DESCRIPTION:
URL:https://hospizverein-bramsche.de/event/trostbank-friedhof-lindenstrasse/2027-09-12/
LOCATION:Friedhof Lindenstraße
END:VEVENT
BEGIN:VEVENT
DTSTART;TZID=Europe/Berlin:20270915T150000
DTEND;TZID=Europe/Berlin:20270915T170000
DTSTAMP:20260423T021442
CREATED:20241218T143731Z
LAST-MODIFIED:20241219T171346Z
UID:10000692-1821020400-1821027600@hospizverein-bramsche.de
SUMMARY:Bürozeiten
DESCRIPTION:
URL:https://hospizverein-bramsche.de/event/buerozeiten/2027-09-15/
LOCATION:Hopizbüro\, Münsterstrasse 16\, Bramsche\, Niedersachsen\, 49565\, Deutschland
END:VEVENT
BEGIN:VEVENT
DTSTART;TZID=Europe/Berlin:20270916T143000
DTEND;TZID=Europe/Berlin:20270916T163000
DTSTAMP:20260423T021442
CREATED:20240514T162809Z
LAST-MODIFIED:20260106T111718Z
UID:10001471-1821105000-1821112200@hospizverein-bramsche.de
SUMMARY:Trostbank Friedhof Malgarten
DESCRIPTION:
URL:https://hospizverein-bramsche.de/event/trostbank-friedhof-malgarten/2027-09-16/
LOCATION:Friedhof Malgarten
END:VEVENT
BEGIN:VEVENT
DTSTART;TZID=Europe/Berlin:20270916T143000
DTEND;TZID=Europe/Berlin:20270916T163000
DTSTAMP:20260423T021442
CREATED:20250812T114952Z
LAST-MODIFIED:20250812T115036Z
UID:10001206-1821105000-1821112200@hospizverein-bramsche.de
SUMMARY:Trostbank Osnabrücker Straße
DESCRIPTION:
URL:https://hospizverein-bramsche.de/event/trostbank-osnabruecker-strasse-2/2027-09-16/
LOCATION:Friedhof Osnabrücker Straße
END:VEVENT
BEGIN:VEVENT
DTSTART;TZID=Europe/Berlin:20270917T100000
DTEND;TZID=Europe/Berlin:20270917T120000
DTSTAMP:20260423T021442
CREATED:20241218T143911Z
LAST-MODIFIED:20241219T171401Z
UID:10000981-1821175200-1821182400@hospizverein-bramsche.de
SUMMARY:Bürozeiten
DESCRIPTION:
URL:https://hospizverein-bramsche.de/event/buerozeiten-2/2027-09-17/
LOCATION:Hopizbüro\, Münsterstrasse 16\, Bramsche\, Niedersachsen\, 49565\, Deutschland
END:VEVENT
BEGIN:VEVENT
DTSTART;TZID=Europe/Berlin:20270922T150000
DTEND;TZID=Europe/Berlin:20270922T170000
DTSTAMP:20260423T021442
CREATED:20241218T143731Z
LAST-MODIFIED:20241219T171346Z
UID:10000693-1821625200-1821632400@hospizverein-bramsche.de
SUMMARY:Bürozeiten
DESCRIPTION:
URL:https://hospizverein-bramsche.de/event/buerozeiten/2027-09-22/
LOCATION:Hopizbüro\, Münsterstrasse 16\, Bramsche\, Niedersachsen\, 49565\, Deutschland
END:VEVENT
BEGIN:VEVENT
DTSTART;TZID=Europe/Berlin:20270924T100000
DTEND;TZID=Europe/Berlin:20270924T120000
DTSTAMP:20260423T021442
CREATED:20241218T143911Z
LAST-MODIFIED:20241219T171401Z
UID:10000982-1821780000-1821787200@hospizverein-bramsche.de
SUMMARY:Bürozeiten
DESCRIPTION:
URL:https://hospizverein-bramsche.de/event/buerozeiten-2/2027-09-24/
LOCATION:Hopizbüro\, Münsterstrasse 16\, Bramsche\, Niedersachsen\, 49565\, Deutschland
END:VEVENT
BEGIN:VEVENT
DTSTART;TZID=Europe/Berlin:20270924T143000
DTEND;TZID=Europe/Berlin:20270924T163000
DTSTAMP:20260423T021442
CREATED:20250915T122852Z
LAST-MODIFIED:20260106T111609Z
UID:10001392-1821796200-1821803400@hospizverein-bramsche.de
SUMMARY:Trostbank Friedwald Bramsche
DESCRIPTION:
URL:https://hospizverein-bramsche.de/event/trostbank-friedwald-bramsche-2/2027-09-24/
LOCATION:Friedwald Bramsche
END:VEVENT
BEGIN:VEVENT
DTSTART;TZID=Europe/Berlin:20270929T150000
DTEND;TZID=Europe/Berlin:20270929T170000
DTSTAMP:20260423T021442
CREATED:20241218T143731Z
LAST-MODIFIED:20241219T171346Z
UID:10000694-1822230000-1822237200@hospizverein-bramsche.de
SUMMARY:Bürozeiten
DESCRIPTION:
URL:https://hospizverein-bramsche.de/event/buerozeiten/2027-09-29/
LOCATION:Hopizbüro\, Münsterstrasse 16\, Bramsche\, Niedersachsen\, 49565\, Deutschland
END:VEVENT
END:VCALENDAR