BEGIN:VCALENDAR
VERSION:2.0
PRODID:-//Hospizverein Bramsche - ECPv6.15.16//NONSGML v1.0//EN
CALSCALE:GREGORIAN
METHOD:PUBLISH
X-WR-CALNAME:Hospizverein Bramsche
X-ORIGINAL-URL:https://hospizverein-bramsche.de
X-WR-CALDESC:Veranstaltungen für Hospizverein Bramsche
REFRESH-INTERVAL;VALUE=DURATION:PT1H
X-Robots-Tag:noindex
X-PUBLISHED-TTL:PT1H
BEGIN:VTIMEZONE
TZID:Europe/Berlin
BEGIN:DAYLIGHT
TZOFFSETFROM:+0100
TZOFFSETTO:+0200
TZNAME:CEST
DTSTART:20260329T010000
END:DAYLIGHT
BEGIN:STANDARD
TZOFFSETFROM:+0200
TZOFFSETTO:+0100
TZNAME:CET
DTSTART:20261025T010000
END:STANDARD
BEGIN:DAYLIGHT
TZOFFSETFROM:+0100
TZOFFSETTO:+0200
TZNAME:CEST
DTSTART:20270328T010000
END:DAYLIGHT
BEGIN:STANDARD
TZOFFSETFROM:+0200
TZOFFSETTO:+0100
TZNAME:CET
DTSTART:20271031T010000
END:STANDARD
BEGIN:DAYLIGHT
TZOFFSETFROM:+0100
TZOFFSETTO:+0200
TZNAME:CEST
DTSTART:20280326T010000
END:DAYLIGHT
BEGIN:STANDARD
TZOFFSETFROM:+0200
TZOFFSETTO:+0100
TZNAME:CET
DTSTART:20281029T010000
END:STANDARD
END:VTIMEZONE
BEGIN:VEVENT
DTSTART;TZID=Europe/Berlin:20271201T150000
DTEND;TZID=Europe/Berlin:20271201T170000
DTSTAMP:20260423T062007
CREATED:20241218T143731Z
LAST-MODIFIED:20241219T171346Z
UID:10000703-1827673200-1827680400@hospizverein-bramsche.de
SUMMARY:Bürozeiten
DESCRIPTION:
URL:https://hospizverein-bramsche.de/event/buerozeiten/2027-12-01/
LOCATION:Hopizbüro\, Münsterstrasse 16\, Bramsche\, Niedersachsen\, 49565\, Deutschland
END:VEVENT
BEGIN:VEVENT
DTSTART;TZID=Europe/Berlin:20271201T160000
DTEND;TZID=Europe/Berlin:20271201T173000
DTSTAMP:20260423T062007
CREATED:20240514T133036Z
LAST-MODIFIED:20241219T171135Z
UID:10000238-1827676800-1827682200@hospizverein-bramsche.de
SUMMARY:Hospizcafe
DESCRIPTION:
URL:https://hospizverein-bramsche.de/event/hospizcafe/2027-12-01/
LOCATION:Hopizbüro\, Münsterstrasse 16\, Bramsche\, Niedersachsen\, 49565\, Deutschland
END:VEVENT
BEGIN:VEVENT
DTSTART;TZID=Europe/Berlin:20271203T100000
DTEND;TZID=Europe/Berlin:20271203T120000
DTSTAMP:20260423T062007
CREATED:20241218T143911Z
LAST-MODIFIED:20241219T171401Z
UID:10000992-1827828000-1827835200@hospizverein-bramsche.de
SUMMARY:Bürozeiten
DESCRIPTION:
URL:https://hospizverein-bramsche.de/event/buerozeiten-2/2027-12-03/
LOCATION:Hopizbüro\, Münsterstrasse 16\, Bramsche\, Niedersachsen\, 49565\, Deutschland
END:VEVENT
BEGIN:VEVENT
DTSTART;TZID=Europe/Berlin:20271206T150000
DTEND;TZID=Europe/Berlin:20271206T170000
DTSTAMP:20260423T062007
CREATED:20241218T141550Z
LAST-MODIFIED:20241218T143113Z
UID:10000097-1828105200-1828112400@hospizverein-bramsche.de
SUMMARY:Gesprächskreis für Trauernde
DESCRIPTION:
URL:https://hospizverein-bramsche.de/event/gespraechskreis-fuer-trauernde-6-copy/2027-12-06/
LOCATION:Hopizbüro\, Münsterstrasse 16\, Bramsche\, Niedersachsen\, 49565\, Deutschland
END:VEVENT
BEGIN:VEVENT
DTSTART;TZID=Europe/Berlin:20271208T150000
DTEND;TZID=Europe/Berlin:20271208T170000
DTSTAMP:20260423T062007
CREATED:20241218T143731Z
LAST-MODIFIED:20241219T171346Z
UID:10000704-1828278000-1828285200@hospizverein-bramsche.de
SUMMARY:Bürozeiten
DESCRIPTION:
URL:https://hospizverein-bramsche.de/event/buerozeiten/2027-12-08/
LOCATION:Hopizbüro\, Münsterstrasse 16\, Bramsche\, Niedersachsen\, 49565\, Deutschland
END:VEVENT
BEGIN:VEVENT
DTSTART;TZID=Europe/Berlin:20271208T180000
DTEND;TZID=Europe/Berlin:20271208T203000
DTSTAMP:20260423T062007
CREATED:20240606T164438Z
LAST-MODIFIED:20241218T143553Z
UID:10000500-1828288800-1828297800@hospizverein-bramsche.de
SUMMARY:Begleitertreffen
DESCRIPTION:
URL:https://hospizverein-bramsche.de/event/begleitertreffen/2027-12-08/
LOCATION:Hopizbüro\, Münsterstrasse 16\, Bramsche\, Niedersachsen\, 49565\, Deutschland
END:VEVENT
BEGIN:VEVENT
DTSTART;TZID=Europe/Berlin:20271210T100000
DTEND;TZID=Europe/Berlin:20271210T120000
DTSTAMP:20260423T062007
CREATED:20241218T143911Z
LAST-MODIFIED:20241219T171401Z
UID:10000993-1828432800-1828440000@hospizverein-bramsche.de
SUMMARY:Bürozeiten
DESCRIPTION:
URL:https://hospizverein-bramsche.de/event/buerozeiten-2/2027-12-10/
LOCATION:Hopizbüro\, Münsterstrasse 16\, Bramsche\, Niedersachsen\, 49565\, Deutschland
END:VEVENT
BEGIN:VEVENT
DTSTART;TZID=Europe/Berlin:20271212T143000
DTEND;TZID=Europe/Berlin:20271212T163000
DTSTAMP:20260423T062007
CREATED:20240514T164846Z
LAST-MODIFIED:20241218T143322Z
UID:10000304-1828621800-1828629000@hospizverein-bramsche.de
SUMMARY:Trostbank Friedhof Lindenstraße
DESCRIPTION:
URL:https://hospizverein-bramsche.de/event/trostbank-friedhof-lindenstrasse/2027-12-12/
LOCATION:Friedhof Lindenstraße
END:VEVENT
BEGIN:VEVENT
DTSTART;TZID=Europe/Berlin:20271215T150000
DTEND;TZID=Europe/Berlin:20271215T170000
DTSTAMP:20260423T062007
CREATED:20241218T143731Z
LAST-MODIFIED:20241219T171346Z
UID:10000705-1828882800-1828890000@hospizverein-bramsche.de
SUMMARY:Bürozeiten
DESCRIPTION:
URL:https://hospizverein-bramsche.de/event/buerozeiten/2027-12-15/
LOCATION:Hopizbüro\, Münsterstrasse 16\, Bramsche\, Niedersachsen\, 49565\, Deutschland
END:VEVENT
BEGIN:VEVENT
DTSTART;TZID=Europe/Berlin:20271216T143000
DTEND;TZID=Europe/Berlin:20271216T163000
DTSTAMP:20260423T062007
CREATED:20240514T162809Z
LAST-MODIFIED:20260106T111718Z
UID:10001474-1828967400-1828974600@hospizverein-bramsche.de
SUMMARY:Trostbank Friedhof Malgarten
DESCRIPTION:
URL:https://hospizverein-bramsche.de/event/trostbank-friedhof-malgarten/2027-12-16/
LOCATION:Friedhof Malgarten
END:VEVENT
BEGIN:VEVENT
DTSTART;TZID=Europe/Berlin:20271216T143000
DTEND;TZID=Europe/Berlin:20271216T163000
DTSTAMP:20260423T062007
CREATED:20250812T114952Z
LAST-MODIFIED:20250812T115036Z
UID:10001209-1828967400-1828974600@hospizverein-bramsche.de
SUMMARY:Trostbank Osnabrücker Straße
DESCRIPTION:
URL:https://hospizverein-bramsche.de/event/trostbank-osnabruecker-strasse-2/2027-12-16/
LOCATION:Friedhof Osnabrücker Straße
END:VEVENT
BEGIN:VEVENT
DTSTART;TZID=Europe/Berlin:20271217T100000
DTEND;TZID=Europe/Berlin:20271217T120000
DTSTAMP:20260423T062007
CREATED:20241218T143911Z
LAST-MODIFIED:20241219T171401Z
UID:10000994-1829037600-1829044800@hospizverein-bramsche.de
SUMMARY:Bürozeiten
DESCRIPTION:
URL:https://hospizverein-bramsche.de/event/buerozeiten-2/2027-12-17/
LOCATION:Hopizbüro\, Münsterstrasse 16\, Bramsche\, Niedersachsen\, 49565\, Deutschland
END:VEVENT
BEGIN:VEVENT
DTSTART;TZID=Europe/Berlin:20271222T150000
DTEND;TZID=Europe/Berlin:20271222T170000
DTSTAMP:20260423T062007
CREATED:20241218T143731Z
LAST-MODIFIED:20241219T171346Z
UID:10000706-1829487600-1829494800@hospizverein-bramsche.de
SUMMARY:Bürozeiten
DESCRIPTION:
URL:https://hospizverein-bramsche.de/event/buerozeiten/2027-12-22/
LOCATION:Hopizbüro\, Münsterstrasse 16\, Bramsche\, Niedersachsen\, 49565\, Deutschland
END:VEVENT
BEGIN:VEVENT
DTSTART;TZID=Europe/Berlin:20271224T100000
DTEND;TZID=Europe/Berlin:20271224T120000
DTSTAMP:20260423T062007
CREATED:20241218T143911Z
LAST-MODIFIED:20241219T171401Z
UID:10000995-1829642400-1829649600@hospizverein-bramsche.de
SUMMARY:Bürozeiten
DESCRIPTION:
URL:https://hospizverein-bramsche.de/event/buerozeiten-2/2027-12-24/
LOCATION:Hopizbüro\, Münsterstrasse 16\, Bramsche\, Niedersachsen\, 49565\, Deutschland
END:VEVENT
BEGIN:VEVENT
DTSTART;TZID=Europe/Berlin:20271224T143000
DTEND;TZID=Europe/Berlin:20271224T163000
DTSTAMP:20260423T062007
CREATED:20250915T122852Z
LAST-MODIFIED:20260106T111609Z
UID:10001395-1829658600-1829665800@hospizverein-bramsche.de
SUMMARY:Trostbank Friedwald Bramsche
DESCRIPTION:
URL:https://hospizverein-bramsche.de/event/trostbank-friedwald-bramsche-2/2027-12-24/
LOCATION:Friedwald Bramsche
END:VEVENT
BEGIN:VEVENT
DTSTART;TZID=Europe/Berlin:20271229T150000
DTEND;TZID=Europe/Berlin:20271229T170000
DTSTAMP:20260423T062007
CREATED:20241218T143731Z
LAST-MODIFIED:20241219T171346Z
UID:10000707-1830092400-1830099600@hospizverein-bramsche.de
SUMMARY:Bürozeiten
DESCRIPTION:
URL:https://hospizverein-bramsche.de/event/buerozeiten/2027-12-29/
LOCATION:Hopizbüro\, Münsterstrasse 16\, Bramsche\, Niedersachsen\, 49565\, Deutschland
END:VEVENT
BEGIN:VEVENT
DTSTART;TZID=Europe/Berlin:20271231T100000
DTEND;TZID=Europe/Berlin:20271231T120000
DTSTAMP:20260423T062007
CREATED:20241218T143911Z
LAST-MODIFIED:20241219T171401Z
UID:10000996-1830247200-1830254400@hospizverein-bramsche.de
SUMMARY:Bürozeiten
DESCRIPTION:
URL:https://hospizverein-bramsche.de/event/buerozeiten-2/2027-12-31/
LOCATION:Hopizbüro\, Münsterstrasse 16\, Bramsche\, Niedersachsen\, 49565\, Deutschland
END:VEVENT
END:VCALENDAR