BEGIN:VCALENDAR
VERSION:2.0
PRODID:-//Hospizverein Bramsche - ECPv6.15.16//NONSGML v1.0//EN
CALSCALE:GREGORIAN
METHOD:PUBLISH
X-ORIGINAL-URL:https://hospizverein-bramsche.de
X-WR-CALDESC:Veranstaltungen für Hospizverein Bramsche
REFRESH-INTERVAL;VALUE=DURATION:PT1H
X-Robots-Tag:noindex
X-PUBLISHED-TTL:PT1H
BEGIN:VTIMEZONE
TZID:Europe/Berlin
BEGIN:DAYLIGHT
TZOFFSETFROM:+0100
TZOFFSETTO:+0200
TZNAME:CEST
DTSTART:20270328T010000
END:DAYLIGHT
BEGIN:STANDARD
TZOFFSETFROM:+0200
TZOFFSETTO:+0100
TZNAME:CET
DTSTART:20271031T010000
END:STANDARD
BEGIN:DAYLIGHT
TZOFFSETFROM:+0100
TZOFFSETTO:+0200
TZNAME:CEST
DTSTART:20280326T010000
END:DAYLIGHT
BEGIN:STANDARD
TZOFFSETFROM:+0200
TZOFFSETTO:+0100
TZNAME:CET
DTSTART:20281029T010000
END:STANDARD
BEGIN:DAYLIGHT
TZOFFSETFROM:+0100
TZOFFSETTO:+0200
TZNAME:CEST
DTSTART:20290325T010000
END:DAYLIGHT
BEGIN:STANDARD
TZOFFSETFROM:+0200
TZOFFSETTO:+0100
TZNAME:CET
DTSTART:20291028T010000
END:STANDARD
END:VTIMEZONE
BEGIN:VEVENT
DTSTART;TZID=Europe/Berlin:20280403T150000
DTEND;TZID=Europe/Berlin:20280403T170000
DTSTAMP:20260423T121140
CREATED:20241218T141550Z
LAST-MODIFIED:20241218T143113Z
UID:10000101-1838386800-1838394000@hospizverein-bramsche.de
SUMMARY:Gesprächskreis für Trauernde
DESCRIPTION:
URL:https://hospizverein-bramsche.de/event/gespraechskreis-fuer-trauernde-6-copy/2028-04-03/
LOCATION:Hopizbüro\, Münsterstrasse 16\, Bramsche\, Niedersachsen\, 49565\, Deutschland
END:VEVENT
BEGIN:VEVENT
DTSTART;TZID=Europe/Berlin:20280405T150000
DTEND;TZID=Europe/Berlin:20280405T170000
DTSTAMP:20260423T121140
CREATED:20241218T143731Z
LAST-MODIFIED:20241219T171346Z
UID:10000721-1838559600-1838566800@hospizverein-bramsche.de
SUMMARY:Bürozeiten
DESCRIPTION:
URL:https://hospizverein-bramsche.de/event/buerozeiten/2028-04-05/
LOCATION:Hopizbüro\, Münsterstrasse 16\, Bramsche\, Niedersachsen\, 49565\, Deutschland
END:VEVENT
BEGIN:VEVENT
DTSTART;TZID=Europe/Berlin:20280405T160000
DTEND;TZID=Europe/Berlin:20280405T173000
DTSTAMP:20260423T121140
CREATED:20240514T133036Z
LAST-MODIFIED:20241219T171135Z
UID:10000242-1838563200-1838568600@hospizverein-bramsche.de
SUMMARY:Hospizcafe
DESCRIPTION:
URL:https://hospizverein-bramsche.de/event/hospizcafe/2028-04-05/
LOCATION:Hopizbüro\, Münsterstrasse 16\, Bramsche\, Niedersachsen\, 49565\, Deutschland
END:VEVENT
BEGIN:VEVENT
DTSTART;TZID=Europe/Berlin:20280407T100000
DTEND;TZID=Europe/Berlin:20280407T120000
DTSTAMP:20260423T121140
CREATED:20241218T143911Z
LAST-MODIFIED:20241219T171401Z
UID:10001010-1838714400-1838721600@hospizverein-bramsche.de
SUMMARY:Bürozeiten
DESCRIPTION:
URL:https://hospizverein-bramsche.de/event/buerozeiten-2/2028-04-07/
LOCATION:Hopizbüro\, Münsterstrasse 16\, Bramsche\, Niedersachsen\, 49565\, Deutschland
END:VEVENT
BEGIN:VEVENT
DTSTART;TZID=Europe/Berlin:20280409T143000
DTEND;TZID=Europe/Berlin:20280409T163000
DTSTAMP:20260423T121140
CREATED:20240514T164846Z
LAST-MODIFIED:20241218T143322Z
UID:10000308-1838903400-1838910600@hospizverein-bramsche.de
SUMMARY:Trostbank Friedhof Lindenstraße
DESCRIPTION:
URL:https://hospizverein-bramsche.de/event/trostbank-friedhof-lindenstrasse/2028-04-09/
LOCATION:Friedhof Lindenstraße
END:VEVENT
BEGIN:VEVENT
DTSTART;TZID=Europe/Berlin:20280412T150000
DTEND;TZID=Europe/Berlin:20280412T170000
DTSTAMP:20260423T121140
CREATED:20241218T143731Z
LAST-MODIFIED:20241219T171346Z
UID:10000722-1839164400-1839171600@hospizverein-bramsche.de
SUMMARY:Bürozeiten
DESCRIPTION:
URL:https://hospizverein-bramsche.de/event/buerozeiten/2028-04-12/
LOCATION:Hopizbüro\, Münsterstrasse 16\, Bramsche\, Niedersachsen\, 49565\, Deutschland
END:VEVENT
BEGIN:VEVENT
DTSTART;TZID=Europe/Berlin:20280412T180000
DTEND;TZID=Europe/Berlin:20280412T203000
DTSTAMP:20260423T121140
CREATED:20240606T164438Z
LAST-MODIFIED:20241218T143553Z
UID:10000504-1839175200-1839184200@hospizverein-bramsche.de
SUMMARY:Begleitertreffen
DESCRIPTION:
URL:https://hospizverein-bramsche.de/event/begleitertreffen/2028-04-12/
LOCATION:Hopizbüro\, Münsterstrasse 16\, Bramsche\, Niedersachsen\, 49565\, Deutschland
END:VEVENT
BEGIN:VEVENT
DTSTART;TZID=Europe/Berlin:20280414T100000
DTEND;TZID=Europe/Berlin:20280414T120000
DTSTAMP:20260423T121140
CREATED:20241218T143911Z
LAST-MODIFIED:20241219T171401Z
UID:10001011-1839319200-1839326400@hospizverein-bramsche.de
SUMMARY:Bürozeiten
DESCRIPTION:
URL:https://hospizverein-bramsche.de/event/buerozeiten-2/2028-04-14/
LOCATION:Hopizbüro\, Münsterstrasse 16\, Bramsche\, Niedersachsen\, 49565\, Deutschland
END:VEVENT
BEGIN:VEVENT
DTSTART;TZID=Europe/Berlin:20280419T150000
DTEND;TZID=Europe/Berlin:20280419T170000
DTSTAMP:20260423T121140
CREATED:20241218T143731Z
LAST-MODIFIED:20241219T171346Z
UID:10000723-1839769200-1839776400@hospizverein-bramsche.de
SUMMARY:Bürozeiten
DESCRIPTION:
URL:https://hospizverein-bramsche.de/event/buerozeiten/2028-04-19/
LOCATION:Hopizbüro\, Münsterstrasse 16\, Bramsche\, Niedersachsen\, 49565\, Deutschland
END:VEVENT
BEGIN:VEVENT
DTSTART;TZID=Europe/Berlin:20280420T143000
DTEND;TZID=Europe/Berlin:20280420T163000
DTSTAMP:20260423T121140
CREATED:20240514T162809Z
LAST-MODIFIED:20260106T111718Z
UID:10001478-1839853800-1839861000@hospizverein-bramsche.de
SUMMARY:Trostbank Friedhof Malgarten
DESCRIPTION:
URL:https://hospizverein-bramsche.de/event/trostbank-friedhof-malgarten/2028-04-20/
LOCATION:Friedhof Malgarten
END:VEVENT
BEGIN:VEVENT
DTSTART;TZID=Europe/Berlin:20280420T143000
DTEND;TZID=Europe/Berlin:20280420T163000
DTSTAMP:20260423T121140
CREATED:20250812T114952Z
LAST-MODIFIED:20250812T115036Z
UID:10001213-1839853800-1839861000@hospizverein-bramsche.de
SUMMARY:Trostbank Osnabrücker Straße
DESCRIPTION:
URL:https://hospizverein-bramsche.de/event/trostbank-osnabruecker-strasse-2/2028-04-20/
LOCATION:Friedhof Osnabrücker Straße
END:VEVENT
BEGIN:VEVENT
DTSTART;TZID=Europe/Berlin:20280421T100000
DTEND;TZID=Europe/Berlin:20280421T120000
DTSTAMP:20260423T121140
CREATED:20241218T143911Z
LAST-MODIFIED:20241219T171401Z
UID:10001012-1839924000-1839931200@hospizverein-bramsche.de
SUMMARY:Bürozeiten
DESCRIPTION:
URL:https://hospizverein-bramsche.de/event/buerozeiten-2/2028-04-21/
LOCATION:Hopizbüro\, Münsterstrasse 16\, Bramsche\, Niedersachsen\, 49565\, Deutschland
END:VEVENT
BEGIN:VEVENT
DTSTART;TZID=Europe/Berlin:20280426T150000
DTEND;TZID=Europe/Berlin:20280426T170000
DTSTAMP:20260423T121140
CREATED:20241218T143731Z
LAST-MODIFIED:20241219T171346Z
UID:10000724-1840374000-1840381200@hospizverein-bramsche.de
SUMMARY:Bürozeiten
DESCRIPTION:
URL:https://hospizverein-bramsche.de/event/buerozeiten/2028-04-26/
LOCATION:Hopizbüro\, Münsterstrasse 16\, Bramsche\, Niedersachsen\, 49565\, Deutschland
END:VEVENT
BEGIN:VEVENT
DTSTART;TZID=Europe/Berlin:20280428T100000
DTEND;TZID=Europe/Berlin:20280428T120000
DTSTAMP:20260423T121140
CREATED:20241218T143911Z
LAST-MODIFIED:20241219T171401Z
UID:10001013-1840528800-1840536000@hospizverein-bramsche.de
SUMMARY:Bürozeiten
DESCRIPTION:
URL:https://hospizverein-bramsche.de/event/buerozeiten-2/2028-04-28/
LOCATION:Hopizbüro\, Münsterstrasse 16\, Bramsche\, Niedersachsen\, 49565\, Deutschland
END:VEVENT
BEGIN:VEVENT
DTSTART;TZID=Europe/Berlin:20280428T143000
DTEND;TZID=Europe/Berlin:20280428T163000
DTSTAMP:20260423T121140
CREATED:20250915T122852Z
LAST-MODIFIED:20260106T111609Z
UID:10001399-1840545000-1840552200@hospizverein-bramsche.de
SUMMARY:Trostbank Friedwald Bramsche
DESCRIPTION:
URL:https://hospizverein-bramsche.de/event/trostbank-friedwald-bramsche-2/2028-04-28/
LOCATION:Friedwald Bramsche
END:VEVENT
END:VCALENDAR