BEGIN:VCALENDAR
VERSION:2.0
PRODID:-//Hospizverein Bramsche - ECPv6.15.16//NONSGML v1.0//EN
CALSCALE:GREGORIAN
METHOD:PUBLISH
X-ORIGINAL-URL:https://hospizverein-bramsche.de
X-WR-CALDESC:Veranstaltungen für Hospizverein Bramsche
REFRESH-INTERVAL;VALUE=DURATION:PT1H
X-Robots-Tag:noindex
X-PUBLISHED-TTL:PT1H
BEGIN:VTIMEZONE
TZID:Europe/Berlin
BEGIN:DAYLIGHT
TZOFFSETFROM:+0100
TZOFFSETTO:+0200
TZNAME:CEST
DTSTART:20270328T010000
END:DAYLIGHT
BEGIN:STANDARD
TZOFFSETFROM:+0200
TZOFFSETTO:+0100
TZNAME:CET
DTSTART:20271031T010000
END:STANDARD
BEGIN:DAYLIGHT
TZOFFSETFROM:+0100
TZOFFSETTO:+0200
TZNAME:CEST
DTSTART:20280326T010000
END:DAYLIGHT
BEGIN:STANDARD
TZOFFSETFROM:+0200
TZOFFSETTO:+0100
TZNAME:CET
DTSTART:20281029T010000
END:STANDARD
BEGIN:DAYLIGHT
TZOFFSETFROM:+0100
TZOFFSETTO:+0200
TZNAME:CEST
DTSTART:20290325T010000
END:DAYLIGHT
BEGIN:STANDARD
TZOFFSETFROM:+0200
TZOFFSETTO:+0100
TZNAME:CET
DTSTART:20291028T010000
END:STANDARD
END:VTIMEZONE
BEGIN:VEVENT
DTSTART;TZID=Europe/Berlin:20280501T150000
DTEND;TZID=Europe/Berlin:20280501T170000
DTSTAMP:20260423T133702
CREATED:20241218T141550Z
LAST-MODIFIED:20241218T143113Z
UID:10000102-1840806000-1840813200@hospizverein-bramsche.de
SUMMARY:Gesprächskreis für Trauernde
DESCRIPTION:
URL:https://hospizverein-bramsche.de/event/gespraechskreis-fuer-trauernde-6-copy/2028-05-01/
LOCATION:Hopizbüro\, Münsterstrasse 16\, Bramsche\, Niedersachsen\, 49565\, Deutschland
END:VEVENT
BEGIN:VEVENT
DTSTART;TZID=Europe/Berlin:20280503T150000
DTEND;TZID=Europe/Berlin:20280503T170000
DTSTAMP:20260423T133702
CREATED:20241218T143731Z
LAST-MODIFIED:20241219T171346Z
UID:10000725-1840978800-1840986000@hospizverein-bramsche.de
SUMMARY:Bürozeiten
DESCRIPTION:
URL:https://hospizverein-bramsche.de/event/buerozeiten/2028-05-03/
LOCATION:Hopizbüro\, Münsterstrasse 16\, Bramsche\, Niedersachsen\, 49565\, Deutschland
END:VEVENT
BEGIN:VEVENT
DTSTART;TZID=Europe/Berlin:20280503T160000
DTEND;TZID=Europe/Berlin:20280503T173000
DTSTAMP:20260423T133702
CREATED:20240514T133036Z
LAST-MODIFIED:20241219T171135Z
UID:10000243-1840982400-1840987800@hospizverein-bramsche.de
SUMMARY:Hospizcafe
DESCRIPTION:
URL:https://hospizverein-bramsche.de/event/hospizcafe/2028-05-03/
LOCATION:Hopizbüro\, Münsterstrasse 16\, Bramsche\, Niedersachsen\, 49565\, Deutschland
END:VEVENT
BEGIN:VEVENT
DTSTART;TZID=Europe/Berlin:20280505T100000
DTEND;TZID=Europe/Berlin:20280505T120000
DTSTAMP:20260423T133702
CREATED:20241218T143911Z
LAST-MODIFIED:20241219T171401Z
UID:10001014-1841133600-1841140800@hospizverein-bramsche.de
SUMMARY:Bürozeiten
DESCRIPTION:
URL:https://hospizverein-bramsche.de/event/buerozeiten-2/2028-05-05/
LOCATION:Hopizbüro\, Münsterstrasse 16\, Bramsche\, Niedersachsen\, 49565\, Deutschland
END:VEVENT
BEGIN:VEVENT
DTSTART;TZID=Europe/Berlin:20280510T150000
DTEND;TZID=Europe/Berlin:20280510T170000
DTSTAMP:20260423T133702
CREATED:20241218T143731Z
LAST-MODIFIED:20241219T171346Z
UID:10000726-1841583600-1841590800@hospizverein-bramsche.de
SUMMARY:Bürozeiten
DESCRIPTION:
URL:https://hospizverein-bramsche.de/event/buerozeiten/2028-05-10/
LOCATION:Hopizbüro\, Münsterstrasse 16\, Bramsche\, Niedersachsen\, 49565\, Deutschland
END:VEVENT
BEGIN:VEVENT
DTSTART;TZID=Europe/Berlin:20280510T180000
DTEND;TZID=Europe/Berlin:20280510T203000
DTSTAMP:20260423T133702
CREATED:20240606T164438Z
LAST-MODIFIED:20241218T143553Z
UID:10000505-1841594400-1841603400@hospizverein-bramsche.de
SUMMARY:Begleitertreffen
DESCRIPTION:
URL:https://hospizverein-bramsche.de/event/begleitertreffen/2028-05-10/
LOCATION:Hopizbüro\, Münsterstrasse 16\, Bramsche\, Niedersachsen\, 49565\, Deutschland
END:VEVENT
BEGIN:VEVENT
DTSTART;TZID=Europe/Berlin:20280512T100000
DTEND;TZID=Europe/Berlin:20280512T120000
DTSTAMP:20260423T133702
CREATED:20241218T143911Z
LAST-MODIFIED:20241219T171401Z
UID:10001015-1841738400-1841745600@hospizverein-bramsche.de
SUMMARY:Bürozeiten
DESCRIPTION:
URL:https://hospizverein-bramsche.de/event/buerozeiten-2/2028-05-12/
LOCATION:Hopizbüro\, Münsterstrasse 16\, Bramsche\, Niedersachsen\, 49565\, Deutschland
END:VEVENT
BEGIN:VEVENT
DTSTART;TZID=Europe/Berlin:20280514T143000
DTEND;TZID=Europe/Berlin:20280514T163000
DTSTAMP:20260423T133702
CREATED:20240514T164846Z
LAST-MODIFIED:20241218T143322Z
UID:10000309-1841927400-1841934600@hospizverein-bramsche.de
SUMMARY:Trostbank Friedhof Lindenstraße
DESCRIPTION:
URL:https://hospizverein-bramsche.de/event/trostbank-friedhof-lindenstrasse/2028-05-14/
LOCATION:Friedhof Lindenstraße
END:VEVENT
BEGIN:VEVENT
DTSTART;TZID=Europe/Berlin:20280517T150000
DTEND;TZID=Europe/Berlin:20280517T170000
DTSTAMP:20260423T133702
CREATED:20241218T143731Z
LAST-MODIFIED:20241219T171346Z
UID:10000727-1842188400-1842195600@hospizverein-bramsche.de
SUMMARY:Bürozeiten
DESCRIPTION:
URL:https://hospizverein-bramsche.de/event/buerozeiten/2028-05-17/
LOCATION:Hopizbüro\, Münsterstrasse 16\, Bramsche\, Niedersachsen\, 49565\, Deutschland
END:VEVENT
BEGIN:VEVENT
DTSTART;TZID=Europe/Berlin:20280518T143000
DTEND;TZID=Europe/Berlin:20280518T163000
DTSTAMP:20260423T133702
CREATED:20240514T162809Z
LAST-MODIFIED:20260106T111718Z
UID:10001479-1842273000-1842280200@hospizverein-bramsche.de
SUMMARY:Trostbank Friedhof Malgarten
DESCRIPTION:
URL:https://hospizverein-bramsche.de/event/trostbank-friedhof-malgarten/2028-05-18/
LOCATION:Friedhof Malgarten
END:VEVENT
BEGIN:VEVENT
DTSTART;TZID=Europe/Berlin:20280518T143000
DTEND;TZID=Europe/Berlin:20280518T163000
DTSTAMP:20260423T133702
CREATED:20250812T114952Z
LAST-MODIFIED:20250812T115036Z
UID:10001214-1842273000-1842280200@hospizverein-bramsche.de
SUMMARY:Trostbank Osnabrücker Straße
DESCRIPTION:
URL:https://hospizverein-bramsche.de/event/trostbank-osnabruecker-strasse-2/2028-05-18/
LOCATION:Friedhof Osnabrücker Straße
END:VEVENT
BEGIN:VEVENT
DTSTART;TZID=Europe/Berlin:20280519T100000
DTEND;TZID=Europe/Berlin:20280519T120000
DTSTAMP:20260423T133702
CREATED:20241218T143911Z
LAST-MODIFIED:20241219T171401Z
UID:10001016-1842343200-1842350400@hospizverein-bramsche.de
SUMMARY:Bürozeiten
DESCRIPTION:
URL:https://hospizverein-bramsche.de/event/buerozeiten-2/2028-05-19/
LOCATION:Hopizbüro\, Münsterstrasse 16\, Bramsche\, Niedersachsen\, 49565\, Deutschland
END:VEVENT
BEGIN:VEVENT
DTSTART;TZID=Europe/Berlin:20280524T150000
DTEND;TZID=Europe/Berlin:20280524T170000
DTSTAMP:20260423T133702
CREATED:20241218T143731Z
LAST-MODIFIED:20241219T171346Z
UID:10000728-1842793200-1842800400@hospizverein-bramsche.de
SUMMARY:Bürozeiten
DESCRIPTION:
URL:https://hospizverein-bramsche.de/event/buerozeiten/2028-05-24/
LOCATION:Hopizbüro\, Münsterstrasse 16\, Bramsche\, Niedersachsen\, 49565\, Deutschland
END:VEVENT
BEGIN:VEVENT
DTSTART;TZID=Europe/Berlin:20280526T100000
DTEND;TZID=Europe/Berlin:20280526T120000
DTSTAMP:20260423T133702
CREATED:20241218T143911Z
LAST-MODIFIED:20241219T171401Z
UID:10001017-1842948000-1842955200@hospizverein-bramsche.de
SUMMARY:Bürozeiten
DESCRIPTION:
URL:https://hospizverein-bramsche.de/event/buerozeiten-2/2028-05-26/
LOCATION:Hopizbüro\, Münsterstrasse 16\, Bramsche\, Niedersachsen\, 49565\, Deutschland
END:VEVENT
BEGIN:VEVENT
DTSTART;TZID=Europe/Berlin:20280526T143000
DTEND;TZID=Europe/Berlin:20280526T163000
DTSTAMP:20260423T133702
CREATED:20250915T122852Z
LAST-MODIFIED:20260106T111609Z
UID:10001400-1842964200-1842971400@hospizverein-bramsche.de
SUMMARY:Trostbank Friedwald Bramsche
DESCRIPTION:
URL:https://hospizverein-bramsche.de/event/trostbank-friedwald-bramsche-2/2028-05-26/
LOCATION:Friedwald Bramsche
END:VEVENT
BEGIN:VEVENT
DTSTART;TZID=Europe/Berlin:20280531T150000
DTEND;TZID=Europe/Berlin:20280531T170000
DTSTAMP:20260423T133702
CREATED:20241218T143731Z
LAST-MODIFIED:20241219T171346Z
UID:10000729-1843398000-1843405200@hospizverein-bramsche.de
SUMMARY:Bürozeiten
DESCRIPTION:
URL:https://hospizverein-bramsche.de/event/buerozeiten/2028-05-31/
LOCATION:Hopizbüro\, Münsterstrasse 16\, Bramsche\, Niedersachsen\, 49565\, Deutschland
END:VEVENT
END:VCALENDAR