BEGIN:VCALENDAR
VERSION:2.0
PRODID:-//Hospizverein Bramsche - ECPv6.15.16//NONSGML v1.0//EN
CALSCALE:GREGORIAN
METHOD:PUBLISH
X-ORIGINAL-URL:https://hospizverein-bramsche.de
X-WR-CALDESC:Veranstaltungen für Hospizverein Bramsche
REFRESH-INTERVAL;VALUE=DURATION:PT1H
X-Robots-Tag:noindex
X-PUBLISHED-TTL:PT1H
BEGIN:VTIMEZONE
TZID:Europe/Berlin
BEGIN:DAYLIGHT
TZOFFSETFROM:+0100
TZOFFSETTO:+0200
TZNAME:CEST
DTSTART:20270328T010000
END:DAYLIGHT
BEGIN:STANDARD
TZOFFSETFROM:+0200
TZOFFSETTO:+0100
TZNAME:CET
DTSTART:20271031T010000
END:STANDARD
BEGIN:DAYLIGHT
TZOFFSETFROM:+0100
TZOFFSETTO:+0200
TZNAME:CEST
DTSTART:20280326T010000
END:DAYLIGHT
BEGIN:STANDARD
TZOFFSETFROM:+0200
TZOFFSETTO:+0100
TZNAME:CET
DTSTART:20281029T010000
END:STANDARD
BEGIN:DAYLIGHT
TZOFFSETFROM:+0100
TZOFFSETTO:+0200
TZNAME:CEST
DTSTART:20290325T010000
END:DAYLIGHT
BEGIN:STANDARD
TZOFFSETFROM:+0200
TZOFFSETTO:+0100
TZNAME:CET
DTSTART:20291028T010000
END:STANDARD
END:VTIMEZONE
BEGIN:VEVENT
DTSTART;TZID=Europe/Berlin:20280703T150000
DTEND;TZID=Europe/Berlin:20280703T170000
DTSTAMP:20260423T164239
CREATED:20241218T141550Z
LAST-MODIFIED:20241218T143113Z
UID:10000104-1846249200-1846256400@hospizverein-bramsche.de
SUMMARY:Gesprächskreis für Trauernde
DESCRIPTION:
URL:https://hospizverein-bramsche.de/event/gespraechskreis-fuer-trauernde-6-copy/2028-07-03/
LOCATION:Hopizbüro\, Münsterstrasse 16\, Bramsche\, Niedersachsen\, 49565\, Deutschland
END:VEVENT
BEGIN:VEVENT
DTSTART;TZID=Europe/Berlin:20280705T150000
DTEND;TZID=Europe/Berlin:20280705T170000
DTSTAMP:20260423T164239
CREATED:20241218T143731Z
LAST-MODIFIED:20241219T171346Z
UID:10000734-1846422000-1846429200@hospizverein-bramsche.de
SUMMARY:Bürozeiten
DESCRIPTION:
URL:https://hospizverein-bramsche.de/event/buerozeiten/2028-07-05/
LOCATION:Hopizbüro\, Münsterstrasse 16\, Bramsche\, Niedersachsen\, 49565\, Deutschland
END:VEVENT
BEGIN:VEVENT
DTSTART;TZID=Europe/Berlin:20280705T160000
DTEND;TZID=Europe/Berlin:20280705T173000
DTSTAMP:20260423T164239
CREATED:20240514T133036Z
LAST-MODIFIED:20241219T171135Z
UID:10000245-1846425600-1846431000@hospizverein-bramsche.de
SUMMARY:Hospizcafe
DESCRIPTION:
URL:https://hospizverein-bramsche.de/event/hospizcafe/2028-07-05/
LOCATION:Hopizbüro\, Münsterstrasse 16\, Bramsche\, Niedersachsen\, 49565\, Deutschland
END:VEVENT
BEGIN:VEVENT
DTSTART;TZID=Europe/Berlin:20280707T100000
DTEND;TZID=Europe/Berlin:20280707T120000
DTSTAMP:20260423T164239
CREATED:20241218T143911Z
LAST-MODIFIED:20241219T171401Z
UID:10001023-1846576800-1846584000@hospizverein-bramsche.de
SUMMARY:Bürozeiten
DESCRIPTION:
URL:https://hospizverein-bramsche.de/event/buerozeiten-2/2028-07-07/
LOCATION:Hopizbüro\, Münsterstrasse 16\, Bramsche\, Niedersachsen\, 49565\, Deutschland
END:VEVENT
BEGIN:VEVENT
DTSTART;TZID=Europe/Berlin:20280709T143000
DTEND;TZID=Europe/Berlin:20280709T163000
DTSTAMP:20260423T164239
CREATED:20240514T164846Z
LAST-MODIFIED:20241218T143322Z
UID:10000311-1846765800-1846773000@hospizverein-bramsche.de
SUMMARY:Trostbank Friedhof Lindenstraße
DESCRIPTION:
URL:https://hospizverein-bramsche.de/event/trostbank-friedhof-lindenstrasse/2028-07-09/
LOCATION:Friedhof Lindenstraße
END:VEVENT
BEGIN:VEVENT
DTSTART;TZID=Europe/Berlin:20280712T150000
DTEND;TZID=Europe/Berlin:20280712T170000
DTSTAMP:20260423T164239
CREATED:20241218T143731Z
LAST-MODIFIED:20241219T171346Z
UID:10000735-1847026800-1847034000@hospizverein-bramsche.de
SUMMARY:Bürozeiten
DESCRIPTION:
URL:https://hospizverein-bramsche.de/event/buerozeiten/2028-07-12/
LOCATION:Hopizbüro\, Münsterstrasse 16\, Bramsche\, Niedersachsen\, 49565\, Deutschland
END:VEVENT
BEGIN:VEVENT
DTSTART;TZID=Europe/Berlin:20280712T180000
DTEND;TZID=Europe/Berlin:20280712T203000
DTSTAMP:20260423T164239
CREATED:20240606T164438Z
LAST-MODIFIED:20241218T143553Z
UID:10000507-1847037600-1847046600@hospizverein-bramsche.de
SUMMARY:Begleitertreffen
DESCRIPTION:
URL:https://hospizverein-bramsche.de/event/begleitertreffen/2028-07-12/
LOCATION:Hopizbüro\, Münsterstrasse 16\, Bramsche\, Niedersachsen\, 49565\, Deutschland
END:VEVENT
BEGIN:VEVENT
DTSTART;TZID=Europe/Berlin:20280714T100000
DTEND;TZID=Europe/Berlin:20280714T120000
DTSTAMP:20260423T164239
CREATED:20241218T143911Z
LAST-MODIFIED:20241219T171401Z
UID:10001024-1847181600-1847188800@hospizverein-bramsche.de
SUMMARY:Bürozeiten
DESCRIPTION:
URL:https://hospizverein-bramsche.de/event/buerozeiten-2/2028-07-14/
LOCATION:Hopizbüro\, Münsterstrasse 16\, Bramsche\, Niedersachsen\, 49565\, Deutschland
END:VEVENT
BEGIN:VEVENT
DTSTART;TZID=Europe/Berlin:20280719T150000
DTEND;TZID=Europe/Berlin:20280719T170000
DTSTAMP:20260423T164239
CREATED:20241218T143731Z
LAST-MODIFIED:20241219T171346Z
UID:10000736-1847631600-1847638800@hospizverein-bramsche.de
SUMMARY:Bürozeiten
DESCRIPTION:
URL:https://hospizverein-bramsche.de/event/buerozeiten/2028-07-19/
LOCATION:Hopizbüro\, Münsterstrasse 16\, Bramsche\, Niedersachsen\, 49565\, Deutschland
END:VEVENT
BEGIN:VEVENT
DTSTART;TZID=Europe/Berlin:20280720T143000
DTEND;TZID=Europe/Berlin:20280720T163000
DTSTAMP:20260423T164239
CREATED:20240514T162809Z
LAST-MODIFIED:20260106T111718Z
UID:10001481-1847716200-1847723400@hospizverein-bramsche.de
SUMMARY:Trostbank Friedhof Malgarten
DESCRIPTION:
URL:https://hospizverein-bramsche.de/event/trostbank-friedhof-malgarten/2028-07-20/
LOCATION:Friedhof Malgarten
END:VEVENT
BEGIN:VEVENT
DTSTART;TZID=Europe/Berlin:20280720T143000
DTEND;TZID=Europe/Berlin:20280720T163000
DTSTAMP:20260423T164239
CREATED:20250812T114952Z
LAST-MODIFIED:20250812T115036Z
UID:10001216-1847716200-1847723400@hospizverein-bramsche.de
SUMMARY:Trostbank Osnabrücker Straße
DESCRIPTION:
URL:https://hospizverein-bramsche.de/event/trostbank-osnabruecker-strasse-2/2028-07-20/
LOCATION:Friedhof Osnabrücker Straße
END:VEVENT
BEGIN:VEVENT
DTSTART;TZID=Europe/Berlin:20280721T100000
DTEND;TZID=Europe/Berlin:20280721T120000
DTSTAMP:20260423T164239
CREATED:20241218T143911Z
LAST-MODIFIED:20241219T171401Z
UID:10001025-1847786400-1847793600@hospizverein-bramsche.de
SUMMARY:Bürozeiten
DESCRIPTION:
URL:https://hospizverein-bramsche.de/event/buerozeiten-2/2028-07-21/
LOCATION:Hopizbüro\, Münsterstrasse 16\, Bramsche\, Niedersachsen\, 49565\, Deutschland
END:VEVENT
BEGIN:VEVENT
DTSTART;TZID=Europe/Berlin:20280726T150000
DTEND;TZID=Europe/Berlin:20280726T170000
DTSTAMP:20260423T164239
CREATED:20241218T143731Z
LAST-MODIFIED:20241219T171346Z
UID:10000737-1848236400-1848243600@hospizverein-bramsche.de
SUMMARY:Bürozeiten
DESCRIPTION:
URL:https://hospizverein-bramsche.de/event/buerozeiten/2028-07-26/
LOCATION:Hopizbüro\, Münsterstrasse 16\, Bramsche\, Niedersachsen\, 49565\, Deutschland
END:VEVENT
BEGIN:VEVENT
DTSTART;TZID=Europe/Berlin:20280728T100000
DTEND;TZID=Europe/Berlin:20280728T120000
DTSTAMP:20260423T164239
CREATED:20241218T143911Z
LAST-MODIFIED:20241219T171401Z
UID:10001026-1848391200-1848398400@hospizverein-bramsche.de
SUMMARY:Bürozeiten
DESCRIPTION:
URL:https://hospizverein-bramsche.de/event/buerozeiten-2/2028-07-28/
LOCATION:Hopizbüro\, Münsterstrasse 16\, Bramsche\, Niedersachsen\, 49565\, Deutschland
END:VEVENT
BEGIN:VEVENT
DTSTART;TZID=Europe/Berlin:20280728T143000
DTEND;TZID=Europe/Berlin:20280728T163000
DTSTAMP:20260423T164239
CREATED:20250915T122852Z
LAST-MODIFIED:20260106T111609Z
UID:10001402-1848407400-1848414600@hospizverein-bramsche.de
SUMMARY:Trostbank Friedwald Bramsche
DESCRIPTION:
URL:https://hospizverein-bramsche.de/event/trostbank-friedwald-bramsche-2/2028-07-28/
LOCATION:Friedwald Bramsche
END:VEVENT
END:VCALENDAR