BEGIN:VCALENDAR
VERSION:2.0
PRODID:-//Hospizverein Bramsche - ECPv6.15.16//NONSGML v1.0//EN
CALSCALE:GREGORIAN
METHOD:PUBLISH
X-ORIGINAL-URL:https://hospizverein-bramsche.de
X-WR-CALDESC:Veranstaltungen für Hospizverein Bramsche
REFRESH-INTERVAL;VALUE=DURATION:PT1H
X-Robots-Tag:noindex
X-PUBLISHED-TTL:PT1H
BEGIN:VTIMEZONE
TZID:Europe/Berlin
BEGIN:DAYLIGHT
TZOFFSETFROM:+0100
TZOFFSETTO:+0200
TZNAME:CEST
DTSTART:20270328T010000
END:DAYLIGHT
BEGIN:STANDARD
TZOFFSETFROM:+0200
TZOFFSETTO:+0100
TZNAME:CET
DTSTART:20271031T010000
END:STANDARD
BEGIN:DAYLIGHT
TZOFFSETFROM:+0100
TZOFFSETTO:+0200
TZNAME:CEST
DTSTART:20280326T010000
END:DAYLIGHT
BEGIN:STANDARD
TZOFFSETFROM:+0200
TZOFFSETTO:+0100
TZNAME:CET
DTSTART:20281029T010000
END:STANDARD
BEGIN:DAYLIGHT
TZOFFSETFROM:+0100
TZOFFSETTO:+0200
TZNAME:CEST
DTSTART:20290325T010000
END:DAYLIGHT
BEGIN:STANDARD
TZOFFSETFROM:+0200
TZOFFSETTO:+0100
TZNAME:CET
DTSTART:20291028T010000
END:STANDARD
END:VTIMEZONE
BEGIN:VEVENT
DTSTART;TZID=Europe/Berlin:20281002T150000
DTEND;TZID=Europe/Berlin:20281002T170000
DTSTAMP:20260423T211350
CREATED:20241218T141550Z
LAST-MODIFIED:20241218T143113Z
UID:10000107-1854111600-1854118800@hospizverein-bramsche.de
SUMMARY:Gesprächskreis für Trauernde
DESCRIPTION:
URL:https://hospizverein-bramsche.de/event/gespraechskreis-fuer-trauernde-6-copy/2028-10-02/
LOCATION:Hopizbüro\, Münsterstrasse 16\, Bramsche\, Niedersachsen\, 49565\, Deutschland
END:VEVENT
BEGIN:VEVENT
DTSTART;TZID=Europe/Berlin:20281004T150000
DTEND;TZID=Europe/Berlin:20281004T170000
DTSTAMP:20260423T211350
CREATED:20241218T143731Z
LAST-MODIFIED:20241219T171346Z
UID:10000747-1854284400-1854291600@hospizverein-bramsche.de
SUMMARY:Bürozeiten
DESCRIPTION:
URL:https://hospizverein-bramsche.de/event/buerozeiten/2028-10-04/
LOCATION:Hopizbüro\, Münsterstrasse 16\, Bramsche\, Niedersachsen\, 49565\, Deutschland
END:VEVENT
BEGIN:VEVENT
DTSTART;TZID=Europe/Berlin:20281004T160000
DTEND;TZID=Europe/Berlin:20281004T173000
DTSTAMP:20260423T211350
CREATED:20240514T133036Z
LAST-MODIFIED:20241219T171135Z
UID:10000248-1854288000-1854293400@hospizverein-bramsche.de
SUMMARY:Hospizcafe
DESCRIPTION:
URL:https://hospizverein-bramsche.de/event/hospizcafe/2028-10-04/
LOCATION:Hopizbüro\, Münsterstrasse 16\, Bramsche\, Niedersachsen\, 49565\, Deutschland
END:VEVENT
BEGIN:VEVENT
DTSTART;TZID=Europe/Berlin:20281006T100000
DTEND;TZID=Europe/Berlin:20281006T120000
DTSTAMP:20260423T211350
CREATED:20241218T143911Z
LAST-MODIFIED:20241219T171401Z
UID:10001036-1854439200-1854446400@hospizverein-bramsche.de
SUMMARY:Bürozeiten
DESCRIPTION:
URL:https://hospizverein-bramsche.de/event/buerozeiten-2/2028-10-06/
LOCATION:Hopizbüro\, Münsterstrasse 16\, Bramsche\, Niedersachsen\, 49565\, Deutschland
END:VEVENT
BEGIN:VEVENT
DTSTART;TZID=Europe/Berlin:20281008T143000
DTEND;TZID=Europe/Berlin:20281008T163000
DTSTAMP:20260423T211350
CREATED:20240514T164846Z
LAST-MODIFIED:20241218T143322Z
UID:10000314-1854628200-1854635400@hospizverein-bramsche.de
SUMMARY:Trostbank Friedhof Lindenstraße
DESCRIPTION:
URL:https://hospizverein-bramsche.de/event/trostbank-friedhof-lindenstrasse/2028-10-08/
LOCATION:Friedhof Lindenstraße
END:VEVENT
BEGIN:VEVENT
DTSTART;TZID=Europe/Berlin:20281011T150000
DTEND;TZID=Europe/Berlin:20281011T170000
DTSTAMP:20260423T211350
CREATED:20241218T143731Z
LAST-MODIFIED:20241219T171346Z
UID:10000748-1854889200-1854896400@hospizverein-bramsche.de
SUMMARY:Bürozeiten
DESCRIPTION:
URL:https://hospizverein-bramsche.de/event/buerozeiten/2028-10-11/
LOCATION:Hopizbüro\, Münsterstrasse 16\, Bramsche\, Niedersachsen\, 49565\, Deutschland
END:VEVENT
BEGIN:VEVENT
DTSTART;TZID=Europe/Berlin:20281011T180000
DTEND;TZID=Europe/Berlin:20281011T203000
DTSTAMP:20260423T211350
CREATED:20240606T164438Z
LAST-MODIFIED:20241218T143553Z
UID:10000510-1854900000-1854909000@hospizverein-bramsche.de
SUMMARY:Begleitertreffen
DESCRIPTION:
URL:https://hospizverein-bramsche.de/event/begleitertreffen/2028-10-11/
LOCATION:Hopizbüro\, Münsterstrasse 16\, Bramsche\, Niedersachsen\, 49565\, Deutschland
END:VEVENT
BEGIN:VEVENT
DTSTART;TZID=Europe/Berlin:20281013T100000
DTEND;TZID=Europe/Berlin:20281013T120000
DTSTAMP:20260423T211350
CREATED:20241218T143911Z
LAST-MODIFIED:20241219T171401Z
UID:10001037-1855044000-1855051200@hospizverein-bramsche.de
SUMMARY:Bürozeiten
DESCRIPTION:
URL:https://hospizverein-bramsche.de/event/buerozeiten-2/2028-10-13/
LOCATION:Hopizbüro\, Münsterstrasse 16\, Bramsche\, Niedersachsen\, 49565\, Deutschland
END:VEVENT
BEGIN:VEVENT
DTSTART;TZID=Europe/Berlin:20281018T150000
DTEND;TZID=Europe/Berlin:20281018T170000
DTSTAMP:20260423T211350
CREATED:20241218T143731Z
LAST-MODIFIED:20241219T171346Z
UID:10000749-1855494000-1855501200@hospizverein-bramsche.de
SUMMARY:Bürozeiten
DESCRIPTION:
URL:https://hospizverein-bramsche.de/event/buerozeiten/2028-10-18/
LOCATION:Hopizbüro\, Münsterstrasse 16\, Bramsche\, Niedersachsen\, 49565\, Deutschland
END:VEVENT
BEGIN:VEVENT
DTSTART;TZID=Europe/Berlin:20281019T143000
DTEND;TZID=Europe/Berlin:20281019T163000
DTSTAMP:20260423T211350
CREATED:20240514T162809Z
LAST-MODIFIED:20260106T111718Z
UID:10001484-1855578600-1855585800@hospizverein-bramsche.de
SUMMARY:Trostbank Friedhof Malgarten
DESCRIPTION:
URL:https://hospizverein-bramsche.de/event/trostbank-friedhof-malgarten/2028-10-19/
LOCATION:Friedhof Malgarten
END:VEVENT
BEGIN:VEVENT
DTSTART;TZID=Europe/Berlin:20281019T143000
DTEND;TZID=Europe/Berlin:20281019T163000
DTSTAMP:20260423T211350
CREATED:20250812T114952Z
LAST-MODIFIED:20250812T115036Z
UID:10001219-1855578600-1855585800@hospizverein-bramsche.de
SUMMARY:Trostbank Osnabrücker Straße
DESCRIPTION:
URL:https://hospizverein-bramsche.de/event/trostbank-osnabruecker-strasse-2/2028-10-19/
LOCATION:Friedhof Osnabrücker Straße
END:VEVENT
BEGIN:VEVENT
DTSTART;TZID=Europe/Berlin:20281020T100000
DTEND;TZID=Europe/Berlin:20281020T120000
DTSTAMP:20260423T211350
CREATED:20241218T143911Z
LAST-MODIFIED:20241219T171401Z
UID:10001038-1855648800-1855656000@hospizverein-bramsche.de
SUMMARY:Bürozeiten
DESCRIPTION:
URL:https://hospizverein-bramsche.de/event/buerozeiten-2/2028-10-20/
LOCATION:Hopizbüro\, Münsterstrasse 16\, Bramsche\, Niedersachsen\, 49565\, Deutschland
END:VEVENT
BEGIN:VEVENT
DTSTART;TZID=Europe/Berlin:20281025T150000
DTEND;TZID=Europe/Berlin:20281025T170000
DTSTAMP:20260423T211350
CREATED:20241218T143731Z
LAST-MODIFIED:20241219T171346Z
UID:10000750-1856098800-1856106000@hospizverein-bramsche.de
SUMMARY:Bürozeiten
DESCRIPTION:
URL:https://hospizverein-bramsche.de/event/buerozeiten/2028-10-25/
LOCATION:Hopizbüro\, Münsterstrasse 16\, Bramsche\, Niedersachsen\, 49565\, Deutschland
END:VEVENT
BEGIN:VEVENT
DTSTART;TZID=Europe/Berlin:20281027T100000
DTEND;TZID=Europe/Berlin:20281027T120000
DTSTAMP:20260423T211350
CREATED:20241218T143911Z
LAST-MODIFIED:20241219T171401Z
UID:10001039-1856253600-1856260800@hospizverein-bramsche.de
SUMMARY:Bürozeiten
DESCRIPTION:
URL:https://hospizverein-bramsche.de/event/buerozeiten-2/2028-10-27/
LOCATION:Hopizbüro\, Münsterstrasse 16\, Bramsche\, Niedersachsen\, 49565\, Deutschland
END:VEVENT
BEGIN:VEVENT
DTSTART;TZID=Europe/Berlin:20281027T143000
DTEND;TZID=Europe/Berlin:20281027T163000
DTSTAMP:20260423T211350
CREATED:20250915T122852Z
LAST-MODIFIED:20260106T111609Z
UID:10001405-1856269800-1856277000@hospizverein-bramsche.de
SUMMARY:Trostbank Friedwald Bramsche
DESCRIPTION:
URL:https://hospizverein-bramsche.de/event/trostbank-friedwald-bramsche-2/2028-10-27/
LOCATION:Friedwald Bramsche
END:VEVENT
END:VCALENDAR