BEGIN:VCALENDAR
VERSION:2.0
PRODID:-//Hospizverein Bramsche - ECPv6.15.16//NONSGML v1.0//EN
CALSCALE:GREGORIAN
METHOD:PUBLISH
X-WR-CALNAME:Hospizverein Bramsche
X-ORIGINAL-URL:https://hospizverein-bramsche.de
X-WR-CALDESC:Veranstaltungen für Hospizverein Bramsche
REFRESH-INTERVAL;VALUE=DURATION:PT1H
X-Robots-Tag:noindex
X-PUBLISHED-TTL:PT1H
BEGIN:VTIMEZONE
TZID:Europe/Berlin
BEGIN:DAYLIGHT
TZOFFSETFROM:+0100
TZOFFSETTO:+0200
TZNAME:CEST
DTSTART:20270328T010000
END:DAYLIGHT
BEGIN:STANDARD
TZOFFSETFROM:+0200
TZOFFSETTO:+0100
TZNAME:CET
DTSTART:20271031T010000
END:STANDARD
BEGIN:DAYLIGHT
TZOFFSETFROM:+0100
TZOFFSETTO:+0200
TZNAME:CEST
DTSTART:20280326T010000
END:DAYLIGHT
BEGIN:STANDARD
TZOFFSETFROM:+0200
TZOFFSETTO:+0100
TZNAME:CET
DTSTART:20281029T010000
END:STANDARD
BEGIN:DAYLIGHT
TZOFFSETFROM:+0100
TZOFFSETTO:+0200
TZNAME:CEST
DTSTART:20290325T010000
END:DAYLIGHT
BEGIN:STANDARD
TZOFFSETFROM:+0200
TZOFFSETTO:+0100
TZNAME:CET
DTSTART:20291028T010000
END:STANDARD
END:VTIMEZONE
BEGIN:VEVENT
DTSTART;TZID=Europe/Berlin:20281101T150000
DTEND;TZID=Europe/Berlin:20281101T170000
DTSTAMP:20260423T224005
CREATED:20241218T143731Z
LAST-MODIFIED:20241219T171346Z
UID:10000751-1856703600-1856710800@hospizverein-bramsche.de
SUMMARY:Bürozeiten
DESCRIPTION:
URL:https://hospizverein-bramsche.de/event/buerozeiten/2028-11-01/
LOCATION:Hopizbüro\, Münsterstrasse 16\, Bramsche\, Niedersachsen\, 49565\, Deutschland
END:VEVENT
BEGIN:VEVENT
DTSTART;TZID=Europe/Berlin:20281101T160000
DTEND;TZID=Europe/Berlin:20281101T173000
DTSTAMP:20260423T224005
CREATED:20240514T133036Z
LAST-MODIFIED:20241219T171135Z
UID:10000249-1856707200-1856712600@hospizverein-bramsche.de
SUMMARY:Hospizcafe
DESCRIPTION:
URL:https://hospizverein-bramsche.de/event/hospizcafe/2028-11-01/
LOCATION:Hopizbüro\, Münsterstrasse 16\, Bramsche\, Niedersachsen\, 49565\, Deutschland
END:VEVENT
BEGIN:VEVENT
DTSTART;TZID=Europe/Berlin:20281103T100000
DTEND;TZID=Europe/Berlin:20281103T120000
DTSTAMP:20260423T224005
CREATED:20241218T143911Z
LAST-MODIFIED:20241219T171401Z
UID:10001040-1856858400-1856865600@hospizverein-bramsche.de
SUMMARY:Bürozeiten
DESCRIPTION:
URL:https://hospizverein-bramsche.de/event/buerozeiten-2/2028-11-03/
LOCATION:Hopizbüro\, Münsterstrasse 16\, Bramsche\, Niedersachsen\, 49565\, Deutschland
END:VEVENT
BEGIN:VEVENT
DTSTART;TZID=Europe/Berlin:20281106T150000
DTEND;TZID=Europe/Berlin:20281106T170000
DTSTAMP:20260423T224005
CREATED:20241218T141550Z
LAST-MODIFIED:20241218T143113Z
UID:10000108-1857135600-1857142800@hospizverein-bramsche.de
SUMMARY:Gesprächskreis für Trauernde
DESCRIPTION:
URL:https://hospizverein-bramsche.de/event/gespraechskreis-fuer-trauernde-6-copy/2028-11-06/
LOCATION:Hopizbüro\, Münsterstrasse 16\, Bramsche\, Niedersachsen\, 49565\, Deutschland
END:VEVENT
BEGIN:VEVENT
DTSTART;TZID=Europe/Berlin:20281108T150000
DTEND;TZID=Europe/Berlin:20281108T170000
DTSTAMP:20260423T224005
CREATED:20241218T143731Z
LAST-MODIFIED:20241219T171346Z
UID:10000752-1857308400-1857315600@hospizverein-bramsche.de
SUMMARY:Bürozeiten
DESCRIPTION:
URL:https://hospizverein-bramsche.de/event/buerozeiten/2028-11-08/
LOCATION:Hopizbüro\, Münsterstrasse 16\, Bramsche\, Niedersachsen\, 49565\, Deutschland
END:VEVENT
BEGIN:VEVENT
DTSTART;TZID=Europe/Berlin:20281108T180000
DTEND;TZID=Europe/Berlin:20281108T203000
DTSTAMP:20260423T224005
CREATED:20240606T164438Z
LAST-MODIFIED:20241218T143553Z
UID:10000511-1857319200-1857328200@hospizverein-bramsche.de
SUMMARY:Begleitertreffen
DESCRIPTION:
URL:https://hospizverein-bramsche.de/event/begleitertreffen/2028-11-08/
LOCATION:Hopizbüro\, Münsterstrasse 16\, Bramsche\, Niedersachsen\, 49565\, Deutschland
END:VEVENT
BEGIN:VEVENT
DTSTART;TZID=Europe/Berlin:20281110T100000
DTEND;TZID=Europe/Berlin:20281110T120000
DTSTAMP:20260423T224005
CREATED:20241218T143911Z
LAST-MODIFIED:20241219T171401Z
UID:10001041-1857463200-1857470400@hospizverein-bramsche.de
SUMMARY:Bürozeiten
DESCRIPTION:
URL:https://hospizverein-bramsche.de/event/buerozeiten-2/2028-11-10/
LOCATION:Hopizbüro\, Münsterstrasse 16\, Bramsche\, Niedersachsen\, 49565\, Deutschland
END:VEVENT
BEGIN:VEVENT
DTSTART;TZID=Europe/Berlin:20281112T143000
DTEND;TZID=Europe/Berlin:20281112T163000
DTSTAMP:20260423T224005
CREATED:20240514T164846Z
LAST-MODIFIED:20241218T143322Z
UID:10000315-1857652200-1857659400@hospizverein-bramsche.de
SUMMARY:Trostbank Friedhof Lindenstraße
DESCRIPTION:
URL:https://hospizverein-bramsche.de/event/trostbank-friedhof-lindenstrasse/2028-11-12/
LOCATION:Friedhof Lindenstraße
END:VEVENT
BEGIN:VEVENT
DTSTART;TZID=Europe/Berlin:20281115T150000
DTEND;TZID=Europe/Berlin:20281115T170000
DTSTAMP:20260423T224005
CREATED:20241218T143731Z
LAST-MODIFIED:20241219T171346Z
UID:10000753-1857913200-1857920400@hospizverein-bramsche.de
SUMMARY:Bürozeiten
DESCRIPTION:
URL:https://hospizverein-bramsche.de/event/buerozeiten/2028-11-15/
LOCATION:Hopizbüro\, Münsterstrasse 16\, Bramsche\, Niedersachsen\, 49565\, Deutschland
END:VEVENT
BEGIN:VEVENT
DTSTART;TZID=Europe/Berlin:20281116T143000
DTEND;TZID=Europe/Berlin:20281116T163000
DTSTAMP:20260423T224005
CREATED:20240514T162809Z
LAST-MODIFIED:20260106T111718Z
UID:10001485-1857997800-1858005000@hospizverein-bramsche.de
SUMMARY:Trostbank Friedhof Malgarten
DESCRIPTION:
URL:https://hospizverein-bramsche.de/event/trostbank-friedhof-malgarten/2028-11-16/
LOCATION:Friedhof Malgarten
END:VEVENT
BEGIN:VEVENT
DTSTART;TZID=Europe/Berlin:20281116T143000
DTEND;TZID=Europe/Berlin:20281116T163000
DTSTAMP:20260423T224005
CREATED:20250812T114952Z
LAST-MODIFIED:20250812T115036Z
UID:10001220-1857997800-1858005000@hospizverein-bramsche.de
SUMMARY:Trostbank Osnabrücker Straße
DESCRIPTION:
URL:https://hospizverein-bramsche.de/event/trostbank-osnabruecker-strasse-2/2028-11-16/
LOCATION:Friedhof Osnabrücker Straße
END:VEVENT
BEGIN:VEVENT
DTSTART;TZID=Europe/Berlin:20281117T100000
DTEND;TZID=Europe/Berlin:20281117T120000
DTSTAMP:20260423T224005
CREATED:20241218T143911Z
LAST-MODIFIED:20241219T171401Z
UID:10001042-1858068000-1858075200@hospizverein-bramsche.de
SUMMARY:Bürozeiten
DESCRIPTION:
URL:https://hospizverein-bramsche.de/event/buerozeiten-2/2028-11-17/
LOCATION:Hopizbüro\, Münsterstrasse 16\, Bramsche\, Niedersachsen\, 49565\, Deutschland
END:VEVENT
BEGIN:VEVENT
DTSTART;TZID=Europe/Berlin:20281122T150000
DTEND;TZID=Europe/Berlin:20281122T170000
DTSTAMP:20260423T224005
CREATED:20241218T143731Z
LAST-MODIFIED:20241219T171346Z
UID:10000754-1858518000-1858525200@hospizverein-bramsche.de
SUMMARY:Bürozeiten
DESCRIPTION:
URL:https://hospizverein-bramsche.de/event/buerozeiten/2028-11-22/
LOCATION:Hopizbüro\, Münsterstrasse 16\, Bramsche\, Niedersachsen\, 49565\, Deutschland
END:VEVENT
BEGIN:VEVENT
DTSTART;TZID=Europe/Berlin:20281124T100000
DTEND;TZID=Europe/Berlin:20281124T120000
DTSTAMP:20260423T224005
CREATED:20241218T143911Z
LAST-MODIFIED:20241219T171401Z
UID:10001043-1858672800-1858680000@hospizverein-bramsche.de
SUMMARY:Bürozeiten
DESCRIPTION:
URL:https://hospizverein-bramsche.de/event/buerozeiten-2/2028-11-24/
LOCATION:Hopizbüro\, Münsterstrasse 16\, Bramsche\, Niedersachsen\, 49565\, Deutschland
END:VEVENT
BEGIN:VEVENT
DTSTART;TZID=Europe/Berlin:20281124T143000
DTEND;TZID=Europe/Berlin:20281124T163000
DTSTAMP:20260423T224005
CREATED:20250915T122852Z
LAST-MODIFIED:20260106T111609Z
UID:10001406-1858689000-1858696200@hospizverein-bramsche.de
SUMMARY:Trostbank Friedwald Bramsche
DESCRIPTION:
URL:https://hospizverein-bramsche.de/event/trostbank-friedwald-bramsche-2/2028-11-24/
LOCATION:Friedwald Bramsche
END:VEVENT
BEGIN:VEVENT
DTSTART;TZID=Europe/Berlin:20281129T150000
DTEND;TZID=Europe/Berlin:20281129T170000
DTSTAMP:20260423T224005
CREATED:20241218T143731Z
LAST-MODIFIED:20241219T171346Z
UID:10000755-1859122800-1859130000@hospizverein-bramsche.de
SUMMARY:Bürozeiten
DESCRIPTION:
URL:https://hospizverein-bramsche.de/event/buerozeiten/2028-11-29/
LOCATION:Hopizbüro\, Münsterstrasse 16\, Bramsche\, Niedersachsen\, 49565\, Deutschland
END:VEVENT
END:VCALENDAR