BEGIN:VCALENDAR
VERSION:2.0
PRODID:-//Hospizverein Bramsche - ECPv6.15.16//NONSGML v1.0//EN
CALSCALE:GREGORIAN
METHOD:PUBLISH
X-WR-CALNAME:Hospizverein Bramsche
X-ORIGINAL-URL:https://hospizverein-bramsche.de
X-WR-CALDESC:Veranstaltungen für Hospizverein Bramsche
REFRESH-INTERVAL;VALUE=DURATION:PT1H
X-Robots-Tag:noindex
X-PUBLISHED-TTL:PT1H
BEGIN:VTIMEZONE
TZID:Europe/Berlin
BEGIN:DAYLIGHT
TZOFFSETFROM:+0100
TZOFFSETTO:+0200
TZNAME:CEST
DTSTART:20270328T010000
END:DAYLIGHT
BEGIN:STANDARD
TZOFFSETFROM:+0200
TZOFFSETTO:+0100
TZNAME:CET
DTSTART:20271031T010000
END:STANDARD
BEGIN:DAYLIGHT
TZOFFSETFROM:+0100
TZOFFSETTO:+0200
TZNAME:CEST
DTSTART:20280326T010000
END:DAYLIGHT
BEGIN:STANDARD
TZOFFSETFROM:+0200
TZOFFSETTO:+0100
TZNAME:CET
DTSTART:20281029T010000
END:STANDARD
BEGIN:DAYLIGHT
TZOFFSETFROM:+0100
TZOFFSETTO:+0200
TZNAME:CEST
DTSTART:20290325T010000
END:DAYLIGHT
BEGIN:STANDARD
TZOFFSETFROM:+0200
TZOFFSETTO:+0100
TZNAME:CET
DTSTART:20291028T010000
END:STANDARD
END:VTIMEZONE
BEGIN:VEVENT
DTSTART;TZID=Europe/Berlin:20281201T100000
DTEND;TZID=Europe/Berlin:20281201T120000
DTSTAMP:20260424T000314
CREATED:20241218T143911Z
LAST-MODIFIED:20241219T171401Z
UID:10001044-1859277600-1859284800@hospizverein-bramsche.de
SUMMARY:Bürozeiten
DESCRIPTION:
URL:https://hospizverein-bramsche.de/event/buerozeiten-2/2028-12-01/
LOCATION:Hopizbüro\, Münsterstrasse 16\, Bramsche\, Niedersachsen\, 49565\, Deutschland
END:VEVENT
BEGIN:VEVENT
DTSTART;TZID=Europe/Berlin:20281204T150000
DTEND;TZID=Europe/Berlin:20281204T170000
DTSTAMP:20260424T000314
CREATED:20241218T141550Z
LAST-MODIFIED:20241218T143113Z
UID:10000109-1859554800-1859562000@hospizverein-bramsche.de
SUMMARY:Gesprächskreis für Trauernde
DESCRIPTION:
URL:https://hospizverein-bramsche.de/event/gespraechskreis-fuer-trauernde-6-copy/2028-12-04/
LOCATION:Hopizbüro\, Münsterstrasse 16\, Bramsche\, Niedersachsen\, 49565\, Deutschland
END:VEVENT
BEGIN:VEVENT
DTSTART;TZID=Europe/Berlin:20281206T150000
DTEND;TZID=Europe/Berlin:20281206T170000
DTSTAMP:20260424T000314
CREATED:20241218T143731Z
LAST-MODIFIED:20241219T171346Z
UID:10000756-1859727600-1859734800@hospizverein-bramsche.de
SUMMARY:Bürozeiten
DESCRIPTION:
URL:https://hospizverein-bramsche.de/event/buerozeiten/2028-12-06/
LOCATION:Hopizbüro\, Münsterstrasse 16\, Bramsche\, Niedersachsen\, 49565\, Deutschland
END:VEVENT
BEGIN:VEVENT
DTSTART;TZID=Europe/Berlin:20281206T160000
DTEND;TZID=Europe/Berlin:20281206T173000
DTSTAMP:20260424T000314
CREATED:20240514T133036Z
LAST-MODIFIED:20241219T171135Z
UID:10000250-1859731200-1859736600@hospizverein-bramsche.de
SUMMARY:Hospizcafe
DESCRIPTION:
URL:https://hospizverein-bramsche.de/event/hospizcafe/2028-12-06/
LOCATION:Hopizbüro\, Münsterstrasse 16\, Bramsche\, Niedersachsen\, 49565\, Deutschland
END:VEVENT
BEGIN:VEVENT
DTSTART;TZID=Europe/Berlin:20281208T100000
DTEND;TZID=Europe/Berlin:20281208T120000
DTSTAMP:20260424T000314
CREATED:20241218T143911Z
LAST-MODIFIED:20241219T171401Z
UID:10001045-1859882400-1859889600@hospizverein-bramsche.de
SUMMARY:Bürozeiten
DESCRIPTION:
URL:https://hospizverein-bramsche.de/event/buerozeiten-2/2028-12-08/
LOCATION:Hopizbüro\, Münsterstrasse 16\, Bramsche\, Niedersachsen\, 49565\, Deutschland
END:VEVENT
BEGIN:VEVENT
DTSTART;TZID=Europe/Berlin:20281210T143000
DTEND;TZID=Europe/Berlin:20281210T163000
DTSTAMP:20260424T000314
CREATED:20240514T164846Z
LAST-MODIFIED:20241218T143322Z
UID:10000316-1860071400-1860078600@hospizverein-bramsche.de
SUMMARY:Trostbank Friedhof Lindenstraße
DESCRIPTION:
URL:https://hospizverein-bramsche.de/event/trostbank-friedhof-lindenstrasse/2028-12-10/
LOCATION:Friedhof Lindenstraße
END:VEVENT
BEGIN:VEVENT
DTSTART;TZID=Europe/Berlin:20281213T150000
DTEND;TZID=Europe/Berlin:20281213T170000
DTSTAMP:20260424T000314
CREATED:20241218T143731Z
LAST-MODIFIED:20241219T171346Z
UID:10000757-1860332400-1860339600@hospizverein-bramsche.de
SUMMARY:Bürozeiten
DESCRIPTION:
URL:https://hospizverein-bramsche.de/event/buerozeiten/2028-12-13/
LOCATION:Hopizbüro\, Münsterstrasse 16\, Bramsche\, Niedersachsen\, 49565\, Deutschland
END:VEVENT
BEGIN:VEVENT
DTSTART;TZID=Europe/Berlin:20281213T180000
DTEND;TZID=Europe/Berlin:20281213T203000
DTSTAMP:20260424T000314
CREATED:20240606T164438Z
LAST-MODIFIED:20241218T143553Z
UID:10000512-1860343200-1860352200@hospizverein-bramsche.de
SUMMARY:Begleitertreffen
DESCRIPTION:
URL:https://hospizverein-bramsche.de/event/begleitertreffen/2028-12-13/
LOCATION:Hopizbüro\, Münsterstrasse 16\, Bramsche\, Niedersachsen\, 49565\, Deutschland
END:VEVENT
BEGIN:VEVENT
DTSTART;TZID=Europe/Berlin:20281215T100000
DTEND;TZID=Europe/Berlin:20281215T120000
DTSTAMP:20260424T000314
CREATED:20241218T143911Z
LAST-MODIFIED:20241219T171401Z
UID:10001046-1860487200-1860494400@hospizverein-bramsche.de
SUMMARY:Bürozeiten
DESCRIPTION:
URL:https://hospizverein-bramsche.de/event/buerozeiten-2/2028-12-15/
LOCATION:Hopizbüro\, Münsterstrasse 16\, Bramsche\, Niedersachsen\, 49565\, Deutschland
END:VEVENT
BEGIN:VEVENT
DTSTART;TZID=Europe/Berlin:20281220T150000
DTEND;TZID=Europe/Berlin:20281220T170000
DTSTAMP:20260424T000314
CREATED:20241218T143731Z
LAST-MODIFIED:20241219T171346Z
UID:10000758-1860937200-1860944400@hospizverein-bramsche.de
SUMMARY:Bürozeiten
DESCRIPTION:
URL:https://hospizverein-bramsche.de/event/buerozeiten/2028-12-20/
LOCATION:Hopizbüro\, Münsterstrasse 16\, Bramsche\, Niedersachsen\, 49565\, Deutschland
END:VEVENT
BEGIN:VEVENT
DTSTART;TZID=Europe/Berlin:20281221T143000
DTEND;TZID=Europe/Berlin:20281221T163000
DTSTAMP:20260424T000314
CREATED:20240514T162809Z
LAST-MODIFIED:20260106T111718Z
UID:10001486-1861021800-1861029000@hospizverein-bramsche.de
SUMMARY:Trostbank Friedhof Malgarten
DESCRIPTION:
URL:https://hospizverein-bramsche.de/event/trostbank-friedhof-malgarten/2028-12-21/
LOCATION:Friedhof Malgarten
END:VEVENT
BEGIN:VEVENT
DTSTART;TZID=Europe/Berlin:20281221T143000
DTEND;TZID=Europe/Berlin:20281221T163000
DTSTAMP:20260424T000314
CREATED:20250812T114952Z
LAST-MODIFIED:20250812T115036Z
UID:10001221-1861021800-1861029000@hospizverein-bramsche.de
SUMMARY:Trostbank Osnabrücker Straße
DESCRIPTION:
URL:https://hospizverein-bramsche.de/event/trostbank-osnabruecker-strasse-2/2028-12-21/
LOCATION:Friedhof Osnabrücker Straße
END:VEVENT
BEGIN:VEVENT
DTSTART;TZID=Europe/Berlin:20281222T100000
DTEND;TZID=Europe/Berlin:20281222T120000
DTSTAMP:20260424T000314
CREATED:20241218T143911Z
LAST-MODIFIED:20241219T171401Z
UID:10001047-1861092000-1861099200@hospizverein-bramsche.de
SUMMARY:Bürozeiten
DESCRIPTION:
URL:https://hospizverein-bramsche.de/event/buerozeiten-2/2028-12-22/
LOCATION:Hopizbüro\, Münsterstrasse 16\, Bramsche\, Niedersachsen\, 49565\, Deutschland
END:VEVENT
BEGIN:VEVENT
DTSTART;TZID=Europe/Berlin:20281222T143000
DTEND;TZID=Europe/Berlin:20281222T163000
DTSTAMP:20260424T000314
CREATED:20250915T122852Z
LAST-MODIFIED:20260106T111609Z
UID:10001407-1861108200-1861115400@hospizverein-bramsche.de
SUMMARY:Trostbank Friedwald Bramsche
DESCRIPTION:
URL:https://hospizverein-bramsche.de/event/trostbank-friedwald-bramsche-2/2028-12-22/
LOCATION:Friedwald Bramsche
END:VEVENT
BEGIN:VEVENT
DTSTART;TZID=Europe/Berlin:20281227T150000
DTEND;TZID=Europe/Berlin:20281227T170000
DTSTAMP:20260424T000314
CREATED:20241218T143731Z
LAST-MODIFIED:20241219T171346Z
UID:10000759-1861542000-1861549200@hospizverein-bramsche.de
SUMMARY:Bürozeiten
DESCRIPTION:
URL:https://hospizverein-bramsche.de/event/buerozeiten/2028-12-27/
LOCATION:Hopizbüro\, Münsterstrasse 16\, Bramsche\, Niedersachsen\, 49565\, Deutschland
END:VEVENT
BEGIN:VEVENT
DTSTART;TZID=Europe/Berlin:20281229T100000
DTEND;TZID=Europe/Berlin:20281229T120000
DTSTAMP:20260424T000314
CREATED:20241218T143911Z
LAST-MODIFIED:20241219T171401Z
UID:10001048-1861696800-1861704000@hospizverein-bramsche.de
SUMMARY:Bürozeiten
DESCRIPTION:
URL:https://hospizverein-bramsche.de/event/buerozeiten-2/2028-12-29/
LOCATION:Hopizbüro\, Münsterstrasse 16\, Bramsche\, Niedersachsen\, 49565\, Deutschland
END:VEVENT
END:VCALENDAR