BEGIN:VCALENDAR
VERSION:2.0
PRODID:-//Hospizverein Bramsche - ECPv6.15.16//NONSGML v1.0//EN
CALSCALE:GREGORIAN
METHOD:PUBLISH
X-WR-CALNAME:Hospizverein Bramsche
X-ORIGINAL-URL:https://hospizverein-bramsche.de
X-WR-CALDESC:Veranstaltungen für Hospizverein Bramsche
REFRESH-INTERVAL;VALUE=DURATION:PT1H
X-Robots-Tag:noindex
X-PUBLISHED-TTL:PT1H
BEGIN:VTIMEZONE
TZID:Europe/Berlin
BEGIN:DAYLIGHT
TZOFFSETFROM:+0100
TZOFFSETTO:+0200
TZNAME:CEST
DTSTART:20280326T010000
END:DAYLIGHT
BEGIN:STANDARD
TZOFFSETFROM:+0200
TZOFFSETTO:+0100
TZNAME:CET
DTSTART:20281029T010000
END:STANDARD
BEGIN:DAYLIGHT
TZOFFSETFROM:+0100
TZOFFSETTO:+0200
TZNAME:CEST
DTSTART:20290325T010000
END:DAYLIGHT
BEGIN:STANDARD
TZOFFSETFROM:+0200
TZOFFSETTO:+0100
TZNAME:CET
DTSTART:20291028T010000
END:STANDARD
BEGIN:DAYLIGHT
TZOFFSETFROM:+0100
TZOFFSETTO:+0200
TZNAME:CEST
DTSTART:20300331T010000
END:DAYLIGHT
BEGIN:STANDARD
TZOFFSETFROM:+0200
TZOFFSETTO:+0100
TZNAME:CET
DTSTART:20301027T010000
END:STANDARD
END:VTIMEZONE
BEGIN:VEVENT
DTSTART;TZID=Europe/Berlin:20290302T100000
DTEND;TZID=Europe/Berlin:20290302T120000
DTSTAMP:20260424T045811
CREATED:20241218T143911Z
LAST-MODIFIED:20241219T171401Z
UID:10001057-1867140000-1867147200@hospizverein-bramsche.de
SUMMARY:Bürozeiten
DESCRIPTION:
URL:https://hospizverein-bramsche.de/event/buerozeiten-2/2029-03-02/
LOCATION:Hopizbüro\, Münsterstrasse 16\, Bramsche\, Niedersachsen\, 49565\, Deutschland
END:VEVENT
BEGIN:VEVENT
DTSTART;TZID=Europe/Berlin:20290305T150000
DTEND;TZID=Europe/Berlin:20290305T170000
DTSTAMP:20260424T045811
CREATED:20241218T141550Z
LAST-MODIFIED:20241218T143113Z
UID:10000112-1867417200-1867424400@hospizverein-bramsche.de
SUMMARY:Gesprächskreis für Trauernde
DESCRIPTION:
URL:https://hospizverein-bramsche.de/event/gespraechskreis-fuer-trauernde-6-copy/2029-03-05/
LOCATION:Hopizbüro\, Münsterstrasse 16\, Bramsche\, Niedersachsen\, 49565\, Deutschland
END:VEVENT
BEGIN:VEVENT
DTSTART;TZID=Europe/Berlin:20290307T150000
DTEND;TZID=Europe/Berlin:20290307T170000
DTSTAMP:20260424T045811
CREATED:20241218T143731Z
LAST-MODIFIED:20241219T171346Z
UID:10000769-1867590000-1867597200@hospizverein-bramsche.de
SUMMARY:Bürozeiten
DESCRIPTION:
URL:https://hospizverein-bramsche.de/event/buerozeiten/2029-03-07/
LOCATION:Hopizbüro\, Münsterstrasse 16\, Bramsche\, Niedersachsen\, 49565\, Deutschland
END:VEVENT
BEGIN:VEVENT
DTSTART;TZID=Europe/Berlin:20290307T160000
DTEND;TZID=Europe/Berlin:20290307T173000
DTSTAMP:20260424T045811
CREATED:20240514T133036Z
LAST-MODIFIED:20241219T171135Z
UID:10000253-1867593600-1867599000@hospizverein-bramsche.de
SUMMARY:Hospizcafe
DESCRIPTION:
URL:https://hospizverein-bramsche.de/event/hospizcafe/2029-03-07/
LOCATION:Hopizbüro\, Münsterstrasse 16\, Bramsche\, Niedersachsen\, 49565\, Deutschland
END:VEVENT
BEGIN:VEVENT
DTSTART;TZID=Europe/Berlin:20290309T100000
DTEND;TZID=Europe/Berlin:20290309T120000
DTSTAMP:20260424T045811
CREATED:20241218T143911Z
LAST-MODIFIED:20241219T171401Z
UID:10001058-1867744800-1867752000@hospizverein-bramsche.de
SUMMARY:Bürozeiten
DESCRIPTION:
URL:https://hospizverein-bramsche.de/event/buerozeiten-2/2029-03-09/
LOCATION:Hopizbüro\, Münsterstrasse 16\, Bramsche\, Niedersachsen\, 49565\, Deutschland
END:VEVENT
BEGIN:VEVENT
DTSTART;TZID=Europe/Berlin:20290311T143000
DTEND;TZID=Europe/Berlin:20290311T163000
DTSTAMP:20260424T045811
CREATED:20240514T164846Z
LAST-MODIFIED:20241218T143322Z
UID:10000319-1867933800-1867941000@hospizverein-bramsche.de
SUMMARY:Trostbank Friedhof Lindenstraße
DESCRIPTION:
URL:https://hospizverein-bramsche.de/event/trostbank-friedhof-lindenstrasse/2029-03-11/
LOCATION:Friedhof Lindenstraße
END:VEVENT
BEGIN:VEVENT
DTSTART;TZID=Europe/Berlin:20290314T150000
DTEND;TZID=Europe/Berlin:20290314T170000
DTSTAMP:20260424T045811
CREATED:20241218T143731Z
LAST-MODIFIED:20241219T171346Z
UID:10000770-1868194800-1868202000@hospizverein-bramsche.de
SUMMARY:Bürozeiten
DESCRIPTION:
URL:https://hospizverein-bramsche.de/event/buerozeiten/2029-03-14/
LOCATION:Hopizbüro\, Münsterstrasse 16\, Bramsche\, Niedersachsen\, 49565\, Deutschland
END:VEVENT
BEGIN:VEVENT
DTSTART;TZID=Europe/Berlin:20290314T180000
DTEND;TZID=Europe/Berlin:20290314T203000
DTSTAMP:20260424T045811
CREATED:20240606T164438Z
LAST-MODIFIED:20241218T143553Z
UID:10000515-1868205600-1868214600@hospizverein-bramsche.de
SUMMARY:Begleitertreffen
DESCRIPTION:
URL:https://hospizverein-bramsche.de/event/begleitertreffen/2029-03-14/
LOCATION:Hopizbüro\, Münsterstrasse 16\, Bramsche\, Niedersachsen\, 49565\, Deutschland
END:VEVENT
BEGIN:VEVENT
DTSTART;TZID=Europe/Berlin:20290315T143000
DTEND;TZID=Europe/Berlin:20290315T163000
DTSTAMP:20260424T045811
CREATED:20240514T162809Z
LAST-MODIFIED:20260106T111718Z
UID:10001489-1868279400-1868286600@hospizverein-bramsche.de
SUMMARY:Trostbank Friedhof Malgarten
DESCRIPTION:
URL:https://hospizverein-bramsche.de/event/trostbank-friedhof-malgarten/2029-03-15/
LOCATION:Friedhof Malgarten
END:VEVENT
BEGIN:VEVENT
DTSTART;TZID=Europe/Berlin:20290315T143000
DTEND;TZID=Europe/Berlin:20290315T163000
DTSTAMP:20260424T045811
CREATED:20250812T114952Z
LAST-MODIFIED:20250812T115036Z
UID:10001224-1868279400-1868286600@hospizverein-bramsche.de
SUMMARY:Trostbank Osnabrücker Straße
DESCRIPTION:
URL:https://hospizverein-bramsche.de/event/trostbank-osnabruecker-strasse-2/2029-03-15/
LOCATION:Friedhof Osnabrücker Straße
END:VEVENT
BEGIN:VEVENT
DTSTART;TZID=Europe/Berlin:20290316T100000
DTEND;TZID=Europe/Berlin:20290316T120000
DTSTAMP:20260424T045811
CREATED:20241218T143911Z
LAST-MODIFIED:20241219T171401Z
UID:10001059-1868349600-1868356800@hospizverein-bramsche.de
SUMMARY:Bürozeiten
DESCRIPTION:
URL:https://hospizverein-bramsche.de/event/buerozeiten-2/2029-03-16/
LOCATION:Hopizbüro\, Münsterstrasse 16\, Bramsche\, Niedersachsen\, 49565\, Deutschland
END:VEVENT
BEGIN:VEVENT
DTSTART;TZID=Europe/Berlin:20290321T150000
DTEND;TZID=Europe/Berlin:20290321T170000
DTSTAMP:20260424T045811
CREATED:20241218T143731Z
LAST-MODIFIED:20241219T171346Z
UID:10000771-1868799600-1868806800@hospizverein-bramsche.de
SUMMARY:Bürozeiten
DESCRIPTION:
URL:https://hospizverein-bramsche.de/event/buerozeiten/2029-03-21/
LOCATION:Hopizbüro\, Münsterstrasse 16\, Bramsche\, Niedersachsen\, 49565\, Deutschland
END:VEVENT
BEGIN:VEVENT
DTSTART;TZID=Europe/Berlin:20290323T100000
DTEND;TZID=Europe/Berlin:20290323T120000
DTSTAMP:20260424T045811
CREATED:20241218T143911Z
LAST-MODIFIED:20241219T171401Z
UID:10001060-1868954400-1868961600@hospizverein-bramsche.de
SUMMARY:Bürozeiten
DESCRIPTION:
URL:https://hospizverein-bramsche.de/event/buerozeiten-2/2029-03-23/
LOCATION:Hopizbüro\, Münsterstrasse 16\, Bramsche\, Niedersachsen\, 49565\, Deutschland
END:VEVENT
BEGIN:VEVENT
DTSTART;TZID=Europe/Berlin:20290323T143000
DTEND;TZID=Europe/Berlin:20290323T163000
DTSTAMP:20260424T045811
CREATED:20250915T122852Z
LAST-MODIFIED:20260106T111609Z
UID:10001410-1868970600-1868977800@hospizverein-bramsche.de
SUMMARY:Trostbank Friedwald Bramsche
DESCRIPTION:
URL:https://hospizverein-bramsche.de/event/trostbank-friedwald-bramsche-2/2029-03-23/
LOCATION:Friedwald Bramsche
END:VEVENT
BEGIN:VEVENT
DTSTART;TZID=Europe/Berlin:20290328T150000
DTEND;TZID=Europe/Berlin:20290328T170000
DTSTAMP:20260424T045811
CREATED:20241218T143731Z
LAST-MODIFIED:20241219T171346Z
UID:10000772-1869404400-1869411600@hospizverein-bramsche.de
SUMMARY:Bürozeiten
DESCRIPTION:
URL:https://hospizverein-bramsche.de/event/buerozeiten/2029-03-28/
LOCATION:Hopizbüro\, Münsterstrasse 16\, Bramsche\, Niedersachsen\, 49565\, Deutschland
END:VEVENT
BEGIN:VEVENT
DTSTART;TZID=Europe/Berlin:20290330T100000
DTEND;TZID=Europe/Berlin:20290330T120000
DTSTAMP:20260424T045811
CREATED:20241218T143911Z
LAST-MODIFIED:20241219T171401Z
UID:10001061-1869559200-1869566400@hospizverein-bramsche.de
SUMMARY:Bürozeiten
DESCRIPTION:
URL:https://hospizverein-bramsche.de/event/buerozeiten-2/2029-03-30/
LOCATION:Hopizbüro\, Münsterstrasse 16\, Bramsche\, Niedersachsen\, 49565\, Deutschland
END:VEVENT
END:VCALENDAR