BEGIN:VCALENDAR
VERSION:2.0
PRODID:-//Hospizverein Bramsche - ECPv6.15.16//NONSGML v1.0//EN
CALSCALE:GREGORIAN
METHOD:PUBLISH
X-ORIGINAL-URL:https://hospizverein-bramsche.de
X-WR-CALDESC:Veranstaltungen für Hospizverein Bramsche
REFRESH-INTERVAL;VALUE=DURATION:PT1H
X-Robots-Tag:noindex
X-PUBLISHED-TTL:PT1H
BEGIN:VTIMEZONE
TZID:Europe/Berlin
BEGIN:DAYLIGHT
TZOFFSETFROM:+0100
TZOFFSETTO:+0200
TZNAME:CEST
DTSTART:20280326T010000
END:DAYLIGHT
BEGIN:STANDARD
TZOFFSETFROM:+0200
TZOFFSETTO:+0100
TZNAME:CET
DTSTART:20281029T010000
END:STANDARD
BEGIN:DAYLIGHT
TZOFFSETFROM:+0100
TZOFFSETTO:+0200
TZNAME:CEST
DTSTART:20290325T010000
END:DAYLIGHT
BEGIN:STANDARD
TZOFFSETFROM:+0200
TZOFFSETTO:+0100
TZNAME:CET
DTSTART:20291028T010000
END:STANDARD
BEGIN:DAYLIGHT
TZOFFSETFROM:+0100
TZOFFSETTO:+0200
TZNAME:CEST
DTSTART:20300331T010000
END:DAYLIGHT
BEGIN:STANDARD
TZOFFSETFROM:+0200
TZOFFSETTO:+0100
TZNAME:CET
DTSTART:20301027T010000
END:STANDARD
END:VTIMEZONE
BEGIN:VEVENT
DTSTART;TZID=Europe/Berlin:20290502T150000
DTEND;TZID=Europe/Berlin:20290502T170000
DTSTAMP:20260424T063653
CREATED:20241218T143731Z
LAST-MODIFIED:20241219T171346Z
UID:10000777-1872428400-1872435600@hospizverein-bramsche.de
SUMMARY:Bürozeiten
DESCRIPTION:
URL:https://hospizverein-bramsche.de/event/buerozeiten/2029-05-02/
LOCATION:Hopizbüro\, Münsterstrasse 16\, Bramsche\, Niedersachsen\, 49565\, Deutschland
END:VEVENT
BEGIN:VEVENT
DTSTART;TZID=Europe/Berlin:20290502T160000
DTEND;TZID=Europe/Berlin:20290502T173000
DTSTAMP:20260424T063653
CREATED:20240514T133036Z
LAST-MODIFIED:20241219T171135Z
UID:10000255-1872432000-1872437400@hospizverein-bramsche.de
SUMMARY:Hospizcafe
DESCRIPTION:
URL:https://hospizverein-bramsche.de/event/hospizcafe/2029-05-02/
LOCATION:Hopizbüro\, Münsterstrasse 16\, Bramsche\, Niedersachsen\, 49565\, Deutschland
END:VEVENT
BEGIN:VEVENT
DTSTART;TZID=Europe/Berlin:20290504T100000
DTEND;TZID=Europe/Berlin:20290504T120000
DTSTAMP:20260424T063653
CREATED:20241218T143911Z
LAST-MODIFIED:20241219T171401Z
UID:10001066-1872583200-1872590400@hospizverein-bramsche.de
SUMMARY:Bürozeiten
DESCRIPTION:
URL:https://hospizverein-bramsche.de/event/buerozeiten-2/2029-05-04/
LOCATION:Hopizbüro\, Münsterstrasse 16\, Bramsche\, Niedersachsen\, 49565\, Deutschland
END:VEVENT
BEGIN:VEVENT
DTSTART;TZID=Europe/Berlin:20290507T150000
DTEND;TZID=Europe/Berlin:20290507T170000
DTSTAMP:20260424T063653
CREATED:20241218T141550Z
LAST-MODIFIED:20241218T143113Z
UID:10000114-1872860400-1872867600@hospizverein-bramsche.de
SUMMARY:Gesprächskreis für Trauernde
DESCRIPTION:
URL:https://hospizverein-bramsche.de/event/gespraechskreis-fuer-trauernde-6-copy/2029-05-07/
LOCATION:Hopizbüro\, Münsterstrasse 16\, Bramsche\, Niedersachsen\, 49565\, Deutschland
END:VEVENT
BEGIN:VEVENT
DTSTART;TZID=Europe/Berlin:20290509T150000
DTEND;TZID=Europe/Berlin:20290509T170000
DTSTAMP:20260424T063653
CREATED:20241218T143731Z
LAST-MODIFIED:20241219T171346Z
UID:10000778-1873033200-1873040400@hospizverein-bramsche.de
SUMMARY:Bürozeiten
DESCRIPTION:
URL:https://hospizverein-bramsche.de/event/buerozeiten/2029-05-09/
LOCATION:Hopizbüro\, Münsterstrasse 16\, Bramsche\, Niedersachsen\, 49565\, Deutschland
END:VEVENT
BEGIN:VEVENT
DTSTART;TZID=Europe/Berlin:20290509T180000
DTEND;TZID=Europe/Berlin:20290509T203000
DTSTAMP:20260424T063653
CREATED:20240606T164438Z
LAST-MODIFIED:20241218T143553Z
UID:10000517-1873044000-1873053000@hospizverein-bramsche.de
SUMMARY:Begleitertreffen
DESCRIPTION:
URL:https://hospizverein-bramsche.de/event/begleitertreffen/2029-05-09/
LOCATION:Hopizbüro\, Münsterstrasse 16\, Bramsche\, Niedersachsen\, 49565\, Deutschland
END:VEVENT
BEGIN:VEVENT
DTSTART;TZID=Europe/Berlin:20290511T100000
DTEND;TZID=Europe/Berlin:20290511T120000
DTSTAMP:20260424T063653
CREATED:20241218T143911Z
LAST-MODIFIED:20241219T171401Z
UID:10001067-1873188000-1873195200@hospizverein-bramsche.de
SUMMARY:Bürozeiten
DESCRIPTION:
URL:https://hospizverein-bramsche.de/event/buerozeiten-2/2029-05-11/
LOCATION:Hopizbüro\, Münsterstrasse 16\, Bramsche\, Niedersachsen\, 49565\, Deutschland
END:VEVENT
BEGIN:VEVENT
DTSTART;TZID=Europe/Berlin:20290513T143000
DTEND;TZID=Europe/Berlin:20290513T163000
DTSTAMP:20260424T063653
CREATED:20240514T164846Z
LAST-MODIFIED:20241218T143322Z
UID:10000321-1873377000-1873384200@hospizverein-bramsche.de
SUMMARY:Trostbank Friedhof Lindenstraße
DESCRIPTION:
URL:https://hospizverein-bramsche.de/event/trostbank-friedhof-lindenstrasse/2029-05-13/
LOCATION:Friedhof Lindenstraße
END:VEVENT
BEGIN:VEVENT
DTSTART;TZID=Europe/Berlin:20290516T150000
DTEND;TZID=Europe/Berlin:20290516T170000
DTSTAMP:20260424T063653
CREATED:20241218T143731Z
LAST-MODIFIED:20241219T171346Z
UID:10000779-1873638000-1873645200@hospizverein-bramsche.de
SUMMARY:Bürozeiten
DESCRIPTION:
URL:https://hospizverein-bramsche.de/event/buerozeiten/2029-05-16/
LOCATION:Hopizbüro\, Münsterstrasse 16\, Bramsche\, Niedersachsen\, 49565\, Deutschland
END:VEVENT
BEGIN:VEVENT
DTSTART;TZID=Europe/Berlin:20290517T143000
DTEND;TZID=Europe/Berlin:20290517T163000
DTSTAMP:20260424T063653
CREATED:20240514T162809Z
LAST-MODIFIED:20260106T111718Z
UID:10001491-1873722600-1873729800@hospizverein-bramsche.de
SUMMARY:Trostbank Friedhof Malgarten
DESCRIPTION:
URL:https://hospizverein-bramsche.de/event/trostbank-friedhof-malgarten/2029-05-17/
LOCATION:Friedhof Malgarten
END:VEVENT
BEGIN:VEVENT
DTSTART;TZID=Europe/Berlin:20290517T143000
DTEND;TZID=Europe/Berlin:20290517T163000
DTSTAMP:20260424T063653
CREATED:20250812T114952Z
LAST-MODIFIED:20250812T115036Z
UID:10001226-1873722600-1873729800@hospizverein-bramsche.de
SUMMARY:Trostbank Osnabrücker Straße
DESCRIPTION:
URL:https://hospizverein-bramsche.de/event/trostbank-osnabruecker-strasse-2/2029-05-17/
LOCATION:Friedhof Osnabrücker Straße
END:VEVENT
BEGIN:VEVENT
DTSTART;TZID=Europe/Berlin:20290518T100000
DTEND;TZID=Europe/Berlin:20290518T120000
DTSTAMP:20260424T063653
CREATED:20241218T143911Z
LAST-MODIFIED:20241219T171401Z
UID:10001068-1873792800-1873800000@hospizverein-bramsche.de
SUMMARY:Bürozeiten
DESCRIPTION:
URL:https://hospizverein-bramsche.de/event/buerozeiten-2/2029-05-18/
LOCATION:Hopizbüro\, Münsterstrasse 16\, Bramsche\, Niedersachsen\, 49565\, Deutschland
END:VEVENT
BEGIN:VEVENT
DTSTART;TZID=Europe/Berlin:20290523T150000
DTEND;TZID=Europe/Berlin:20290523T170000
DTSTAMP:20260424T063653
CREATED:20241218T143731Z
LAST-MODIFIED:20241219T171346Z
UID:10000780-1874242800-1874250000@hospizverein-bramsche.de
SUMMARY:Bürozeiten
DESCRIPTION:
URL:https://hospizverein-bramsche.de/event/buerozeiten/2029-05-23/
LOCATION:Hopizbüro\, Münsterstrasse 16\, Bramsche\, Niedersachsen\, 49565\, Deutschland
END:VEVENT
BEGIN:VEVENT
DTSTART;TZID=Europe/Berlin:20290525T100000
DTEND;TZID=Europe/Berlin:20290525T120000
DTSTAMP:20260424T063653
CREATED:20241218T143911Z
LAST-MODIFIED:20241219T171401Z
UID:10001069-1874397600-1874404800@hospizverein-bramsche.de
SUMMARY:Bürozeiten
DESCRIPTION:
URL:https://hospizverein-bramsche.de/event/buerozeiten-2/2029-05-25/
LOCATION:Hopizbüro\, Münsterstrasse 16\, Bramsche\, Niedersachsen\, 49565\, Deutschland
END:VEVENT
BEGIN:VEVENT
DTSTART;TZID=Europe/Berlin:20290525T143000
DTEND;TZID=Europe/Berlin:20290525T163000
DTSTAMP:20260424T063653
CREATED:20250915T122852Z
LAST-MODIFIED:20260106T111609Z
UID:10001412-1874413800-1874421000@hospizverein-bramsche.de
SUMMARY:Trostbank Friedwald Bramsche
DESCRIPTION:
URL:https://hospizverein-bramsche.de/event/trostbank-friedwald-bramsche-2/2029-05-25/
LOCATION:Friedwald Bramsche
END:VEVENT
BEGIN:VEVENT
DTSTART;TZID=Europe/Berlin:20290530T150000
DTEND;TZID=Europe/Berlin:20290530T170000
DTSTAMP:20260424T063653
CREATED:20241218T143731Z
LAST-MODIFIED:20241219T171346Z
UID:10000781-1874847600-1874854800@hospizverein-bramsche.de
SUMMARY:Bürozeiten
DESCRIPTION:
URL:https://hospizverein-bramsche.de/event/buerozeiten/2029-05-30/
LOCATION:Hopizbüro\, Münsterstrasse 16\, Bramsche\, Niedersachsen\, 49565\, Deutschland
END:VEVENT
END:VCALENDAR