BEGIN:VCALENDAR
VERSION:2.0
PRODID:-//Hospizverein Bramsche - ECPv6.15.16//NONSGML v1.0//EN
CALSCALE:GREGORIAN
METHOD:PUBLISH
X-WR-CALNAME:Hospizverein Bramsche
X-ORIGINAL-URL:https://hospizverein-bramsche.de
X-WR-CALDESC:Veranstaltungen für Hospizverein Bramsche
REFRESH-INTERVAL;VALUE=DURATION:PT1H
X-Robots-Tag:noindex
X-PUBLISHED-TTL:PT1H
BEGIN:VTIMEZONE
TZID:Europe/Berlin
BEGIN:DAYLIGHT
TZOFFSETFROM:+0100
TZOFFSETTO:+0200
TZNAME:CEST
DTSTART:20280326T010000
END:DAYLIGHT
BEGIN:STANDARD
TZOFFSETFROM:+0200
TZOFFSETTO:+0100
TZNAME:CET
DTSTART:20281029T010000
END:STANDARD
BEGIN:DAYLIGHT
TZOFFSETFROM:+0100
TZOFFSETTO:+0200
TZNAME:CEST
DTSTART:20290325T010000
END:DAYLIGHT
BEGIN:STANDARD
TZOFFSETFROM:+0200
TZOFFSETTO:+0100
TZNAME:CET
DTSTART:20291028T010000
END:STANDARD
BEGIN:DAYLIGHT
TZOFFSETFROM:+0100
TZOFFSETTO:+0200
TZNAME:CEST
DTSTART:20300331T010000
END:DAYLIGHT
BEGIN:STANDARD
TZOFFSETFROM:+0200
TZOFFSETTO:+0100
TZNAME:CET
DTSTART:20301027T010000
END:STANDARD
END:VTIMEZONE
BEGIN:VEVENT
DTSTART;TZID=Europe/Berlin:20290601T100000
DTEND;TZID=Europe/Berlin:20290601T120000
DTSTAMP:20260424T075950
CREATED:20241218T143911Z
LAST-MODIFIED:20241219T171401Z
UID:10001070-1875002400-1875009600@hospizverein-bramsche.de
SUMMARY:Bürozeiten
DESCRIPTION:
URL:https://hospizverein-bramsche.de/event/buerozeiten-2/2029-06-01/
LOCATION:Hopizbüro\, Münsterstrasse 16\, Bramsche\, Niedersachsen\, 49565\, Deutschland
END:VEVENT
BEGIN:VEVENT
DTSTART;TZID=Europe/Berlin:20290604T150000
DTEND;TZID=Europe/Berlin:20290604T170000
DTSTAMP:20260424T075950
CREATED:20241218T141550Z
LAST-MODIFIED:20241218T143113Z
UID:10000115-1875279600-1875286800@hospizverein-bramsche.de
SUMMARY:Gesprächskreis für Trauernde
DESCRIPTION:
URL:https://hospizverein-bramsche.de/event/gespraechskreis-fuer-trauernde-6-copy/2029-06-04/
LOCATION:Hopizbüro\, Münsterstrasse 16\, Bramsche\, Niedersachsen\, 49565\, Deutschland
END:VEVENT
BEGIN:VEVENT
DTSTART;TZID=Europe/Berlin:20290606T150000
DTEND;TZID=Europe/Berlin:20290606T170000
DTSTAMP:20260424T075950
CREATED:20241218T143731Z
LAST-MODIFIED:20241219T171346Z
UID:10000782-1875452400-1875459600@hospizverein-bramsche.de
SUMMARY:Bürozeiten
DESCRIPTION:
URL:https://hospizverein-bramsche.de/event/buerozeiten/2029-06-06/
LOCATION:Hopizbüro\, Münsterstrasse 16\, Bramsche\, Niedersachsen\, 49565\, Deutschland
END:VEVENT
BEGIN:VEVENT
DTSTART;TZID=Europe/Berlin:20290606T160000
DTEND;TZID=Europe/Berlin:20290606T173000
DTSTAMP:20260424T075950
CREATED:20240514T133036Z
LAST-MODIFIED:20241219T171135Z
UID:10000256-1875456000-1875461400@hospizverein-bramsche.de
SUMMARY:Hospizcafe
DESCRIPTION:
URL:https://hospizverein-bramsche.de/event/hospizcafe/2029-06-06/
LOCATION:Hopizbüro\, Münsterstrasse 16\, Bramsche\, Niedersachsen\, 49565\, Deutschland
END:VEVENT
BEGIN:VEVENT
DTSTART;TZID=Europe/Berlin:20290608T100000
DTEND;TZID=Europe/Berlin:20290608T120000
DTSTAMP:20260424T075950
CREATED:20241218T143911Z
LAST-MODIFIED:20241219T171401Z
UID:10001071-1875607200-1875614400@hospizverein-bramsche.de
SUMMARY:Bürozeiten
DESCRIPTION:
URL:https://hospizverein-bramsche.de/event/buerozeiten-2/2029-06-08/
LOCATION:Hopizbüro\, Münsterstrasse 16\, Bramsche\, Niedersachsen\, 49565\, Deutschland
END:VEVENT
BEGIN:VEVENT
DTSTART;TZID=Europe/Berlin:20290610T143000
DTEND;TZID=Europe/Berlin:20290610T163000
DTSTAMP:20260424T075950
CREATED:20240514T164846Z
LAST-MODIFIED:20241218T143322Z
UID:10000322-1875796200-1875803400@hospizverein-bramsche.de
SUMMARY:Trostbank Friedhof Lindenstraße
DESCRIPTION:
URL:https://hospizverein-bramsche.de/event/trostbank-friedhof-lindenstrasse/2029-06-10/
LOCATION:Friedhof Lindenstraße
END:VEVENT
BEGIN:VEVENT
DTSTART;TZID=Europe/Berlin:20290613T150000
DTEND;TZID=Europe/Berlin:20290613T170000
DTSTAMP:20260424T075950
CREATED:20241218T143731Z
LAST-MODIFIED:20241219T171346Z
UID:10000783-1876057200-1876064400@hospizverein-bramsche.de
SUMMARY:Bürozeiten
DESCRIPTION:
URL:https://hospizverein-bramsche.de/event/buerozeiten/2029-06-13/
LOCATION:Hopizbüro\, Münsterstrasse 16\, Bramsche\, Niedersachsen\, 49565\, Deutschland
END:VEVENT
BEGIN:VEVENT
DTSTART;TZID=Europe/Berlin:20290613T180000
DTEND;TZID=Europe/Berlin:20290613T203000
DTSTAMP:20260424T075950
CREATED:20240606T164438Z
LAST-MODIFIED:20241218T143553Z
UID:10000518-1876068000-1876077000@hospizverein-bramsche.de
SUMMARY:Begleitertreffen
DESCRIPTION:
URL:https://hospizverein-bramsche.de/event/begleitertreffen/2029-06-13/
LOCATION:Hopizbüro\, Münsterstrasse 16\, Bramsche\, Niedersachsen\, 49565\, Deutschland
END:VEVENT
BEGIN:VEVENT
DTSTART;TZID=Europe/Berlin:20290615T100000
DTEND;TZID=Europe/Berlin:20290615T120000
DTSTAMP:20260424T075950
CREATED:20241218T143911Z
LAST-MODIFIED:20241219T171401Z
UID:10001072-1876212000-1876219200@hospizverein-bramsche.de
SUMMARY:Bürozeiten
DESCRIPTION:
URL:https://hospizverein-bramsche.de/event/buerozeiten-2/2029-06-15/
LOCATION:Hopizbüro\, Münsterstrasse 16\, Bramsche\, Niedersachsen\, 49565\, Deutschland
END:VEVENT
BEGIN:VEVENT
DTSTART;TZID=Europe/Berlin:20290620T150000
DTEND;TZID=Europe/Berlin:20290620T170000
DTSTAMP:20260424T075950
CREATED:20241218T143731Z
LAST-MODIFIED:20241219T171346Z
UID:10000784-1876662000-1876669200@hospizverein-bramsche.de
SUMMARY:Bürozeiten
DESCRIPTION:
URL:https://hospizverein-bramsche.de/event/buerozeiten/2029-06-20/
LOCATION:Hopizbüro\, Münsterstrasse 16\, Bramsche\, Niedersachsen\, 49565\, Deutschland
END:VEVENT
BEGIN:VEVENT
DTSTART;TZID=Europe/Berlin:20290621T143000
DTEND;TZID=Europe/Berlin:20290621T163000
DTSTAMP:20260424T075950
CREATED:20240514T162809Z
LAST-MODIFIED:20260106T111718Z
UID:10001492-1876746600-1876753800@hospizverein-bramsche.de
SUMMARY:Trostbank Friedhof Malgarten
DESCRIPTION:
URL:https://hospizverein-bramsche.de/event/trostbank-friedhof-malgarten/2029-06-21/
LOCATION:Friedhof Malgarten
END:VEVENT
BEGIN:VEVENT
DTSTART;TZID=Europe/Berlin:20290621T143000
DTEND;TZID=Europe/Berlin:20290621T163000
DTSTAMP:20260424T075950
CREATED:20250812T114952Z
LAST-MODIFIED:20250812T115036Z
UID:10001227-1876746600-1876753800@hospizverein-bramsche.de
SUMMARY:Trostbank Osnabrücker Straße
DESCRIPTION:
URL:https://hospizverein-bramsche.de/event/trostbank-osnabruecker-strasse-2/2029-06-21/
LOCATION:Friedhof Osnabrücker Straße
END:VEVENT
BEGIN:VEVENT
DTSTART;TZID=Europe/Berlin:20290622T100000
DTEND;TZID=Europe/Berlin:20290622T120000
DTSTAMP:20260424T075950
CREATED:20241218T143911Z
LAST-MODIFIED:20241219T171401Z
UID:10001073-1876816800-1876824000@hospizverein-bramsche.de
SUMMARY:Bürozeiten
DESCRIPTION:
URL:https://hospizverein-bramsche.de/event/buerozeiten-2/2029-06-22/
LOCATION:Hopizbüro\, Münsterstrasse 16\, Bramsche\, Niedersachsen\, 49565\, Deutschland
END:VEVENT
BEGIN:VEVENT
DTSTART;TZID=Europe/Berlin:20290622T143000
DTEND;TZID=Europe/Berlin:20290622T163000
DTSTAMP:20260424T075950
CREATED:20250915T122852Z
LAST-MODIFIED:20260106T111609Z
UID:10001413-1876833000-1876840200@hospizverein-bramsche.de
SUMMARY:Trostbank Friedwald Bramsche
DESCRIPTION:
URL:https://hospizverein-bramsche.de/event/trostbank-friedwald-bramsche-2/2029-06-22/
LOCATION:Friedwald Bramsche
END:VEVENT
BEGIN:VEVENT
DTSTART;TZID=Europe/Berlin:20290627T150000
DTEND;TZID=Europe/Berlin:20290627T170000
DTSTAMP:20260424T075950
CREATED:20241218T143731Z
LAST-MODIFIED:20241219T171346Z
UID:10000785-1877266800-1877274000@hospizverein-bramsche.de
SUMMARY:Bürozeiten
DESCRIPTION:
URL:https://hospizverein-bramsche.de/event/buerozeiten/2029-06-27/
LOCATION:Hopizbüro\, Münsterstrasse 16\, Bramsche\, Niedersachsen\, 49565\, Deutschland
END:VEVENT
BEGIN:VEVENT
DTSTART;TZID=Europe/Berlin:20290629T100000
DTEND;TZID=Europe/Berlin:20290629T120000
DTSTAMP:20260424T075950
CREATED:20241218T143911Z
LAST-MODIFIED:20241219T171401Z
UID:10001074-1877421600-1877428800@hospizverein-bramsche.de
SUMMARY:Bürozeiten
DESCRIPTION:
URL:https://hospizverein-bramsche.de/event/buerozeiten-2/2029-06-29/
LOCATION:Hopizbüro\, Münsterstrasse 16\, Bramsche\, Niedersachsen\, 49565\, Deutschland
END:VEVENT
END:VCALENDAR