BEGIN:VCALENDAR
VERSION:2.0
PRODID:-//Hospizverein Bramsche - ECPv6.15.16//NONSGML v1.0//EN
CALSCALE:GREGORIAN
METHOD:PUBLISH
X-ORIGINAL-URL:https://hospizverein-bramsche.de
X-WR-CALDESC:Veranstaltungen für Hospizverein Bramsche
REFRESH-INTERVAL;VALUE=DURATION:PT1H
X-Robots-Tag:noindex
X-PUBLISHED-TTL:PT1H
BEGIN:VTIMEZONE
TZID:Europe/Berlin
BEGIN:DAYLIGHT
TZOFFSETFROM:+0100
TZOFFSETTO:+0200
TZNAME:CEST
DTSTART:20280326T010000
END:DAYLIGHT
BEGIN:STANDARD
TZOFFSETFROM:+0200
TZOFFSETTO:+0100
TZNAME:CET
DTSTART:20281029T010000
END:STANDARD
BEGIN:DAYLIGHT
TZOFFSETFROM:+0100
TZOFFSETTO:+0200
TZNAME:CEST
DTSTART:20290325T010000
END:DAYLIGHT
BEGIN:STANDARD
TZOFFSETFROM:+0200
TZOFFSETTO:+0100
TZNAME:CET
DTSTART:20291028T010000
END:STANDARD
BEGIN:DAYLIGHT
TZOFFSETFROM:+0100
TZOFFSETTO:+0200
TZNAME:CEST
DTSTART:20300331T010000
END:DAYLIGHT
BEGIN:STANDARD
TZOFFSETFROM:+0200
TZOFFSETTO:+0100
TZNAME:CET
DTSTART:20301027T010000
END:STANDARD
END:VTIMEZONE
BEGIN:VEVENT
DTSTART;TZID=Europe/Berlin:20290801T150000
DTEND;TZID=Europe/Berlin:20290801T170000
DTSTAMP:20260424T105838
CREATED:20241218T143731Z
LAST-MODIFIED:20241219T171346Z
UID:10000790-1880290800-1880298000@hospizverein-bramsche.de
SUMMARY:Bürozeiten
DESCRIPTION:
URL:https://hospizverein-bramsche.de/event/buerozeiten/2029-08-01/
LOCATION:Hopizbüro\, Münsterstrasse 16\, Bramsche\, Niedersachsen\, 49565\, Deutschland
END:VEVENT
BEGIN:VEVENT
DTSTART;TZID=Europe/Berlin:20290801T160000
DTEND;TZID=Europe/Berlin:20290801T173000
DTSTAMP:20260424T105838
CREATED:20240514T133036Z
LAST-MODIFIED:20241219T171135Z
UID:10000258-1880294400-1880299800@hospizverein-bramsche.de
SUMMARY:Hospizcafe
DESCRIPTION:
URL:https://hospizverein-bramsche.de/event/hospizcafe/2029-08-01/
LOCATION:Hopizbüro\, Münsterstrasse 16\, Bramsche\, Niedersachsen\, 49565\, Deutschland
END:VEVENT
BEGIN:VEVENT
DTSTART;TZID=Europe/Berlin:20290803T100000
DTEND;TZID=Europe/Berlin:20290803T120000
DTSTAMP:20260424T105838
CREATED:20241218T143911Z
LAST-MODIFIED:20241219T171401Z
UID:10001079-1880445600-1880452800@hospizverein-bramsche.de
SUMMARY:Bürozeiten
DESCRIPTION:
URL:https://hospizverein-bramsche.de/event/buerozeiten-2/2029-08-03/
LOCATION:Hopizbüro\, Münsterstrasse 16\, Bramsche\, Niedersachsen\, 49565\, Deutschland
END:VEVENT
BEGIN:VEVENT
DTSTART;TZID=Europe/Berlin:20290806T150000
DTEND;TZID=Europe/Berlin:20290806T170000
DTSTAMP:20260424T105838
CREATED:20241218T141550Z
LAST-MODIFIED:20241218T143113Z
UID:10000117-1880722800-1880730000@hospizverein-bramsche.de
SUMMARY:Gesprächskreis für Trauernde
DESCRIPTION:
URL:https://hospizverein-bramsche.de/event/gespraechskreis-fuer-trauernde-6-copy/2029-08-06/
LOCATION:Hopizbüro\, Münsterstrasse 16\, Bramsche\, Niedersachsen\, 49565\, Deutschland
END:VEVENT
BEGIN:VEVENT
DTSTART;TZID=Europe/Berlin:20290808T150000
DTEND;TZID=Europe/Berlin:20290808T170000
DTSTAMP:20260424T105838
CREATED:20241218T143731Z
LAST-MODIFIED:20241219T171346Z
UID:10000791-1880895600-1880902800@hospizverein-bramsche.de
SUMMARY:Bürozeiten
DESCRIPTION:
URL:https://hospizverein-bramsche.de/event/buerozeiten/2029-08-08/
LOCATION:Hopizbüro\, Münsterstrasse 16\, Bramsche\, Niedersachsen\, 49565\, Deutschland
END:VEVENT
BEGIN:VEVENT
DTSTART;TZID=Europe/Berlin:20290808T180000
DTEND;TZID=Europe/Berlin:20290808T203000
DTSTAMP:20260424T105838
CREATED:20240606T164438Z
LAST-MODIFIED:20241218T143553Z
UID:10000520-1880906400-1880915400@hospizverein-bramsche.de
SUMMARY:Begleitertreffen
DESCRIPTION:
URL:https://hospizverein-bramsche.de/event/begleitertreffen/2029-08-08/
LOCATION:Hopizbüro\, Münsterstrasse 16\, Bramsche\, Niedersachsen\, 49565\, Deutschland
END:VEVENT
BEGIN:VEVENT
DTSTART;TZID=Europe/Berlin:20290810T100000
DTEND;TZID=Europe/Berlin:20290810T120000
DTSTAMP:20260424T105838
CREATED:20241218T143911Z
LAST-MODIFIED:20241219T171401Z
UID:10001080-1881050400-1881057600@hospizverein-bramsche.de
SUMMARY:Bürozeiten
DESCRIPTION:
URL:https://hospizverein-bramsche.de/event/buerozeiten-2/2029-08-10/
LOCATION:Hopizbüro\, Münsterstrasse 16\, Bramsche\, Niedersachsen\, 49565\, Deutschland
END:VEVENT
BEGIN:VEVENT
DTSTART;TZID=Europe/Berlin:20290812T143000
DTEND;TZID=Europe/Berlin:20290812T163000
DTSTAMP:20260424T105838
CREATED:20240514T164846Z
LAST-MODIFIED:20241218T143322Z
UID:10000324-1881239400-1881246600@hospizverein-bramsche.de
SUMMARY:Trostbank Friedhof Lindenstraße
DESCRIPTION:
URL:https://hospizverein-bramsche.de/event/trostbank-friedhof-lindenstrasse/2029-08-12/
LOCATION:Friedhof Lindenstraße
END:VEVENT
BEGIN:VEVENT
DTSTART;TZID=Europe/Berlin:20290815T150000
DTEND;TZID=Europe/Berlin:20290815T170000
DTSTAMP:20260424T105838
CREATED:20241218T143731Z
LAST-MODIFIED:20241219T171346Z
UID:10000792-1881500400-1881507600@hospizverein-bramsche.de
SUMMARY:Bürozeiten
DESCRIPTION:
URL:https://hospizverein-bramsche.de/event/buerozeiten/2029-08-15/
LOCATION:Hopizbüro\, Münsterstrasse 16\, Bramsche\, Niedersachsen\, 49565\, Deutschland
END:VEVENT
BEGIN:VEVENT
DTSTART;TZID=Europe/Berlin:20290816T143000
DTEND;TZID=Europe/Berlin:20290816T163000
DTSTAMP:20260424T105838
CREATED:20240514T162809Z
LAST-MODIFIED:20260106T111718Z
UID:10001494-1881585000-1881592200@hospizverein-bramsche.de
SUMMARY:Trostbank Friedhof Malgarten
DESCRIPTION:
URL:https://hospizverein-bramsche.de/event/trostbank-friedhof-malgarten/2029-08-16/
LOCATION:Friedhof Malgarten
END:VEVENT
BEGIN:VEVENT
DTSTART;TZID=Europe/Berlin:20290816T143000
DTEND;TZID=Europe/Berlin:20290816T163000
DTSTAMP:20260424T105838
CREATED:20250812T114952Z
LAST-MODIFIED:20250812T115036Z
UID:10001229-1881585000-1881592200@hospizverein-bramsche.de
SUMMARY:Trostbank Osnabrücker Straße
DESCRIPTION:
URL:https://hospizverein-bramsche.de/event/trostbank-osnabruecker-strasse-2/2029-08-16/
LOCATION:Friedhof Osnabrücker Straße
END:VEVENT
BEGIN:VEVENT
DTSTART;TZID=Europe/Berlin:20290817T100000
DTEND;TZID=Europe/Berlin:20290817T120000
DTSTAMP:20260424T105838
CREATED:20241218T143911Z
LAST-MODIFIED:20241219T171401Z
UID:10001081-1881655200-1881662400@hospizverein-bramsche.de
SUMMARY:Bürozeiten
DESCRIPTION:
URL:https://hospizverein-bramsche.de/event/buerozeiten-2/2029-08-17/
LOCATION:Hopizbüro\, Münsterstrasse 16\, Bramsche\, Niedersachsen\, 49565\, Deutschland
END:VEVENT
BEGIN:VEVENT
DTSTART;TZID=Europe/Berlin:20290822T150000
DTEND;TZID=Europe/Berlin:20290822T170000
DTSTAMP:20260424T105838
CREATED:20241218T143731Z
LAST-MODIFIED:20241219T171346Z
UID:10000793-1882105200-1882112400@hospizverein-bramsche.de
SUMMARY:Bürozeiten
DESCRIPTION:
URL:https://hospizverein-bramsche.de/event/buerozeiten/2029-08-22/
LOCATION:Hopizbüro\, Münsterstrasse 16\, Bramsche\, Niedersachsen\, 49565\, Deutschland
END:VEVENT
BEGIN:VEVENT
DTSTART;TZID=Europe/Berlin:20290824T100000
DTEND;TZID=Europe/Berlin:20290824T120000
DTSTAMP:20260424T105838
CREATED:20241218T143911Z
LAST-MODIFIED:20241219T171401Z
UID:10001082-1882260000-1882267200@hospizverein-bramsche.de
SUMMARY:Bürozeiten
DESCRIPTION:
URL:https://hospizverein-bramsche.de/event/buerozeiten-2/2029-08-24/
LOCATION:Hopizbüro\, Münsterstrasse 16\, Bramsche\, Niedersachsen\, 49565\, Deutschland
END:VEVENT
BEGIN:VEVENT
DTSTART;TZID=Europe/Berlin:20290824T143000
DTEND;TZID=Europe/Berlin:20290824T163000
DTSTAMP:20260424T105838
CREATED:20250915T122852Z
LAST-MODIFIED:20260106T111609Z
UID:10001415-1882276200-1882283400@hospizverein-bramsche.de
SUMMARY:Trostbank Friedwald Bramsche
DESCRIPTION:
URL:https://hospizverein-bramsche.de/event/trostbank-friedwald-bramsche-2/2029-08-24/
LOCATION:Friedwald Bramsche
END:VEVENT
BEGIN:VEVENT
DTSTART;TZID=Europe/Berlin:20290829T150000
DTEND;TZID=Europe/Berlin:20290829T170000
DTSTAMP:20260424T105838
CREATED:20241218T143731Z
LAST-MODIFIED:20241219T171346Z
UID:10000794-1882710000-1882717200@hospizverein-bramsche.de
SUMMARY:Bürozeiten
DESCRIPTION:
URL:https://hospizverein-bramsche.de/event/buerozeiten/2029-08-29/
LOCATION:Hopizbüro\, Münsterstrasse 16\, Bramsche\, Niedersachsen\, 49565\, Deutschland
END:VEVENT
BEGIN:VEVENT
DTSTART;TZID=Europe/Berlin:20290831T100000
DTEND;TZID=Europe/Berlin:20290831T120000
DTSTAMP:20260424T105838
CREATED:20241218T143911Z
LAST-MODIFIED:20241219T171401Z
UID:10001083-1882864800-1882872000@hospizverein-bramsche.de
SUMMARY:Bürozeiten
DESCRIPTION:
URL:https://hospizverein-bramsche.de/event/buerozeiten-2/2029-08-31/
LOCATION:Hopizbüro\, Münsterstrasse 16\, Bramsche\, Niedersachsen\, 49565\, Deutschland
END:VEVENT
END:VCALENDAR