BEGIN:VCALENDAR
VERSION:2.0
PRODID:-//Hospizverein Bramsche - ECPv6.15.16//NONSGML v1.0//EN
CALSCALE:GREGORIAN
METHOD:PUBLISH
X-ORIGINAL-URL:https://hospizverein-bramsche.de
X-WR-CALDESC:Veranstaltungen für Hospizverein Bramsche
REFRESH-INTERVAL;VALUE=DURATION:PT1H
X-Robots-Tag:noindex
X-PUBLISHED-TTL:PT1H
BEGIN:VTIMEZONE
TZID:Europe/Berlin
BEGIN:DAYLIGHT
TZOFFSETFROM:+0100
TZOFFSETTO:+0200
TZNAME:CEST
DTSTART:20280326T010000
END:DAYLIGHT
BEGIN:STANDARD
TZOFFSETFROM:+0200
TZOFFSETTO:+0100
TZNAME:CET
DTSTART:20281029T010000
END:STANDARD
BEGIN:DAYLIGHT
TZOFFSETFROM:+0100
TZOFFSETTO:+0200
TZNAME:CEST
DTSTART:20290325T010000
END:DAYLIGHT
BEGIN:STANDARD
TZOFFSETFROM:+0200
TZOFFSETTO:+0100
TZNAME:CET
DTSTART:20291028T010000
END:STANDARD
BEGIN:DAYLIGHT
TZOFFSETFROM:+0100
TZOFFSETTO:+0200
TZNAME:CEST
DTSTART:20300331T010000
END:DAYLIGHT
BEGIN:STANDARD
TZOFFSETFROM:+0200
TZOFFSETTO:+0100
TZNAME:CET
DTSTART:20301027T010000
END:STANDARD
END:VTIMEZONE
BEGIN:VEVENT
DTSTART;TZID=Europe/Berlin:20290903T150000
DTEND;TZID=Europe/Berlin:20290903T170000
DTSTAMP:20260424T123606
CREATED:20241218T141550Z
LAST-MODIFIED:20241218T143113Z
UID:10000118-1883142000-1883149200@hospizverein-bramsche.de
SUMMARY:Gesprächskreis für Trauernde
DESCRIPTION:
URL:https://hospizverein-bramsche.de/event/gespraechskreis-fuer-trauernde-6-copy/2029-09-03/
LOCATION:Hopizbüro\, Münsterstrasse 16\, Bramsche\, Niedersachsen\, 49565\, Deutschland
END:VEVENT
BEGIN:VEVENT
DTSTART;TZID=Europe/Berlin:20290905T150000
DTEND;TZID=Europe/Berlin:20290905T170000
DTSTAMP:20260424T123606
CREATED:20241218T143731Z
LAST-MODIFIED:20241219T171346Z
UID:10000795-1883314800-1883322000@hospizverein-bramsche.de
SUMMARY:Bürozeiten
DESCRIPTION:
URL:https://hospizverein-bramsche.de/event/buerozeiten/2029-09-05/
LOCATION:Hopizbüro\, Münsterstrasse 16\, Bramsche\, Niedersachsen\, 49565\, Deutschland
END:VEVENT
BEGIN:VEVENT
DTSTART;TZID=Europe/Berlin:20290905T160000
DTEND;TZID=Europe/Berlin:20290905T173000
DTSTAMP:20260424T123606
CREATED:20240514T133036Z
LAST-MODIFIED:20241219T171135Z
UID:10000259-1883318400-1883323800@hospizverein-bramsche.de
SUMMARY:Hospizcafe
DESCRIPTION:
URL:https://hospizverein-bramsche.de/event/hospizcafe/2029-09-05/
LOCATION:Hopizbüro\, Münsterstrasse 16\, Bramsche\, Niedersachsen\, 49565\, Deutschland
END:VEVENT
BEGIN:VEVENT
DTSTART;TZID=Europe/Berlin:20290907T100000
DTEND;TZID=Europe/Berlin:20290907T120000
DTSTAMP:20260424T123606
CREATED:20241218T143911Z
LAST-MODIFIED:20241219T171401Z
UID:10001084-1883469600-1883476800@hospizverein-bramsche.de
SUMMARY:Bürozeiten
DESCRIPTION:
URL:https://hospizverein-bramsche.de/event/buerozeiten-2/2029-09-07/
LOCATION:Hopizbüro\, Münsterstrasse 16\, Bramsche\, Niedersachsen\, 49565\, Deutschland
END:VEVENT
BEGIN:VEVENT
DTSTART;TZID=Europe/Berlin:20290909T143000
DTEND;TZID=Europe/Berlin:20290909T163000
DTSTAMP:20260424T123606
CREATED:20240514T164846Z
LAST-MODIFIED:20241218T143322Z
UID:10000325-1883658600-1883665800@hospizverein-bramsche.de
SUMMARY:Trostbank Friedhof Lindenstraße
DESCRIPTION:
URL:https://hospizverein-bramsche.de/event/trostbank-friedhof-lindenstrasse/2029-09-09/
LOCATION:Friedhof Lindenstraße
END:VEVENT
BEGIN:VEVENT
DTSTART;TZID=Europe/Berlin:20290912T150000
DTEND;TZID=Europe/Berlin:20290912T170000
DTSTAMP:20260424T123606
CREATED:20241218T143731Z
LAST-MODIFIED:20241219T171346Z
UID:10000796-1883919600-1883926800@hospizverein-bramsche.de
SUMMARY:Bürozeiten
DESCRIPTION:
URL:https://hospizverein-bramsche.de/event/buerozeiten/2029-09-12/
LOCATION:Hopizbüro\, Münsterstrasse 16\, Bramsche\, Niedersachsen\, 49565\, Deutschland
END:VEVENT
BEGIN:VEVENT
DTSTART;TZID=Europe/Berlin:20290912T180000
DTEND;TZID=Europe/Berlin:20290912T203000
DTSTAMP:20260424T123606
CREATED:20240606T164438Z
LAST-MODIFIED:20241218T143553Z
UID:10000521-1883930400-1883939400@hospizverein-bramsche.de
SUMMARY:Begleitertreffen
DESCRIPTION:
URL:https://hospizverein-bramsche.de/event/begleitertreffen/2029-09-12/
LOCATION:Hopizbüro\, Münsterstrasse 16\, Bramsche\, Niedersachsen\, 49565\, Deutschland
END:VEVENT
BEGIN:VEVENT
DTSTART;TZID=Europe/Berlin:20290914T100000
DTEND;TZID=Europe/Berlin:20290914T120000
DTSTAMP:20260424T123606
CREATED:20241218T143911Z
LAST-MODIFIED:20241219T171401Z
UID:10001085-1884074400-1884081600@hospizverein-bramsche.de
SUMMARY:Bürozeiten
DESCRIPTION:
URL:https://hospizverein-bramsche.de/event/buerozeiten-2/2029-09-14/
LOCATION:Hopizbüro\, Münsterstrasse 16\, Bramsche\, Niedersachsen\, 49565\, Deutschland
END:VEVENT
BEGIN:VEVENT
DTSTART;TZID=Europe/Berlin:20290919T150000
DTEND;TZID=Europe/Berlin:20290919T170000
DTSTAMP:20260424T123606
CREATED:20241218T143731Z
LAST-MODIFIED:20241219T171346Z
UID:10000797-1884524400-1884531600@hospizverein-bramsche.de
SUMMARY:Bürozeiten
DESCRIPTION:
URL:https://hospizverein-bramsche.de/event/buerozeiten/2029-09-19/
LOCATION:Hopizbüro\, Münsterstrasse 16\, Bramsche\, Niedersachsen\, 49565\, Deutschland
END:VEVENT
BEGIN:VEVENT
DTSTART;TZID=Europe/Berlin:20290920T143000
DTEND;TZID=Europe/Berlin:20290920T163000
DTSTAMP:20260424T123606
CREATED:20240514T162809Z
LAST-MODIFIED:20260106T111718Z
UID:10001495-1884609000-1884616200@hospizverein-bramsche.de
SUMMARY:Trostbank Friedhof Malgarten
DESCRIPTION:
URL:https://hospizverein-bramsche.de/event/trostbank-friedhof-malgarten/2029-09-20/
LOCATION:Friedhof Malgarten
END:VEVENT
BEGIN:VEVENT
DTSTART;TZID=Europe/Berlin:20290920T143000
DTEND;TZID=Europe/Berlin:20290920T163000
DTSTAMP:20260424T123606
CREATED:20250812T114952Z
LAST-MODIFIED:20250812T115036Z
UID:10001230-1884609000-1884616200@hospizverein-bramsche.de
SUMMARY:Trostbank Osnabrücker Straße
DESCRIPTION:
URL:https://hospizverein-bramsche.de/event/trostbank-osnabruecker-strasse-2/2029-09-20/
LOCATION:Friedhof Osnabrücker Straße
END:VEVENT
BEGIN:VEVENT
DTSTART;TZID=Europe/Berlin:20290921T100000
DTEND;TZID=Europe/Berlin:20290921T120000
DTSTAMP:20260424T123606
CREATED:20241218T143911Z
LAST-MODIFIED:20241219T171401Z
UID:10001086-1884679200-1884686400@hospizverein-bramsche.de
SUMMARY:Bürozeiten
DESCRIPTION:
URL:https://hospizverein-bramsche.de/event/buerozeiten-2/2029-09-21/
LOCATION:Hopizbüro\, Münsterstrasse 16\, Bramsche\, Niedersachsen\, 49565\, Deutschland
END:VEVENT
BEGIN:VEVENT
DTSTART;TZID=Europe/Berlin:20290926T150000
DTEND;TZID=Europe/Berlin:20290926T170000
DTSTAMP:20260424T123606
CREATED:20241218T143731Z
LAST-MODIFIED:20241219T171346Z
UID:10000798-1885129200-1885136400@hospizverein-bramsche.de
SUMMARY:Bürozeiten
DESCRIPTION:
URL:https://hospizverein-bramsche.de/event/buerozeiten/2029-09-26/
LOCATION:Hopizbüro\, Münsterstrasse 16\, Bramsche\, Niedersachsen\, 49565\, Deutschland
END:VEVENT
BEGIN:VEVENT
DTSTART;TZID=Europe/Berlin:20290928T100000
DTEND;TZID=Europe/Berlin:20290928T120000
DTSTAMP:20260424T123606
CREATED:20241218T143911Z
LAST-MODIFIED:20241219T171401Z
UID:10001087-1885284000-1885291200@hospizverein-bramsche.de
SUMMARY:Bürozeiten
DESCRIPTION:
URL:https://hospizverein-bramsche.de/event/buerozeiten-2/2029-09-28/
LOCATION:Hopizbüro\, Münsterstrasse 16\, Bramsche\, Niedersachsen\, 49565\, Deutschland
END:VEVENT
BEGIN:VEVENT
DTSTART;TZID=Europe/Berlin:20290928T143000
DTEND;TZID=Europe/Berlin:20290928T163000
DTSTAMP:20260424T123606
CREATED:20250915T122852Z
LAST-MODIFIED:20260106T111609Z
UID:10001416-1885300200-1885307400@hospizverein-bramsche.de
SUMMARY:Trostbank Friedwald Bramsche
DESCRIPTION:
URL:https://hospizverein-bramsche.de/event/trostbank-friedwald-bramsche-2/2029-09-28/
LOCATION:Friedwald Bramsche
END:VEVENT
END:VCALENDAR