BEGIN:VCALENDAR
VERSION:2.0
PRODID:-//Hospizverein Bramsche - ECPv6.15.16//NONSGML v1.0//EN
CALSCALE:GREGORIAN
METHOD:PUBLISH
X-ORIGINAL-URL:https://hospizverein-bramsche.de
X-WR-CALDESC:Veranstaltungen für Hospizverein Bramsche
REFRESH-INTERVAL;VALUE=DURATION:PT1H
X-Robots-Tag:noindex
X-PUBLISHED-TTL:PT1H
BEGIN:VTIMEZONE
TZID:Europe/Berlin
BEGIN:DAYLIGHT
TZOFFSETFROM:+0100
TZOFFSETTO:+0200
TZNAME:CEST
DTSTART:20280326T010000
END:DAYLIGHT
BEGIN:STANDARD
TZOFFSETFROM:+0200
TZOFFSETTO:+0100
TZNAME:CET
DTSTART:20281029T010000
END:STANDARD
BEGIN:DAYLIGHT
TZOFFSETFROM:+0100
TZOFFSETTO:+0200
TZNAME:CEST
DTSTART:20290325T010000
END:DAYLIGHT
BEGIN:STANDARD
TZOFFSETFROM:+0200
TZOFFSETTO:+0100
TZNAME:CET
DTSTART:20291028T010000
END:STANDARD
BEGIN:DAYLIGHT
TZOFFSETFROM:+0100
TZOFFSETTO:+0200
TZNAME:CEST
DTSTART:20300331T010000
END:DAYLIGHT
BEGIN:STANDARD
TZOFFSETFROM:+0200
TZOFFSETTO:+0100
TZNAME:CET
DTSTART:20301027T010000
END:STANDARD
END:VTIMEZONE
BEGIN:VEVENT
DTSTART;TZID=Europe/Berlin:20291001T150000
DTEND;TZID=Europe/Berlin:20291001T170000
DTSTAMP:20260424T140633
CREATED:20241218T141550Z
LAST-MODIFIED:20241218T143113Z
UID:10000119-1885561200-1885568400@hospizverein-bramsche.de
SUMMARY:Gesprächskreis für Trauernde
DESCRIPTION:
URL:https://hospizverein-bramsche.de/event/gespraechskreis-fuer-trauernde-6-copy/2029-10-01/
LOCATION:Hopizbüro\, Münsterstrasse 16\, Bramsche\, Niedersachsen\, 49565\, Deutschland
END:VEVENT
BEGIN:VEVENT
DTSTART;TZID=Europe/Berlin:20291003T150000
DTEND;TZID=Europe/Berlin:20291003T170000
DTSTAMP:20260424T140633
CREATED:20241218T143731Z
LAST-MODIFIED:20241219T171346Z
UID:10000799-1885734000-1885741200@hospizverein-bramsche.de
SUMMARY:Bürozeiten
DESCRIPTION:
URL:https://hospizverein-bramsche.de/event/buerozeiten/2029-10-03/
LOCATION:Hopizbüro\, Münsterstrasse 16\, Bramsche\, Niedersachsen\, 49565\, Deutschland
END:VEVENT
BEGIN:VEVENT
DTSTART;TZID=Europe/Berlin:20291003T160000
DTEND;TZID=Europe/Berlin:20291003T173000
DTSTAMP:20260424T140633
CREATED:20240514T133036Z
LAST-MODIFIED:20241219T171135Z
UID:10000260-1885737600-1885743000@hospizverein-bramsche.de
SUMMARY:Hospizcafe
DESCRIPTION:
URL:https://hospizverein-bramsche.de/event/hospizcafe/2029-10-03/
LOCATION:Hopizbüro\, Münsterstrasse 16\, Bramsche\, Niedersachsen\, 49565\, Deutschland
END:VEVENT
BEGIN:VEVENT
DTSTART;TZID=Europe/Berlin:20291005T100000
DTEND;TZID=Europe/Berlin:20291005T120000
DTSTAMP:20260424T140633
CREATED:20241218T143911Z
LAST-MODIFIED:20241219T171401Z
UID:10001088-1885888800-1885896000@hospizverein-bramsche.de
SUMMARY:Bürozeiten
DESCRIPTION:
URL:https://hospizverein-bramsche.de/event/buerozeiten-2/2029-10-05/
LOCATION:Hopizbüro\, Münsterstrasse 16\, Bramsche\, Niedersachsen\, 49565\, Deutschland
END:VEVENT
BEGIN:VEVENT
DTSTART;TZID=Europe/Berlin:20291010T150000
DTEND;TZID=Europe/Berlin:20291010T170000
DTSTAMP:20260424T140633
CREATED:20241218T143731Z
LAST-MODIFIED:20241219T171346Z
UID:10000800-1886338800-1886346000@hospizverein-bramsche.de
SUMMARY:Bürozeiten
DESCRIPTION:
URL:https://hospizverein-bramsche.de/event/buerozeiten/2029-10-10/
LOCATION:Hopizbüro\, Münsterstrasse 16\, Bramsche\, Niedersachsen\, 49565\, Deutschland
END:VEVENT
BEGIN:VEVENT
DTSTART;TZID=Europe/Berlin:20291010T180000
DTEND;TZID=Europe/Berlin:20291010T203000
DTSTAMP:20260424T140633
CREATED:20240606T164438Z
LAST-MODIFIED:20241218T143553Z
UID:10000522-1886349600-1886358600@hospizverein-bramsche.de
SUMMARY:Begleitertreffen
DESCRIPTION:
URL:https://hospizverein-bramsche.de/event/begleitertreffen/2029-10-10/
LOCATION:Hopizbüro\, Münsterstrasse 16\, Bramsche\, Niedersachsen\, 49565\, Deutschland
END:VEVENT
BEGIN:VEVENT
DTSTART;TZID=Europe/Berlin:20291012T100000
DTEND;TZID=Europe/Berlin:20291012T120000
DTSTAMP:20260424T140633
CREATED:20241218T143911Z
LAST-MODIFIED:20241219T171401Z
UID:10001089-1886493600-1886500800@hospizverein-bramsche.de
SUMMARY:Bürozeiten
DESCRIPTION:
URL:https://hospizverein-bramsche.de/event/buerozeiten-2/2029-10-12/
LOCATION:Hopizbüro\, Münsterstrasse 16\, Bramsche\, Niedersachsen\, 49565\, Deutschland
END:VEVENT
BEGIN:VEVENT
DTSTART;TZID=Europe/Berlin:20291014T143000
DTEND;TZID=Europe/Berlin:20291014T163000
DTSTAMP:20260424T140633
CREATED:20240514T164846Z
LAST-MODIFIED:20241218T143322Z
UID:10000326-1886682600-1886689800@hospizverein-bramsche.de
SUMMARY:Trostbank Friedhof Lindenstraße
DESCRIPTION:
URL:https://hospizverein-bramsche.de/event/trostbank-friedhof-lindenstrasse/2029-10-14/
LOCATION:Friedhof Lindenstraße
END:VEVENT
BEGIN:VEVENT
DTSTART;TZID=Europe/Berlin:20291017T150000
DTEND;TZID=Europe/Berlin:20291017T170000
DTSTAMP:20260424T140633
CREATED:20241218T143731Z
LAST-MODIFIED:20241219T171346Z
UID:10000801-1886943600-1886950800@hospizverein-bramsche.de
SUMMARY:Bürozeiten
DESCRIPTION:
URL:https://hospizverein-bramsche.de/event/buerozeiten/2029-10-17/
LOCATION:Hopizbüro\, Münsterstrasse 16\, Bramsche\, Niedersachsen\, 49565\, Deutschland
END:VEVENT
BEGIN:VEVENT
DTSTART;TZID=Europe/Berlin:20291018T143000
DTEND;TZID=Europe/Berlin:20291018T163000
DTSTAMP:20260424T140633
CREATED:20240514T162809Z
LAST-MODIFIED:20260106T111718Z
UID:10001496-1887028200-1887035400@hospizverein-bramsche.de
SUMMARY:Trostbank Friedhof Malgarten
DESCRIPTION:
URL:https://hospizverein-bramsche.de/event/trostbank-friedhof-malgarten/2029-10-18/
LOCATION:Friedhof Malgarten
END:VEVENT
BEGIN:VEVENT
DTSTART;TZID=Europe/Berlin:20291018T143000
DTEND;TZID=Europe/Berlin:20291018T163000
DTSTAMP:20260424T140633
CREATED:20250812T114952Z
LAST-MODIFIED:20250812T115036Z
UID:10001231-1887028200-1887035400@hospizverein-bramsche.de
SUMMARY:Trostbank Osnabrücker Straße
DESCRIPTION:
URL:https://hospizverein-bramsche.de/event/trostbank-osnabruecker-strasse-2/2029-10-18/
LOCATION:Friedhof Osnabrücker Straße
END:VEVENT
BEGIN:VEVENT
DTSTART;TZID=Europe/Berlin:20291019T100000
DTEND;TZID=Europe/Berlin:20291019T120000
DTSTAMP:20260424T140633
CREATED:20241218T143911Z
LAST-MODIFIED:20241219T171401Z
UID:10001090-1887098400-1887105600@hospizverein-bramsche.de
SUMMARY:Bürozeiten
DESCRIPTION:
URL:https://hospizverein-bramsche.de/event/buerozeiten-2/2029-10-19/
LOCATION:Hopizbüro\, Münsterstrasse 16\, Bramsche\, Niedersachsen\, 49565\, Deutschland
END:VEVENT
BEGIN:VEVENT
DTSTART;TZID=Europe/Berlin:20291024T150000
DTEND;TZID=Europe/Berlin:20291024T170000
DTSTAMP:20260424T140633
CREATED:20241218T143731Z
LAST-MODIFIED:20241219T171346Z
UID:10000802-1887548400-1887555600@hospizverein-bramsche.de
SUMMARY:Bürozeiten
DESCRIPTION:
URL:https://hospizverein-bramsche.de/event/buerozeiten/2029-10-24/
LOCATION:Hopizbüro\, Münsterstrasse 16\, Bramsche\, Niedersachsen\, 49565\, Deutschland
END:VEVENT
BEGIN:VEVENT
DTSTART;TZID=Europe/Berlin:20291026T100000
DTEND;TZID=Europe/Berlin:20291026T120000
DTSTAMP:20260424T140633
CREATED:20241218T143911Z
LAST-MODIFIED:20241219T171401Z
UID:10001091-1887703200-1887710400@hospizverein-bramsche.de
SUMMARY:Bürozeiten
DESCRIPTION:
URL:https://hospizverein-bramsche.de/event/buerozeiten-2/2029-10-26/
LOCATION:Hopizbüro\, Münsterstrasse 16\, Bramsche\, Niedersachsen\, 49565\, Deutschland
END:VEVENT
BEGIN:VEVENT
DTSTART;TZID=Europe/Berlin:20291026T143000
DTEND;TZID=Europe/Berlin:20291026T163000
DTSTAMP:20260424T140633
CREATED:20250915T122852Z
LAST-MODIFIED:20260106T111609Z
UID:10001417-1887719400-1887726600@hospizverein-bramsche.de
SUMMARY:Trostbank Friedwald Bramsche
DESCRIPTION:
URL:https://hospizverein-bramsche.de/event/trostbank-friedwald-bramsche-2/2029-10-26/
LOCATION:Friedwald Bramsche
END:VEVENT
BEGIN:VEVENT
DTSTART;TZID=Europe/Berlin:20291031T150000
DTEND;TZID=Europe/Berlin:20291031T170000
DTSTAMP:20260424T140633
CREATED:20241218T143731Z
LAST-MODIFIED:20241219T171346Z
UID:10000803-1888153200-1888160400@hospizverein-bramsche.de
SUMMARY:Bürozeiten
DESCRIPTION:
URL:https://hospizverein-bramsche.de/event/buerozeiten/2029-10-31/
LOCATION:Hopizbüro\, Münsterstrasse 16\, Bramsche\, Niedersachsen\, 49565\, Deutschland
END:VEVENT
END:VCALENDAR