BEGIN:VCALENDAR
VERSION:2.0
PRODID:-//Hospizverein Bramsche - ECPv6.15.16//NONSGML v1.0//EN
CALSCALE:GREGORIAN
METHOD:PUBLISH
X-ORIGINAL-URL:https://hospizverein-bramsche.de
X-WR-CALDESC:Veranstaltungen für Hospizverein Bramsche
REFRESH-INTERVAL;VALUE=DURATION:PT1H
X-Robots-Tag:noindex
X-PUBLISHED-TTL:PT1H
BEGIN:VTIMEZONE
TZID:Europe/Berlin
BEGIN:DAYLIGHT
TZOFFSETFROM:+0100
TZOFFSETTO:+0200
TZNAME:CEST
DTSTART:20250330T010000
END:DAYLIGHT
BEGIN:STANDARD
TZOFFSETFROM:+0200
TZOFFSETTO:+0100
TZNAME:CET
DTSTART:20251026T010000
END:STANDARD
BEGIN:DAYLIGHT
TZOFFSETFROM:+0100
TZOFFSETTO:+0200
TZNAME:CEST
DTSTART:20260329T010000
END:DAYLIGHT
BEGIN:STANDARD
TZOFFSETFROM:+0200
TZOFFSETTO:+0100
TZNAME:CET
DTSTART:20261025T010000
END:STANDARD
BEGIN:DAYLIGHT
TZOFFSETFROM:+0100
TZOFFSETTO:+0200
TZNAME:CEST
DTSTART:20270328T010000
END:DAYLIGHT
BEGIN:STANDARD
TZOFFSETFROM:+0200
TZOFFSETTO:+0100
TZNAME:CET
DTSTART:20271031T010000
END:STANDARD
END:VTIMEZONE
BEGIN:VEVENT
DTSTART;TZID=Europe/Berlin:20260701T150000
DTEND;TZID=Europe/Berlin:20260701T170000
DTSTAMP:20260424T094828
CREATED:20241218T143731Z
LAST-MODIFIED:20241219T171346Z
UID:10000629-1782918000-1782925200@hospizverein-bramsche.de
SUMMARY:Bürozeiten
DESCRIPTION:
URL:https://hospizverein-bramsche.de/event/buerozeiten/2026-07-01/
LOCATION:Hopizbüro\, Münsterstrasse 16\, Bramsche\, Niedersachsen\, 49565\, Deutschland
END:VEVENT
BEGIN:VEVENT
DTSTART;TZID=Europe/Berlin:20260703T100000
DTEND;TZID=Europe/Berlin:20260703T120000
DTSTAMP:20260424T094828
CREATED:20241218T143911Z
LAST-MODIFIED:20241219T171401Z
UID:10000918-1783072800-1783080000@hospizverein-bramsche.de
SUMMARY:Bürozeiten
DESCRIPTION:
URL:https://hospizverein-bramsche.de/event/buerozeiten-2/2026-07-03/
LOCATION:Hopizbüro\, Münsterstrasse 16\, Bramsche\, Niedersachsen\, 49565\, Deutschland
END:VEVENT
BEGIN:VEVENT
DTSTART;TZID=Europe/Berlin:20260708T150000
DTEND;TZID=Europe/Berlin:20260708T170000
DTSTAMP:20260424T094828
CREATED:20241218T143731Z
LAST-MODIFIED:20241219T171346Z
UID:10000630-1783522800-1783530000@hospizverein-bramsche.de
SUMMARY:Bürozeiten
DESCRIPTION:
URL:https://hospizverein-bramsche.de/event/buerozeiten/2026-07-08/
LOCATION:Hopizbüro\, Münsterstrasse 16\, Bramsche\, Niedersachsen\, 49565\, Deutschland
END:VEVENT
BEGIN:VEVENT
DTSTART;TZID=Europe/Berlin:20260710T100000
DTEND;TZID=Europe/Berlin:20260710T120000
DTSTAMP:20260424T094828
CREATED:20241218T143911Z
LAST-MODIFIED:20241219T171401Z
UID:10000919-1783677600-1783684800@hospizverein-bramsche.de
SUMMARY:Bürozeiten
DESCRIPTION:
URL:https://hospizverein-bramsche.de/event/buerozeiten-2/2026-07-10/
LOCATION:Hopizbüro\, Münsterstrasse 16\, Bramsche\, Niedersachsen\, 49565\, Deutschland
END:VEVENT
BEGIN:VEVENT
DTSTART;TZID=Europe/Berlin:20260715T150000
DTEND;TZID=Europe/Berlin:20260715T170000
DTSTAMP:20260424T094828
CREATED:20241218T143731Z
LAST-MODIFIED:20241219T171346Z
UID:10000631-1784127600-1784134800@hospizverein-bramsche.de
SUMMARY:Bürozeiten
DESCRIPTION:
URL:https://hospizverein-bramsche.de/event/buerozeiten/2026-07-15/
LOCATION:Hopizbüro\, Münsterstrasse 16\, Bramsche\, Niedersachsen\, 49565\, Deutschland
END:VEVENT
BEGIN:VEVENT
DTSTART;TZID=Europe/Berlin:20260717T100000
DTEND;TZID=Europe/Berlin:20260717T120000
DTSTAMP:20260424T094828
CREATED:20241218T143911Z
LAST-MODIFIED:20241219T171401Z
UID:10000920-1784282400-1784289600@hospizverein-bramsche.de
SUMMARY:Bürozeiten
DESCRIPTION:
URL:https://hospizverein-bramsche.de/event/buerozeiten-2/2026-07-17/
LOCATION:Hopizbüro\, Münsterstrasse 16\, Bramsche\, Niedersachsen\, 49565\, Deutschland
END:VEVENT
BEGIN:VEVENT
DTSTART;TZID=Europe/Berlin:20260722T150000
DTEND;TZID=Europe/Berlin:20260722T170000
DTSTAMP:20260424T094828
CREATED:20241218T143731Z
LAST-MODIFIED:20241219T171346Z
UID:10000632-1784732400-1784739600@hospizverein-bramsche.de
SUMMARY:Bürozeiten
DESCRIPTION:
URL:https://hospizverein-bramsche.de/event/buerozeiten/2026-07-22/
LOCATION:Hopizbüro\, Münsterstrasse 16\, Bramsche\, Niedersachsen\, 49565\, Deutschland
END:VEVENT
BEGIN:VEVENT
DTSTART;TZID=Europe/Berlin:20260724T100000
DTEND;TZID=Europe/Berlin:20260724T120000
DTSTAMP:20260424T094828
CREATED:20241218T143911Z
LAST-MODIFIED:20241219T171401Z
UID:10000921-1784887200-1784894400@hospizverein-bramsche.de
SUMMARY:Bürozeiten
DESCRIPTION:
URL:https://hospizverein-bramsche.de/event/buerozeiten-2/2026-07-24/
LOCATION:Hopizbüro\, Münsterstrasse 16\, Bramsche\, Niedersachsen\, 49565\, Deutschland
END:VEVENT
BEGIN:VEVENT
DTSTART;TZID=Europe/Berlin:20260729T150000
DTEND;TZID=Europe/Berlin:20260729T170000
DTSTAMP:20260424T094828
CREATED:20241218T143731Z
LAST-MODIFIED:20241219T171346Z
UID:10000633-1785337200-1785344400@hospizverein-bramsche.de
SUMMARY:Bürozeiten
DESCRIPTION:
URL:https://hospizverein-bramsche.de/event/buerozeiten/2026-07-29/
LOCATION:Hopizbüro\, Münsterstrasse 16\, Bramsche\, Niedersachsen\, 49565\, Deutschland
END:VEVENT
BEGIN:VEVENT
DTSTART;TZID=Europe/Berlin:20260731T100000
DTEND;TZID=Europe/Berlin:20260731T120000
DTSTAMP:20260424T094828
CREATED:20241218T143911Z
LAST-MODIFIED:20241219T171401Z
UID:10000922-1785492000-1785499200@hospizverein-bramsche.de
SUMMARY:Bürozeiten
DESCRIPTION:
URL:https://hospizverein-bramsche.de/event/buerozeiten-2/2026-07-31/
LOCATION:Hopizbüro\, Münsterstrasse 16\, Bramsche\, Niedersachsen\, 49565\, Deutschland
END:VEVENT
END:VCALENDAR