BEGIN:VCALENDAR
VERSION:2.0
PRODID:-//Hospizverein Bramsche - ECPv6.15.16//NONSGML v1.0//EN
CALSCALE:GREGORIAN
METHOD:PUBLISH
X-WR-CALNAME:Hospizverein Bramsche
X-ORIGINAL-URL:https://hospizverein-bramsche.de
X-WR-CALDESC:Veranstaltungen für Hospizverein Bramsche
REFRESH-INTERVAL;VALUE=DURATION:PT1H
X-Robots-Tag:noindex
X-PUBLISHED-TTL:PT1H
BEGIN:VTIMEZONE
TZID:Europe/Berlin
BEGIN:DAYLIGHT
TZOFFSETFROM:+0100
TZOFFSETTO:+0200
TZNAME:CEST
DTSTART:20250330T010000
END:DAYLIGHT
BEGIN:STANDARD
TZOFFSETFROM:+0200
TZOFFSETTO:+0100
TZNAME:CET
DTSTART:20251026T010000
END:STANDARD
BEGIN:DAYLIGHT
TZOFFSETFROM:+0100
TZOFFSETTO:+0200
TZNAME:CEST
DTSTART:20260329T010000
END:DAYLIGHT
BEGIN:STANDARD
TZOFFSETFROM:+0200
TZOFFSETTO:+0100
TZNAME:CET
DTSTART:20261025T010000
END:STANDARD
BEGIN:DAYLIGHT
TZOFFSETFROM:+0100
TZOFFSETTO:+0200
TZNAME:CEST
DTSTART:20270328T010000
END:DAYLIGHT
BEGIN:STANDARD
TZOFFSETFROM:+0200
TZOFFSETTO:+0100
TZNAME:CET
DTSTART:20271031T010000
END:STANDARD
END:VTIMEZONE
BEGIN:VEVENT
DTSTART;TZID=Europe/Berlin:20260902T150000
DTEND;TZID=Europe/Berlin:20260902T170000
DTSTAMP:20260424T125557
CREATED:20241218T143731Z
LAST-MODIFIED:20241219T171346Z
UID:10000638-1788361200-1788368400@hospizverein-bramsche.de
SUMMARY:Bürozeiten
DESCRIPTION:
URL:https://hospizverein-bramsche.de/event/buerozeiten/2026-09-02/
LOCATION:Hopizbüro\, Münsterstrasse 16\, Bramsche\, Niedersachsen\, 49565\, Deutschland
END:VEVENT
BEGIN:VEVENT
DTSTART;TZID=Europe/Berlin:20260904T100000
DTEND;TZID=Europe/Berlin:20260904T120000
DTSTAMP:20260424T125557
CREATED:20241218T143911Z
LAST-MODIFIED:20241219T171401Z
UID:10000927-1788516000-1788523200@hospizverein-bramsche.de
SUMMARY:Bürozeiten
DESCRIPTION:
URL:https://hospizverein-bramsche.de/event/buerozeiten-2/2026-09-04/
LOCATION:Hopizbüro\, Münsterstrasse 16\, Bramsche\, Niedersachsen\, 49565\, Deutschland
END:VEVENT
BEGIN:VEVENT
DTSTART;TZID=Europe/Berlin:20260909T150000
DTEND;TZID=Europe/Berlin:20260909T170000
DTSTAMP:20260424T125557
CREATED:20241218T143731Z
LAST-MODIFIED:20241219T171346Z
UID:10000639-1788966000-1788973200@hospizverein-bramsche.de
SUMMARY:Bürozeiten
DESCRIPTION:
URL:https://hospizverein-bramsche.de/event/buerozeiten/2026-09-09/
LOCATION:Hopizbüro\, Münsterstrasse 16\, Bramsche\, Niedersachsen\, 49565\, Deutschland
END:VEVENT
BEGIN:VEVENT
DTSTART;TZID=Europe/Berlin:20260911T100000
DTEND;TZID=Europe/Berlin:20260911T120000
DTSTAMP:20260424T125557
CREATED:20241218T143911Z
LAST-MODIFIED:20241219T171401Z
UID:10000928-1789120800-1789128000@hospizverein-bramsche.de
SUMMARY:Bürozeiten
DESCRIPTION:
URL:https://hospizverein-bramsche.de/event/buerozeiten-2/2026-09-11/
LOCATION:Hopizbüro\, Münsterstrasse 16\, Bramsche\, Niedersachsen\, 49565\, Deutschland
END:VEVENT
BEGIN:VEVENT
DTSTART;TZID=Europe/Berlin:20260916T150000
DTEND;TZID=Europe/Berlin:20260916T170000
DTSTAMP:20260424T125557
CREATED:20241218T143731Z
LAST-MODIFIED:20241219T171346Z
UID:10000640-1789570800-1789578000@hospizverein-bramsche.de
SUMMARY:Bürozeiten
DESCRIPTION:
URL:https://hospizverein-bramsche.de/event/buerozeiten/2026-09-16/
LOCATION:Hopizbüro\, Münsterstrasse 16\, Bramsche\, Niedersachsen\, 49565\, Deutschland
END:VEVENT
BEGIN:VEVENT
DTSTART;TZID=Europe/Berlin:20260918T100000
DTEND;TZID=Europe/Berlin:20260918T120000
DTSTAMP:20260424T125557
CREATED:20241218T143911Z
LAST-MODIFIED:20241219T171401Z
UID:10000929-1789725600-1789732800@hospizverein-bramsche.de
SUMMARY:Bürozeiten
DESCRIPTION:
URL:https://hospizverein-bramsche.de/event/buerozeiten-2/2026-09-18/
LOCATION:Hopizbüro\, Münsterstrasse 16\, Bramsche\, Niedersachsen\, 49565\, Deutschland
END:VEVENT
BEGIN:VEVENT
DTSTART;TZID=Europe/Berlin:20260923T150000
DTEND;TZID=Europe/Berlin:20260923T170000
DTSTAMP:20260424T125557
CREATED:20241218T143731Z
LAST-MODIFIED:20241219T171346Z
UID:10000641-1790175600-1790182800@hospizverein-bramsche.de
SUMMARY:Bürozeiten
DESCRIPTION:
URL:https://hospizverein-bramsche.de/event/buerozeiten/2026-09-23/
LOCATION:Hopizbüro\, Münsterstrasse 16\, Bramsche\, Niedersachsen\, 49565\, Deutschland
END:VEVENT
BEGIN:VEVENT
DTSTART;TZID=Europe/Berlin:20260925T100000
DTEND;TZID=Europe/Berlin:20260925T120000
DTSTAMP:20260424T125557
CREATED:20241218T143911Z
LAST-MODIFIED:20241219T171401Z
UID:10000930-1790330400-1790337600@hospizverein-bramsche.de
SUMMARY:Bürozeiten
DESCRIPTION:
URL:https://hospizverein-bramsche.de/event/buerozeiten-2/2026-09-25/
LOCATION:Hopizbüro\, Münsterstrasse 16\, Bramsche\, Niedersachsen\, 49565\, Deutschland
END:VEVENT
BEGIN:VEVENT
DTSTART;TZID=Europe/Berlin:20260930T150000
DTEND;TZID=Europe/Berlin:20260930T170000
DTSTAMP:20260424T125557
CREATED:20241218T143731Z
LAST-MODIFIED:20241219T171346Z
UID:10000642-1790780400-1790787600@hospizverein-bramsche.de
SUMMARY:Bürozeiten
DESCRIPTION:
URL:https://hospizverein-bramsche.de/event/buerozeiten/2026-09-30/
LOCATION:Hopizbüro\, Münsterstrasse 16\, Bramsche\, Niedersachsen\, 49565\, Deutschland
END:VEVENT
END:VCALENDAR