BEGIN:VCALENDAR
VERSION:2.0
PRODID:-//Hospizverein Bramsche - ECPv6.15.16//NONSGML v1.0//EN
CALSCALE:GREGORIAN
METHOD:PUBLISH
X-ORIGINAL-URL:https://hospizverein-bramsche.de
X-WR-CALDESC:Veranstaltungen für Hospizverein Bramsche
REFRESH-INTERVAL;VALUE=DURATION:PT1H
X-Robots-Tag:noindex
X-PUBLISHED-TTL:PT1H
BEGIN:VTIMEZONE
TZID:Europe/Berlin
BEGIN:DAYLIGHT
TZOFFSETFROM:+0100
TZOFFSETTO:+0200
TZNAME:CEST
DTSTART:20230326T010000
END:DAYLIGHT
BEGIN:STANDARD
TZOFFSETFROM:+0200
TZOFFSETTO:+0100
TZNAME:CET
DTSTART:20231029T010000
END:STANDARD
BEGIN:DAYLIGHT
TZOFFSETFROM:+0100
TZOFFSETTO:+0200
TZNAME:CEST
DTSTART:20240331T010000
END:DAYLIGHT
BEGIN:STANDARD
TZOFFSETFROM:+0200
TZOFFSETTO:+0100
TZNAME:CET
DTSTART:20241027T010000
END:STANDARD
BEGIN:DAYLIGHT
TZOFFSETFROM:+0100
TZOFFSETTO:+0200
TZNAME:CEST
DTSTART:20250330T010000
END:DAYLIGHT
BEGIN:STANDARD
TZOFFSETFROM:+0200
TZOFFSETTO:+0100
TZNAME:CET
DTSTART:20251026T010000
END:STANDARD
BEGIN:DAYLIGHT
TZOFFSETFROM:+0100
TZOFFSETTO:+0200
TZNAME:CEST
DTSTART:20260329T010000
END:DAYLIGHT
BEGIN:STANDARD
TZOFFSETFROM:+0200
TZOFFSETTO:+0100
TZNAME:CET
DTSTART:20261025T010000
END:STANDARD
BEGIN:DAYLIGHT
TZOFFSETFROM:+0100
TZOFFSETTO:+0200
TZNAME:CEST
DTSTART:20270328T010000
END:DAYLIGHT
BEGIN:STANDARD
TZOFFSETFROM:+0200
TZOFFSETTO:+0100
TZNAME:CET
DTSTART:20271031T010000
END:STANDARD
END:VTIMEZONE
BEGIN:VEVENT
DTSTART;TZID=Europe/Berlin:20260412T143000
DTEND;TZID=Europe/Berlin:20260412T163000
DTSTAMP:20260424T074308
CREATED:20240514T164846Z
LAST-MODIFIED:20241218T143322Z
UID:10000284-1776004200-1776011400@hospizverein-bramsche.de
SUMMARY:Trostbank Friedhof Lindenstraße
DESCRIPTION:
URL:https://hospizverein-bramsche.de/event/trostbank-friedhof-lindenstrasse/2026-04-12/
LOCATION:Friedhof Lindenstraße
END:VEVENT
BEGIN:VEVENT
DTSTART;TZID=Europe/Berlin:20260308T143000
DTEND;TZID=Europe/Berlin:20260308T163000
DTSTAMP:20260424T074308
CREATED:20240514T164846Z
LAST-MODIFIED:20241218T143322Z
UID:10000283-1772980200-1772987400@hospizverein-bramsche.de
SUMMARY:Trostbank Friedhof Lindenstraße
DESCRIPTION:
URL:https://hospizverein-bramsche.de/event/trostbank-friedhof-lindenstrasse/2026-03-08/
LOCATION:Friedhof Lindenstraße
END:VEVENT
BEGIN:VEVENT
DTSTART;TZID=Europe/Berlin:20260208T143000
DTEND;TZID=Europe/Berlin:20260208T163000
DTSTAMP:20260424T074308
CREATED:20240514T164846Z
LAST-MODIFIED:20241218T143322Z
UID:10000282-1770561000-1770568200@hospizverein-bramsche.de
SUMMARY:Trostbank Friedhof Lindenstraße
DESCRIPTION:
URL:https://hospizverein-bramsche.de/event/trostbank-friedhof-lindenstrasse/2026-02-08/
LOCATION:Friedhof Lindenstraße
END:VEVENT
BEGIN:VEVENT
DTSTART;TZID=Europe/Berlin:20260111T143000
DTEND;TZID=Europe/Berlin:20260111T163000
DTSTAMP:20260424T074308
CREATED:20240514T164846Z
LAST-MODIFIED:20241218T143322Z
UID:10000281-1768141800-1768149000@hospizverein-bramsche.de
SUMMARY:Trostbank Friedhof Lindenstraße
DESCRIPTION:
URL:https://hospizverein-bramsche.de/event/trostbank-friedhof-lindenstrasse/2026-01-11/
LOCATION:Friedhof Lindenstraße
END:VEVENT
BEGIN:VEVENT
DTSTART;TZID=Europe/Berlin:20251214T143000
DTEND;TZID=Europe/Berlin:20251214T163000
DTSTAMP:20260424T074308
CREATED:20240514T164846Z
LAST-MODIFIED:20241218T143322Z
UID:10000280-1765722600-1765729800@hospizverein-bramsche.de
SUMMARY:Trostbank Friedhof Lindenstraße
DESCRIPTION:
URL:https://hospizverein-bramsche.de/event/trostbank-friedhof-lindenstrasse/2025-12-14/
LOCATION:Friedhof Lindenstraße
END:VEVENT
BEGIN:VEVENT
DTSTART;TZID=Europe/Berlin:20251109T143000
DTEND;TZID=Europe/Berlin:20251109T163000
DTSTAMP:20260424T074308
CREATED:20240514T164846Z
LAST-MODIFIED:20241218T143322Z
UID:10000279-1762698600-1762705800@hospizverein-bramsche.de
SUMMARY:Trostbank Friedhof Lindenstraße
DESCRIPTION:
URL:https://hospizverein-bramsche.de/event/trostbank-friedhof-lindenstrasse/2025-11-09/
LOCATION:Friedhof Lindenstraße
END:VEVENT
BEGIN:VEVENT
DTSTART;TZID=Europe/Berlin:20251012T143000
DTEND;TZID=Europe/Berlin:20251012T163000
DTSTAMP:20260424T074308
CREATED:20240514T164846Z
LAST-MODIFIED:20241218T143322Z
UID:10000278-1760279400-1760286600@hospizverein-bramsche.de
SUMMARY:Trostbank Friedhof Lindenstraße
DESCRIPTION:
URL:https://hospizverein-bramsche.de/event/trostbank-friedhof-lindenstrasse/2025-10-12/
LOCATION:Friedhof Lindenstraße
END:VEVENT
BEGIN:VEVENT
DTSTART;TZID=Europe/Berlin:20250914T143000
DTEND;TZID=Europe/Berlin:20250914T163000
DTSTAMP:20260424T074308
CREATED:20240514T164846Z
LAST-MODIFIED:20241218T143322Z
UID:10000277-1757860200-1757867400@hospizverein-bramsche.de
SUMMARY:Trostbank Friedhof Lindenstraße
DESCRIPTION:
URL:https://hospizverein-bramsche.de/event/trostbank-friedhof-lindenstrasse/2025-09-14/
LOCATION:Friedhof Lindenstraße
END:VEVENT
BEGIN:VEVENT
DTSTART;TZID=Europe/Berlin:20250810T143000
DTEND;TZID=Europe/Berlin:20250810T163000
DTSTAMP:20260424T074308
CREATED:20240514T164846Z
LAST-MODIFIED:20241218T143322Z
UID:10000276-1754836200-1754843400@hospizverein-bramsche.de
SUMMARY:Trostbank Friedhof Lindenstraße
DESCRIPTION:
URL:https://hospizverein-bramsche.de/event/trostbank-friedhof-lindenstrasse/2025-08-10/
LOCATION:Friedhof Lindenstraße
END:VEVENT
BEGIN:VEVENT
DTSTART;TZID=Europe/Berlin:20250713T143000
DTEND;TZID=Europe/Berlin:20250713T163000
DTSTAMP:20260424T074308
CREATED:20240514T164846Z
LAST-MODIFIED:20241218T143322Z
UID:10000275-1752417000-1752424200@hospizverein-bramsche.de
SUMMARY:Trostbank Friedhof Lindenstraße
DESCRIPTION:
URL:https://hospizverein-bramsche.de/event/trostbank-friedhof-lindenstrasse/2025-07-13/
LOCATION:Friedhof Lindenstraße
END:VEVENT
BEGIN:VEVENT
DTSTART;TZID=Europe/Berlin:20250608T143000
DTEND;TZID=Europe/Berlin:20250608T163000
DTSTAMP:20260424T074308
CREATED:20240514T164846Z
LAST-MODIFIED:20241218T143322Z
UID:10000274-1749393000-1749400200@hospizverein-bramsche.de
SUMMARY:Trostbank Friedhof Lindenstraße
DESCRIPTION:
URL:https://hospizverein-bramsche.de/event/trostbank-friedhof-lindenstrasse/2025-06-08/
LOCATION:Friedhof Lindenstraße
END:VEVENT
BEGIN:VEVENT
DTSTART;TZID=Europe/Berlin:20250511T143000
DTEND;TZID=Europe/Berlin:20250511T163000
DTSTAMP:20260424T074308
CREATED:20240514T164846Z
LAST-MODIFIED:20241218T143322Z
UID:10000273-1746973800-1746981000@hospizverein-bramsche.de
SUMMARY:Trostbank Friedhof Lindenstraße
DESCRIPTION:
URL:https://hospizverein-bramsche.de/event/trostbank-friedhof-lindenstrasse/2025-05-11/
LOCATION:Friedhof Lindenstraße
END:VEVENT
BEGIN:VEVENT
DTSTART;TZID=Europe/Berlin:20250413T143000
DTEND;TZID=Europe/Berlin:20250413T163000
DTSTAMP:20260424T074308
CREATED:20240514T164846Z
LAST-MODIFIED:20241218T143322Z
UID:10000272-1744554600-1744561800@hospizverein-bramsche.de
SUMMARY:Trostbank Friedhof Lindenstraße
DESCRIPTION:
URL:https://hospizverein-bramsche.de/event/trostbank-friedhof-lindenstrasse/2025-04-13/
LOCATION:Friedhof Lindenstraße
END:VEVENT
BEGIN:VEVENT
DTSTART;TZID=Europe/Berlin:20250309T143000
DTEND;TZID=Europe/Berlin:20250309T163000
DTSTAMP:20260424T074308
CREATED:20240514T164846Z
LAST-MODIFIED:20241218T143322Z
UID:10000271-1741530600-1741537800@hospizverein-bramsche.de
SUMMARY:Trostbank Friedhof Lindenstraße
DESCRIPTION:
URL:https://hospizverein-bramsche.de/event/trostbank-friedhof-lindenstrasse/2025-03-09/
LOCATION:Friedhof Lindenstraße
END:VEVENT
BEGIN:VEVENT
DTSTART;TZID=Europe/Berlin:20250209T143000
DTEND;TZID=Europe/Berlin:20250209T163000
DTSTAMP:20260424T074308
CREATED:20240514T164846Z
LAST-MODIFIED:20241218T143322Z
UID:10000270-1739111400-1739118600@hospizverein-bramsche.de
SUMMARY:Trostbank Friedhof Lindenstraße
DESCRIPTION:
URL:https://hospizverein-bramsche.de/event/trostbank-friedhof-lindenstrasse/2025-02-09/
LOCATION:Friedhof Lindenstraße
END:VEVENT
BEGIN:VEVENT
DTSTART;TZID=Europe/Berlin:20250112T143000
DTEND;TZID=Europe/Berlin:20250112T163000
DTSTAMP:20260424T074308
CREATED:20240514T164846Z
LAST-MODIFIED:20241218T143322Z
UID:10000269-1736692200-1736699400@hospizverein-bramsche.de
SUMMARY:Trostbank Friedhof Lindenstraße
DESCRIPTION:
URL:https://hospizverein-bramsche.de/event/trostbank-friedhof-lindenstrasse/2025-01-12/
LOCATION:Friedhof Lindenstraße
END:VEVENT
BEGIN:VEVENT
DTSTART;TZID=Europe/Berlin:20241208T143000
DTEND;TZID=Europe/Berlin:20241208T163000
DTSTAMP:20260424T074308
CREATED:20240514T164846Z
LAST-MODIFIED:20241218T143322Z
UID:10000268-1733668200-1733675400@hospizverein-bramsche.de
SUMMARY:Trostbank Friedhof Lindenstraße
DESCRIPTION:
URL:https://hospizverein-bramsche.de/event/trostbank-friedhof-lindenstrasse/2024-12-08/
LOCATION:Friedhof Lindenstraße
END:VEVENT
BEGIN:VEVENT
DTSTART;TZID=Europe/Berlin:20241110T143000
DTEND;TZID=Europe/Berlin:20241110T163000
DTSTAMP:20260424T074308
CREATED:20240514T164846Z
LAST-MODIFIED:20241218T143322Z
UID:10000267-1731249000-1731256200@hospizverein-bramsche.de
SUMMARY:Trostbank Friedhof Lindenstraße
DESCRIPTION:
URL:https://hospizverein-bramsche.de/event/trostbank-friedhof-lindenstrasse/2024-11-10/
LOCATION:Friedhof Lindenstraße
END:VEVENT
BEGIN:VEVENT
DTSTART;TZID=Europe/Berlin:20241013T143000
DTEND;TZID=Europe/Berlin:20241013T163000
DTSTAMP:20260424T074308
CREATED:20240514T164846Z
LAST-MODIFIED:20241218T143322Z
UID:10000266-1728829800-1728837000@hospizverein-bramsche.de
SUMMARY:Trostbank Friedhof Lindenstraße
DESCRIPTION:
URL:https://hospizverein-bramsche.de/event/trostbank-friedhof-lindenstrasse/2024-10-13/
LOCATION:Friedhof Lindenstraße
END:VEVENT
BEGIN:VEVENT
DTSTART;TZID=Europe/Berlin:20240908T143000
DTEND;TZID=Europe/Berlin:20240908T163000
DTSTAMP:20260424T074308
CREATED:20240514T164846Z
LAST-MODIFIED:20241218T143322Z
UID:10000265-1725805800-1725813000@hospizverein-bramsche.de
SUMMARY:Trostbank Friedhof Lindenstraße
DESCRIPTION:
URL:https://hospizverein-bramsche.de/event/trostbank-friedhof-lindenstrasse/2024-09-08/
LOCATION:Friedhof Lindenstraße
END:VEVENT
BEGIN:VEVENT
DTSTART;TZID=Europe/Berlin:20240811T143000
DTEND;TZID=Europe/Berlin:20240811T163000
DTSTAMP:20260424T074308
CREATED:20240514T164846Z
LAST-MODIFIED:20241218T143322Z
UID:10000264-1723386600-1723393800@hospizverein-bramsche.de
SUMMARY:Trostbank Friedhof Lindenstraße
DESCRIPTION:
URL:https://hospizverein-bramsche.de/event/trostbank-friedhof-lindenstrasse/2024-08-11/
LOCATION:Friedhof Lindenstraße
END:VEVENT
BEGIN:VEVENT
DTSTART;TZID=Europe/Berlin:20240714T143000
DTEND;TZID=Europe/Berlin:20240714T163000
DTSTAMP:20260424T074308
CREATED:20240514T164846Z
LAST-MODIFIED:20241218T143322Z
UID:10000263-1720967400-1720974600@hospizverein-bramsche.de
SUMMARY:Trostbank Friedhof Lindenstraße
DESCRIPTION:
URL:https://hospizverein-bramsche.de/event/trostbank-friedhof-lindenstrasse/2024-07-14/
LOCATION:Friedhof Lindenstraße
END:VEVENT
BEGIN:VEVENT
DTSTART;TZID=Europe/Berlin:20240609T143000
DTEND;TZID=Europe/Berlin:20240609T163000
DTSTAMP:20260424T074308
CREATED:20240514T164846Z
LAST-MODIFIED:20241218T143322Z
UID:10000029-1717943400-1717950600@hospizverein-bramsche.de
SUMMARY:Trostbank Friedhof Lindenstraße
DESCRIPTION:
URL:https://hospizverein-bramsche.de/event/trostbank-friedhof-lindenstrasse/2024-06-09/
LOCATION:Friedhof Lindenstraße
END:VEVENT
END:VCALENDAR