BEGIN:VCALENDAR
VERSION:2.0
PRODID:-//Hospizverein Bramsche - ECPv6.15.16//NONSGML v1.0//EN
CALSCALE:GREGORIAN
METHOD:PUBLISH
X-WR-CALNAME:Hospizverein Bramsche
X-ORIGINAL-URL:https://hospizverein-bramsche.de
X-WR-CALDESC:Veranstaltungen für Hospizverein Bramsche
REFRESH-INTERVAL;VALUE=DURATION:PT1H
X-Robots-Tag:noindex
X-PUBLISHED-TTL:PT1H
BEGIN:VTIMEZONE
TZID:Europe/Berlin
BEGIN:DAYLIGHT
TZOFFSETFROM:+0100
TZOFFSETTO:+0200
TZNAME:CEST
DTSTART:20270328T010000
END:DAYLIGHT
BEGIN:STANDARD
TZOFFSETFROM:+0200
TZOFFSETTO:+0100
TZNAME:CET
DTSTART:20271031T010000
END:STANDARD
BEGIN:DAYLIGHT
TZOFFSETFROM:+0100
TZOFFSETTO:+0200
TZNAME:CEST
DTSTART:20280326T010000
END:DAYLIGHT
BEGIN:STANDARD
TZOFFSETFROM:+0200
TZOFFSETTO:+0100
TZNAME:CET
DTSTART:20281029T010000
END:STANDARD
BEGIN:DAYLIGHT
TZOFFSETFROM:+0100
TZOFFSETTO:+0200
TZNAME:CEST
DTSTART:20290325T010000
END:DAYLIGHT
BEGIN:STANDARD
TZOFFSETFROM:+0200
TZOFFSETTO:+0100
TZNAME:CET
DTSTART:20291028T010000
END:STANDARD
BEGIN:DAYLIGHT
TZOFFSETFROM:+0100
TZOFFSETTO:+0200
TZNAME:CEST
DTSTART:20300331T010000
END:DAYLIGHT
BEGIN:STANDARD
TZOFFSETFROM:+0200
TZOFFSETTO:+0100
TZNAME:CET
DTSTART:20301027T010000
END:STANDARD
END:VTIMEZONE
BEGIN:VEVENT
DTSTART;TZID=Europe/Berlin:20280514T143000
DTEND;TZID=Europe/Berlin:20280514T163000
DTSTAMP:20260424T074212
CREATED:20240514T164846Z
LAST-MODIFIED:20241218T143322Z
UID:10000309-1841927400-1841934600@hospizverein-bramsche.de
SUMMARY:Trostbank Friedhof Lindenstraße
DESCRIPTION:
URL:https://hospizverein-bramsche.de/event/trostbank-friedhof-lindenstrasse/2028-05-14/
LOCATION:Friedhof Lindenstraße
END:VEVENT
BEGIN:VEVENT
DTSTART;TZID=Europe/Berlin:20280611T143000
DTEND;TZID=Europe/Berlin:20280611T163000
DTSTAMP:20260424T074212
CREATED:20240514T164846Z
LAST-MODIFIED:20241218T143322Z
UID:10000310-1844346600-1844353800@hospizverein-bramsche.de
SUMMARY:Trostbank Friedhof Lindenstraße
DESCRIPTION:
URL:https://hospizverein-bramsche.de/event/trostbank-friedhof-lindenstrasse/2028-06-11/
LOCATION:Friedhof Lindenstraße
END:VEVENT
BEGIN:VEVENT
DTSTART;TZID=Europe/Berlin:20280709T143000
DTEND;TZID=Europe/Berlin:20280709T163000
DTSTAMP:20260424T074212
CREATED:20240514T164846Z
LAST-MODIFIED:20241218T143322Z
UID:10000311-1846765800-1846773000@hospizverein-bramsche.de
SUMMARY:Trostbank Friedhof Lindenstraße
DESCRIPTION:
URL:https://hospizverein-bramsche.de/event/trostbank-friedhof-lindenstrasse/2028-07-09/
LOCATION:Friedhof Lindenstraße
END:VEVENT
BEGIN:VEVENT
DTSTART;TZID=Europe/Berlin:20280813T143000
DTEND;TZID=Europe/Berlin:20280813T163000
DTSTAMP:20260424T074212
CREATED:20240514T164846Z
LAST-MODIFIED:20241218T143322Z
UID:10000312-1849789800-1849797000@hospizverein-bramsche.de
SUMMARY:Trostbank Friedhof Lindenstraße
DESCRIPTION:
URL:https://hospizverein-bramsche.de/event/trostbank-friedhof-lindenstrasse/2028-08-13/
LOCATION:Friedhof Lindenstraße
END:VEVENT
BEGIN:VEVENT
DTSTART;TZID=Europe/Berlin:20280910T143000
DTEND;TZID=Europe/Berlin:20280910T163000
DTSTAMP:20260424T074212
CREATED:20240514T164846Z
LAST-MODIFIED:20241218T143322Z
UID:10000313-1852209000-1852216200@hospizverein-bramsche.de
SUMMARY:Trostbank Friedhof Lindenstraße
DESCRIPTION:
URL:https://hospizverein-bramsche.de/event/trostbank-friedhof-lindenstrasse/2028-09-10/
LOCATION:Friedhof Lindenstraße
END:VEVENT
BEGIN:VEVENT
DTSTART;TZID=Europe/Berlin:20281008T143000
DTEND;TZID=Europe/Berlin:20281008T163000
DTSTAMP:20260424T074212
CREATED:20240514T164846Z
LAST-MODIFIED:20241218T143322Z
UID:10000314-1854628200-1854635400@hospizverein-bramsche.de
SUMMARY:Trostbank Friedhof Lindenstraße
DESCRIPTION:
URL:https://hospizverein-bramsche.de/event/trostbank-friedhof-lindenstrasse/2028-10-08/
LOCATION:Friedhof Lindenstraße
END:VEVENT
BEGIN:VEVENT
DTSTART;TZID=Europe/Berlin:20281112T143000
DTEND;TZID=Europe/Berlin:20281112T163000
DTSTAMP:20260424T074212
CREATED:20240514T164846Z
LAST-MODIFIED:20241218T143322Z
UID:10000315-1857652200-1857659400@hospizverein-bramsche.de
SUMMARY:Trostbank Friedhof Lindenstraße
DESCRIPTION:
URL:https://hospizverein-bramsche.de/event/trostbank-friedhof-lindenstrasse/2028-11-12/
LOCATION:Friedhof Lindenstraße
END:VEVENT
BEGIN:VEVENT
DTSTART;TZID=Europe/Berlin:20281210T143000
DTEND;TZID=Europe/Berlin:20281210T163000
DTSTAMP:20260424T074212
CREATED:20240514T164846Z
LAST-MODIFIED:20241218T143322Z
UID:10000316-1860071400-1860078600@hospizverein-bramsche.de
SUMMARY:Trostbank Friedhof Lindenstraße
DESCRIPTION:
URL:https://hospizverein-bramsche.de/event/trostbank-friedhof-lindenstrasse/2028-12-10/
LOCATION:Friedhof Lindenstraße
END:VEVENT
BEGIN:VEVENT
DTSTART;TZID=Europe/Berlin:20290114T143000
DTEND;TZID=Europe/Berlin:20290114T163000
DTSTAMP:20260424T074212
CREATED:20240514T164846Z
LAST-MODIFIED:20241218T143322Z
UID:10000317-1863095400-1863102600@hospizverein-bramsche.de
SUMMARY:Trostbank Friedhof Lindenstraße
DESCRIPTION:
URL:https://hospizverein-bramsche.de/event/trostbank-friedhof-lindenstrasse/2029-01-14/
LOCATION:Friedhof Lindenstraße
END:VEVENT
BEGIN:VEVENT
DTSTART;TZID=Europe/Berlin:20290211T143000
DTEND;TZID=Europe/Berlin:20290211T163000
DTSTAMP:20260424T074212
CREATED:20240514T164846Z
LAST-MODIFIED:20241218T143322Z
UID:10000318-1865514600-1865521800@hospizverein-bramsche.de
SUMMARY:Trostbank Friedhof Lindenstraße
DESCRIPTION:
URL:https://hospizverein-bramsche.de/event/trostbank-friedhof-lindenstrasse/2029-02-11/
LOCATION:Friedhof Lindenstraße
END:VEVENT
BEGIN:VEVENT
DTSTART;TZID=Europe/Berlin:20290311T143000
DTEND;TZID=Europe/Berlin:20290311T163000
DTSTAMP:20260424T074212
CREATED:20240514T164846Z
LAST-MODIFIED:20241218T143322Z
UID:10000319-1867933800-1867941000@hospizverein-bramsche.de
SUMMARY:Trostbank Friedhof Lindenstraße
DESCRIPTION:
URL:https://hospizverein-bramsche.de/event/trostbank-friedhof-lindenstrasse/2029-03-11/
LOCATION:Friedhof Lindenstraße
END:VEVENT
BEGIN:VEVENT
DTSTART;TZID=Europe/Berlin:20290408T143000
DTEND;TZID=Europe/Berlin:20290408T163000
DTSTAMP:20260424T074212
CREATED:20240514T164846Z
LAST-MODIFIED:20241218T143322Z
UID:10000320-1870353000-1870360200@hospizverein-bramsche.de
SUMMARY:Trostbank Friedhof Lindenstraße
DESCRIPTION:
URL:https://hospizverein-bramsche.de/event/trostbank-friedhof-lindenstrasse/2029-04-08/
LOCATION:Friedhof Lindenstraße
END:VEVENT
BEGIN:VEVENT
DTSTART;TZID=Europe/Berlin:20290513T143000
DTEND;TZID=Europe/Berlin:20290513T163000
DTSTAMP:20260424T074212
CREATED:20240514T164846Z
LAST-MODIFIED:20241218T143322Z
UID:10000321-1873377000-1873384200@hospizverein-bramsche.de
SUMMARY:Trostbank Friedhof Lindenstraße
DESCRIPTION:
URL:https://hospizverein-bramsche.de/event/trostbank-friedhof-lindenstrasse/2029-05-13/
LOCATION:Friedhof Lindenstraße
END:VEVENT
BEGIN:VEVENT
DTSTART;TZID=Europe/Berlin:20290610T143000
DTEND;TZID=Europe/Berlin:20290610T163000
DTSTAMP:20260424T074212
CREATED:20240514T164846Z
LAST-MODIFIED:20241218T143322Z
UID:10000322-1875796200-1875803400@hospizverein-bramsche.de
SUMMARY:Trostbank Friedhof Lindenstraße
DESCRIPTION:
URL:https://hospizverein-bramsche.de/event/trostbank-friedhof-lindenstrasse/2029-06-10/
LOCATION:Friedhof Lindenstraße
END:VEVENT
BEGIN:VEVENT
DTSTART;TZID=Europe/Berlin:20290708T143000
DTEND;TZID=Europe/Berlin:20290708T163000
DTSTAMP:20260424T074212
CREATED:20240514T164846Z
LAST-MODIFIED:20241218T143322Z
UID:10000323-1878215400-1878222600@hospizverein-bramsche.de
SUMMARY:Trostbank Friedhof Lindenstraße
DESCRIPTION:
URL:https://hospizverein-bramsche.de/event/trostbank-friedhof-lindenstrasse/2029-07-08/
LOCATION:Friedhof Lindenstraße
END:VEVENT
BEGIN:VEVENT
DTSTART;TZID=Europe/Berlin:20290812T143000
DTEND;TZID=Europe/Berlin:20290812T163000
DTSTAMP:20260424T074212
CREATED:20240514T164846Z
LAST-MODIFIED:20241218T143322Z
UID:10000324-1881239400-1881246600@hospizverein-bramsche.de
SUMMARY:Trostbank Friedhof Lindenstraße
DESCRIPTION:
URL:https://hospizverein-bramsche.de/event/trostbank-friedhof-lindenstrasse/2029-08-12/
LOCATION:Friedhof Lindenstraße
END:VEVENT
BEGIN:VEVENT
DTSTART;TZID=Europe/Berlin:20290909T143000
DTEND;TZID=Europe/Berlin:20290909T163000
DTSTAMP:20260424T074212
CREATED:20240514T164846Z
LAST-MODIFIED:20241218T143322Z
UID:10000325-1883658600-1883665800@hospizverein-bramsche.de
SUMMARY:Trostbank Friedhof Lindenstraße
DESCRIPTION:
URL:https://hospizverein-bramsche.de/event/trostbank-friedhof-lindenstrasse/2029-09-09/
LOCATION:Friedhof Lindenstraße
END:VEVENT
BEGIN:VEVENT
DTSTART;TZID=Europe/Berlin:20291014T143000
DTEND;TZID=Europe/Berlin:20291014T163000
DTSTAMP:20260424T074212
CREATED:20240514T164846Z
LAST-MODIFIED:20241218T143322Z
UID:10000326-1886682600-1886689800@hospizverein-bramsche.de
SUMMARY:Trostbank Friedhof Lindenstraße
DESCRIPTION:
URL:https://hospizverein-bramsche.de/event/trostbank-friedhof-lindenstrasse/2029-10-14/
LOCATION:Friedhof Lindenstraße
END:VEVENT
BEGIN:VEVENT
DTSTART;TZID=Europe/Berlin:20291111T143000
DTEND;TZID=Europe/Berlin:20291111T163000
DTSTAMP:20260424T074212
CREATED:20240514T164846Z
LAST-MODIFIED:20241218T143322Z
UID:10000327-1889101800-1889109000@hospizverein-bramsche.de
SUMMARY:Trostbank Friedhof Lindenstraße
DESCRIPTION:
URL:https://hospizverein-bramsche.de/event/trostbank-friedhof-lindenstrasse/2029-11-11/
LOCATION:Friedhof Lindenstraße
END:VEVENT
BEGIN:VEVENT
DTSTART;TZID=Europe/Berlin:20291209T143000
DTEND;TZID=Europe/Berlin:20291209T163000
DTSTAMP:20260424T074212
CREATED:20240514T164846Z
LAST-MODIFIED:20241218T143322Z
UID:10000328-1891521000-1891528200@hospizverein-bramsche.de
SUMMARY:Trostbank Friedhof Lindenstraße
DESCRIPTION:
URL:https://hospizverein-bramsche.de/event/trostbank-friedhof-lindenstrasse/2029-12-09/
LOCATION:Friedhof Lindenstraße
END:VEVENT
END:VCALENDAR