BEGIN:VCALENDAR
VERSION:2.0
PRODID:-//Hospizverein Bramsche - ECPv6.15.16//NONSGML v1.0//EN
CALSCALE:GREGORIAN
METHOD:PUBLISH
X-WR-CALNAME:Hospizverein Bramsche
X-ORIGINAL-URL:https://hospizverein-bramsche.de
X-WR-CALDESC:Veranstaltungen für Hospizverein Bramsche
REFRESH-INTERVAL;VALUE=DURATION:PT1H
X-Robots-Tag:noindex
X-PUBLISHED-TTL:PT1H
BEGIN:VTIMEZONE
TZID:Europe/Berlin
BEGIN:DAYLIGHT
TZOFFSETFROM:+0100
TZOFFSETTO:+0200
TZNAME:CEST
DTSTART:20230326T010000
END:DAYLIGHT
BEGIN:STANDARD
TZOFFSETFROM:+0200
TZOFFSETTO:+0100
TZNAME:CET
DTSTART:20231029T010000
END:STANDARD
BEGIN:DAYLIGHT
TZOFFSETFROM:+0100
TZOFFSETTO:+0200
TZNAME:CEST
DTSTART:20240331T010000
END:DAYLIGHT
BEGIN:STANDARD
TZOFFSETFROM:+0200
TZOFFSETTO:+0100
TZNAME:CET
DTSTART:20241027T010000
END:STANDARD
BEGIN:DAYLIGHT
TZOFFSETFROM:+0100
TZOFFSETTO:+0200
TZNAME:CEST
DTSTART:20250330T010000
END:DAYLIGHT
BEGIN:STANDARD
TZOFFSETFROM:+0200
TZOFFSETTO:+0100
TZNAME:CET
DTSTART:20251026T010000
END:STANDARD
BEGIN:DAYLIGHT
TZOFFSETFROM:+0100
TZOFFSETTO:+0200
TZNAME:CEST
DTSTART:20260329T010000
END:DAYLIGHT
BEGIN:STANDARD
TZOFFSETFROM:+0200
TZOFFSETTO:+0100
TZNAME:CET
DTSTART:20261025T010000
END:STANDARD
END:VTIMEZONE
BEGIN:VEVENT
DTSTART;TZID=Europe/Berlin:20250417T143000
DTEND;TZID=Europe/Berlin:20250417T163000
DTSTAMP:20260424T064458
CREATED:20240514T162809Z
LAST-MODIFIED:20260106T111718Z
UID:10001442-1744900200-1744907400@hospizverein-bramsche.de
SUMMARY:Trostbank Friedhof Malgarten
DESCRIPTION:
URL:https://hospizverein-bramsche.de/event/trostbank-friedhof-malgarten/2025-04-17/
LOCATION:Friedhof Malgarten
END:VEVENT
BEGIN:VEVENT
DTSTART;TZID=Europe/Berlin:20250320T143000
DTEND;TZID=Europe/Berlin:20250320T163000
DTSTAMP:20260424T064458
CREATED:20240514T162809Z
LAST-MODIFIED:20260106T111718Z
UID:10001441-1742481000-1742488200@hospizverein-bramsche.de
SUMMARY:Trostbank Friedhof Malgarten
DESCRIPTION:
URL:https://hospizverein-bramsche.de/event/trostbank-friedhof-malgarten/2025-03-20/
LOCATION:Friedhof Malgarten
END:VEVENT
BEGIN:VEVENT
DTSTART;TZID=Europe/Berlin:20250220T143000
DTEND;TZID=Europe/Berlin:20250220T163000
DTSTAMP:20260424T064458
CREATED:20240514T162809Z
LAST-MODIFIED:20260106T111718Z
UID:10001440-1740061800-1740069000@hospizverein-bramsche.de
SUMMARY:Trostbank Friedhof Malgarten
DESCRIPTION:
URL:https://hospizverein-bramsche.de/event/trostbank-friedhof-malgarten/2025-02-20/
LOCATION:Friedhof Malgarten
END:VEVENT
BEGIN:VEVENT
DTSTART;TZID=Europe/Berlin:20250116T143000
DTEND;TZID=Europe/Berlin:20250116T163000
DTSTAMP:20260424T064458
CREATED:20240514T162809Z
LAST-MODIFIED:20260106T111718Z
UID:10001439-1737037800-1737045000@hospizverein-bramsche.de
SUMMARY:Trostbank Friedhof Malgarten
DESCRIPTION:
URL:https://hospizverein-bramsche.de/event/trostbank-friedhof-malgarten/2025-01-16/
LOCATION:Friedhof Malgarten
END:VEVENT
BEGIN:VEVENT
DTSTART;TZID=Europe/Berlin:20241219T143000
DTEND;TZID=Europe/Berlin:20241219T163000
DTSTAMP:20260424T064458
CREATED:20240514T162809Z
LAST-MODIFIED:20260106T111718Z
UID:10001438-1734618600-1734625800@hospizverein-bramsche.de
SUMMARY:Trostbank Friedhof Malgarten
DESCRIPTION:
URL:https://hospizverein-bramsche.de/event/trostbank-friedhof-malgarten/2024-12-19/
LOCATION:Friedhof Malgarten
END:VEVENT
BEGIN:VEVENT
DTSTART;TZID=Europe/Berlin:20241121T143000
DTEND;TZID=Europe/Berlin:20241121T163000
DTSTAMP:20260424T064458
CREATED:20240514T162809Z
LAST-MODIFIED:20260106T111718Z
UID:10001437-1732199400-1732206600@hospizverein-bramsche.de
SUMMARY:Trostbank Friedhof Malgarten
DESCRIPTION:
URL:https://hospizverein-bramsche.de/event/trostbank-friedhof-malgarten/2024-11-21/
LOCATION:Friedhof Malgarten
END:VEVENT
BEGIN:VEVENT
DTSTART;TZID=Europe/Berlin:20241017T143000
DTEND;TZID=Europe/Berlin:20241017T163000
DTSTAMP:20260424T064458
CREATED:20240514T162809Z
LAST-MODIFIED:20260106T111718Z
UID:10001436-1729175400-1729182600@hospizverein-bramsche.de
SUMMARY:Trostbank Friedhof Malgarten
DESCRIPTION:
URL:https://hospizverein-bramsche.de/event/trostbank-friedhof-malgarten/2024-10-17/
LOCATION:Friedhof Malgarten
END:VEVENT
BEGIN:VEVENT
DTSTART;TZID=Europe/Berlin:20240919T143000
DTEND;TZID=Europe/Berlin:20240919T163000
DTSTAMP:20260424T064458
CREATED:20240514T162809Z
LAST-MODIFIED:20260106T111718Z
UID:10001435-1726756200-1726763400@hospizverein-bramsche.de
SUMMARY:Trostbank Friedhof Malgarten
DESCRIPTION:
URL:https://hospizverein-bramsche.de/event/trostbank-friedhof-malgarten/2024-09-19/
LOCATION:Friedhof Malgarten
END:VEVENT
BEGIN:VEVENT
DTSTART;TZID=Europe/Berlin:20240815T143000
DTEND;TZID=Europe/Berlin:20240815T163000
DTSTAMP:20260424T064458
CREATED:20240514T162809Z
LAST-MODIFIED:20260106T111718Z
UID:10001434-1723732200-1723739400@hospizverein-bramsche.de
SUMMARY:Trostbank Friedhof Malgarten
DESCRIPTION:
URL:https://hospizverein-bramsche.de/event/trostbank-friedhof-malgarten/2024-08-15/
LOCATION:Friedhof Malgarten
END:VEVENT
BEGIN:VEVENT
DTSTART;TZID=Europe/Berlin:20240718T143000
DTEND;TZID=Europe/Berlin:20240718T163000
DTSTAMP:20260424T064458
CREATED:20240514T162809Z
LAST-MODIFIED:20260106T111718Z
UID:10001433-1721313000-1721320200@hospizverein-bramsche.de
SUMMARY:Trostbank Friedhof Malgarten
DESCRIPTION:
URL:https://hospizverein-bramsche.de/event/trostbank-friedhof-malgarten/2024-07-18/
LOCATION:Friedhof Malgarten
END:VEVENT
BEGIN:VEVENT
DTSTART;TZID=Europe/Berlin:20240620T143000
DTEND;TZID=Europe/Berlin:20240620T163000
DTSTAMP:20260424T064458
CREATED:20240514T162809Z
LAST-MODIFIED:20260106T111718Z
UID:10001432-1718893800-1718901000@hospizverein-bramsche.de
SUMMARY:Trostbank Friedhof Malgarten
DESCRIPTION:
URL:https://hospizverein-bramsche.de/event/trostbank-friedhof-malgarten/2024-06-20/
LOCATION:Friedhof Malgarten
END:VEVENT
END:VCALENDAR