BEGIN:VCALENDAR
VERSION:2.0
PRODID:-//Hospizverein Bramsche - ECPv6.15.16//NONSGML v1.0//EN
CALSCALE:GREGORIAN
METHOD:PUBLISH
X-WR-CALNAME:Hospizverein Bramsche
X-ORIGINAL-URL:https://hospizverein-bramsche.de
X-WR-CALDESC:Veranstaltungen für Hospizverein Bramsche
REFRESH-INTERVAL;VALUE=DURATION:PT1H
X-Robots-Tag:noindex
X-PUBLISHED-TTL:PT1H
BEGIN:VTIMEZONE
TZID:Europe/Berlin
BEGIN:DAYLIGHT
TZOFFSETFROM:+0100
TZOFFSETTO:+0200
TZNAME:CEST
DTSTART:20280326T010000
END:DAYLIGHT
BEGIN:STANDARD
TZOFFSETFROM:+0200
TZOFFSETTO:+0100
TZNAME:CET
DTSTART:20281029T010000
END:STANDARD
BEGIN:DAYLIGHT
TZOFFSETFROM:+0100
TZOFFSETTO:+0200
TZNAME:CEST
DTSTART:20290325T010000
END:DAYLIGHT
BEGIN:STANDARD
TZOFFSETFROM:+0200
TZOFFSETTO:+0100
TZNAME:CET
DTSTART:20291028T010000
END:STANDARD
BEGIN:DAYLIGHT
TZOFFSETFROM:+0100
TZOFFSETTO:+0200
TZNAME:CEST
DTSTART:20300331T010000
END:DAYLIGHT
BEGIN:STANDARD
TZOFFSETFROM:+0200
TZOFFSETTO:+0100
TZNAME:CET
DTSTART:20301027T010000
END:STANDARD
BEGIN:DAYLIGHT
TZOFFSETFROM:+0100
TZOFFSETTO:+0200
TZNAME:CEST
DTSTART:20310330T010000
END:DAYLIGHT
BEGIN:STANDARD
TZOFFSETFROM:+0200
TZOFFSETTO:+0100
TZNAME:CET
DTSTART:20311026T010000
END:STANDARD
END:VTIMEZONE
BEGIN:VEVENT
DTSTART;TZID=Europe/Berlin:20290517T143000
DTEND;TZID=Europe/Berlin:20290517T163000
DTSTAMP:20260424T081752
CREATED:20240514T162809Z
LAST-MODIFIED:20260106T111718Z
UID:10001491-1873722600-1873729800@hospizverein-bramsche.de
SUMMARY:Trostbank Friedhof Malgarten
DESCRIPTION:
URL:https://hospizverein-bramsche.de/event/trostbank-friedhof-malgarten/2029-05-17/
LOCATION:Friedhof Malgarten
END:VEVENT
BEGIN:VEVENT
DTSTART;TZID=Europe/Berlin:20290621T143000
DTEND;TZID=Europe/Berlin:20290621T163000
DTSTAMP:20260424T081752
CREATED:20240514T162809Z
LAST-MODIFIED:20260106T111718Z
UID:10001492-1876746600-1876753800@hospizverein-bramsche.de
SUMMARY:Trostbank Friedhof Malgarten
DESCRIPTION:
URL:https://hospizverein-bramsche.de/event/trostbank-friedhof-malgarten/2029-06-21/
LOCATION:Friedhof Malgarten
END:VEVENT
BEGIN:VEVENT
DTSTART;TZID=Europe/Berlin:20290719T143000
DTEND;TZID=Europe/Berlin:20290719T163000
DTSTAMP:20260424T081752
CREATED:20240514T162809Z
LAST-MODIFIED:20260106T111718Z
UID:10001493-1879165800-1879173000@hospizverein-bramsche.de
SUMMARY:Trostbank Friedhof Malgarten
DESCRIPTION:
URL:https://hospizverein-bramsche.de/event/trostbank-friedhof-malgarten/2029-07-19/
LOCATION:Friedhof Malgarten
END:VEVENT
BEGIN:VEVENT
DTSTART;TZID=Europe/Berlin:20290816T143000
DTEND;TZID=Europe/Berlin:20290816T163000
DTSTAMP:20260424T081752
CREATED:20240514T162809Z
LAST-MODIFIED:20260106T111718Z
UID:10001494-1881585000-1881592200@hospizverein-bramsche.de
SUMMARY:Trostbank Friedhof Malgarten
DESCRIPTION:
URL:https://hospizverein-bramsche.de/event/trostbank-friedhof-malgarten/2029-08-16/
LOCATION:Friedhof Malgarten
END:VEVENT
BEGIN:VEVENT
DTSTART;TZID=Europe/Berlin:20290920T143000
DTEND;TZID=Europe/Berlin:20290920T163000
DTSTAMP:20260424T081752
CREATED:20240514T162809Z
LAST-MODIFIED:20260106T111718Z
UID:10001495-1884609000-1884616200@hospizverein-bramsche.de
SUMMARY:Trostbank Friedhof Malgarten
DESCRIPTION:
URL:https://hospizverein-bramsche.de/event/trostbank-friedhof-malgarten/2029-09-20/
LOCATION:Friedhof Malgarten
END:VEVENT
BEGIN:VEVENT
DTSTART;TZID=Europe/Berlin:20291018T143000
DTEND;TZID=Europe/Berlin:20291018T163000
DTSTAMP:20260424T081752
CREATED:20240514T162809Z
LAST-MODIFIED:20260106T111718Z
UID:10001496-1887028200-1887035400@hospizverein-bramsche.de
SUMMARY:Trostbank Friedhof Malgarten
DESCRIPTION:
URL:https://hospizverein-bramsche.de/event/trostbank-friedhof-malgarten/2029-10-18/
LOCATION:Friedhof Malgarten
END:VEVENT
BEGIN:VEVENT
DTSTART;TZID=Europe/Berlin:20291115T143000
DTEND;TZID=Europe/Berlin:20291115T163000
DTSTAMP:20260424T081752
CREATED:20240514T162809Z
LAST-MODIFIED:20260106T111718Z
UID:10001497-1889447400-1889454600@hospizverein-bramsche.de
SUMMARY:Trostbank Friedhof Malgarten
DESCRIPTION:
URL:https://hospizverein-bramsche.de/event/trostbank-friedhof-malgarten/2029-11-15/
LOCATION:Friedhof Malgarten
END:VEVENT
BEGIN:VEVENT
DTSTART;TZID=Europe/Berlin:20291220T143000
DTEND;TZID=Europe/Berlin:20291220T163000
DTSTAMP:20260424T081752
CREATED:20240514T162809Z
LAST-MODIFIED:20260106T111718Z
UID:10001498-1892471400-1892478600@hospizverein-bramsche.de
SUMMARY:Trostbank Friedhof Malgarten
DESCRIPTION:
URL:https://hospizverein-bramsche.de/event/trostbank-friedhof-malgarten/2029-12-20/
LOCATION:Friedhof Malgarten
END:VEVENT
BEGIN:VEVENT
DTSTART;TZID=Europe/Berlin:20300117T143000
DTEND;TZID=Europe/Berlin:20300117T163000
DTSTAMP:20260424T081752
CREATED:20240514T162809Z
LAST-MODIFIED:20260106T111718Z
UID:10001499-1894890600-1894897800@hospizverein-bramsche.de
SUMMARY:Trostbank Friedhof Malgarten
DESCRIPTION:
URL:https://hospizverein-bramsche.de/event/trostbank-friedhof-malgarten/2030-01-17/
LOCATION:Friedhof Malgarten
END:VEVENT
BEGIN:VEVENT
DTSTART;TZID=Europe/Berlin:20300221T143000
DTEND;TZID=Europe/Berlin:20300221T163000
DTSTAMP:20260424T081752
CREATED:20240514T162809Z
LAST-MODIFIED:20260106T111718Z
UID:10001500-1897914600-1897921800@hospizverein-bramsche.de
SUMMARY:Trostbank Friedhof Malgarten
DESCRIPTION:
URL:https://hospizverein-bramsche.de/event/trostbank-friedhof-malgarten/2030-02-21/
LOCATION:Friedhof Malgarten
END:VEVENT
BEGIN:VEVENT
DTSTART;TZID=Europe/Berlin:20300321T143000
DTEND;TZID=Europe/Berlin:20300321T163000
DTSTAMP:20260424T081752
CREATED:20240514T162809Z
LAST-MODIFIED:20260106T111718Z
UID:10001501-1900333800-1900341000@hospizverein-bramsche.de
SUMMARY:Trostbank Friedhof Malgarten
DESCRIPTION:
URL:https://hospizverein-bramsche.de/event/trostbank-friedhof-malgarten/2030-03-21/
LOCATION:Friedhof Malgarten
END:VEVENT
BEGIN:VEVENT
DTSTART;TZID=Europe/Berlin:20300418T143000
DTEND;TZID=Europe/Berlin:20300418T163000
DTSTAMP:20260424T081752
CREATED:20240514T162809Z
LAST-MODIFIED:20260106T111718Z
UID:10001502-1902753000-1902760200@hospizverein-bramsche.de
SUMMARY:Trostbank Friedhof Malgarten
DESCRIPTION:
URL:https://hospizverein-bramsche.de/event/trostbank-friedhof-malgarten/2030-04-18/
LOCATION:Friedhof Malgarten
END:VEVENT
BEGIN:VEVENT
DTSTART;TZID=Europe/Berlin:20300516T143000
DTEND;TZID=Europe/Berlin:20300516T163000
DTSTAMP:20260424T081752
CREATED:20240514T162809Z
LAST-MODIFIED:20260106T111718Z
UID:10001503-1905172200-1905179400@hospizverein-bramsche.de
SUMMARY:Trostbank Friedhof Malgarten
DESCRIPTION:
URL:https://hospizverein-bramsche.de/event/trostbank-friedhof-malgarten/2030-05-16/
LOCATION:Friedhof Malgarten
END:VEVENT
BEGIN:VEVENT
DTSTART;TZID=Europe/Berlin:20300620T143000
DTEND;TZID=Europe/Berlin:20300620T163000
DTSTAMP:20260424T081752
CREATED:20240514T162809Z
LAST-MODIFIED:20260106T111718Z
UID:10001504-1908196200-1908203400@hospizverein-bramsche.de
SUMMARY:Trostbank Friedhof Malgarten
DESCRIPTION:
URL:https://hospizverein-bramsche.de/event/trostbank-friedhof-malgarten/2030-06-20/
LOCATION:Friedhof Malgarten
END:VEVENT
BEGIN:VEVENT
DTSTART;TZID=Europe/Berlin:20300718T143000
DTEND;TZID=Europe/Berlin:20300718T163000
DTSTAMP:20260424T081752
CREATED:20240514T162809Z
LAST-MODIFIED:20260106T111718Z
UID:10001505-1910615400-1910622600@hospizverein-bramsche.de
SUMMARY:Trostbank Friedhof Malgarten
DESCRIPTION:
URL:https://hospizverein-bramsche.de/event/trostbank-friedhof-malgarten/2030-07-18/
LOCATION:Friedhof Malgarten
END:VEVENT
BEGIN:VEVENT
DTSTART;TZID=Europe/Berlin:20300815T143000
DTEND;TZID=Europe/Berlin:20300815T163000
DTSTAMP:20260424T081752
CREATED:20240514T162809Z
LAST-MODIFIED:20260106T111718Z
UID:10001506-1913034600-1913041800@hospizverein-bramsche.de
SUMMARY:Trostbank Friedhof Malgarten
DESCRIPTION:
URL:https://hospizverein-bramsche.de/event/trostbank-friedhof-malgarten/2030-08-15/
LOCATION:Friedhof Malgarten
END:VEVENT
BEGIN:VEVENT
DTSTART;TZID=Europe/Berlin:20300919T143000
DTEND;TZID=Europe/Berlin:20300919T163000
DTSTAMP:20260424T081752
CREATED:20240514T162809Z
LAST-MODIFIED:20260106T111718Z
UID:10001507-1916058600-1916065800@hospizverein-bramsche.de
SUMMARY:Trostbank Friedhof Malgarten
DESCRIPTION:
URL:https://hospizverein-bramsche.de/event/trostbank-friedhof-malgarten/2030-09-19/
LOCATION:Friedhof Malgarten
END:VEVENT
BEGIN:VEVENT
DTSTART;TZID=Europe/Berlin:20301017T143000
DTEND;TZID=Europe/Berlin:20301017T163000
DTSTAMP:20260424T081752
CREATED:20240514T162809Z
LAST-MODIFIED:20260106T111718Z
UID:10001508-1918477800-1918485000@hospizverein-bramsche.de
SUMMARY:Trostbank Friedhof Malgarten
DESCRIPTION:
URL:https://hospizverein-bramsche.de/event/trostbank-friedhof-malgarten/2030-10-17/
LOCATION:Friedhof Malgarten
END:VEVENT
BEGIN:VEVENT
DTSTART;TZID=Europe/Berlin:20301121T143000
DTEND;TZID=Europe/Berlin:20301121T163000
DTSTAMP:20260424T081752
CREATED:20240514T162809Z
LAST-MODIFIED:20260106T111718Z
UID:10001509-1921501800-1921509000@hospizverein-bramsche.de
SUMMARY:Trostbank Friedhof Malgarten
DESCRIPTION:
URL:https://hospizverein-bramsche.de/event/trostbank-friedhof-malgarten/2030-11-21/
LOCATION:Friedhof Malgarten
END:VEVENT
BEGIN:VEVENT
DTSTART;TZID=Europe/Berlin:20301219T143000
DTEND;TZID=Europe/Berlin:20301219T163000
DTSTAMP:20260424T081752
CREATED:20240514T162809Z
LAST-MODIFIED:20260106T111718Z
UID:10001510-1923921000-1923928200@hospizverein-bramsche.de
SUMMARY:Trostbank Friedhof Malgarten
DESCRIPTION:
URL:https://hospizverein-bramsche.de/event/trostbank-friedhof-malgarten/2030-12-19/
LOCATION:Friedhof Malgarten
END:VEVENT
END:VCALENDAR