BEGIN:VCALENDAR
VERSION:2.0
PRODID:-//Hospizverein Bramsche - ECPv6.15.16//NONSGML v1.0//EN
CALSCALE:GREGORIAN
METHOD:PUBLISH
X-WR-CALNAME:Hospizverein Bramsche
X-ORIGINAL-URL:https://hospizverein-bramsche.de
X-WR-CALDESC:Veranstaltungen für Hospizverein Bramsche
REFRESH-INTERVAL;VALUE=DURATION:PT1H
X-Robots-Tag:noindex
X-PUBLISHED-TTL:PT1H
BEGIN:VTIMEZONE
TZID:Europe/Berlin
BEGIN:DAYLIGHT
TZOFFSETFROM:+0100
TZOFFSETTO:+0200
TZNAME:CEST
DTSTART:20260329T010000
END:DAYLIGHT
BEGIN:STANDARD
TZOFFSETFROM:+0200
TZOFFSETTO:+0100
TZNAME:CET
DTSTART:20261025T010000
END:STANDARD
BEGIN:DAYLIGHT
TZOFFSETFROM:+0100
TZOFFSETTO:+0200
TZNAME:CEST
DTSTART:20270328T010000
END:DAYLIGHT
BEGIN:STANDARD
TZOFFSETFROM:+0200
TZOFFSETTO:+0100
TZNAME:CET
DTSTART:20271031T010000
END:STANDARD
BEGIN:DAYLIGHT
TZOFFSETFROM:+0100
TZOFFSETTO:+0200
TZNAME:CEST
DTSTART:20280326T010000
END:DAYLIGHT
BEGIN:STANDARD
TZOFFSETFROM:+0200
TZOFFSETTO:+0100
TZNAME:CET
DTSTART:20281029T010000
END:STANDARD
BEGIN:DAYLIGHT
TZOFFSETFROM:+0100
TZOFFSETTO:+0200
TZNAME:CEST
DTSTART:20290325T010000
END:DAYLIGHT
BEGIN:STANDARD
TZOFFSETFROM:+0200
TZOFFSETTO:+0100
TZNAME:CET
DTSTART:20291028T010000
END:STANDARD
BEGIN:DAYLIGHT
TZOFFSETFROM:+0100
TZOFFSETTO:+0200
TZNAME:CEST
DTSTART:20300331T010000
END:DAYLIGHT
BEGIN:STANDARD
TZOFFSETFROM:+0200
TZOFFSETTO:+0100
TZNAME:CET
DTSTART:20301027T010000
END:STANDARD
END:VTIMEZONE
BEGIN:VEVENT
DTSTART;TZID=Europe/Berlin:20270423T143000
DTEND;TZID=Europe/Berlin:20270423T163000
DTSTAMP:20260420T104934
CREATED:20250915T122852Z
LAST-MODIFIED:20260106T111609Z
UID:10001387-1808490600-1808497800@hospizverein-bramsche.de
SUMMARY:Trostbank Friedwald Bramsche
DESCRIPTION:
URL:https://hospizverein-bramsche.de/event/trostbank-friedwald-bramsche-2/2027-04-23/
LOCATION:Friedwald Bramsche
END:VEVENT
BEGIN:VEVENT
DTSTART;TZID=Europe/Berlin:20270528T143000
DTEND;TZID=Europe/Berlin:20270528T163000
DTSTAMP:20260420T104934
CREATED:20250915T122852Z
LAST-MODIFIED:20260106T111609Z
UID:10001388-1811514600-1811521800@hospizverein-bramsche.de
SUMMARY:Trostbank Friedwald Bramsche
DESCRIPTION:
URL:https://hospizverein-bramsche.de/event/trostbank-friedwald-bramsche-2/2027-05-28/
LOCATION:Friedwald Bramsche
END:VEVENT
BEGIN:VEVENT
DTSTART;TZID=Europe/Berlin:20270625T143000
DTEND;TZID=Europe/Berlin:20270625T163000
DTSTAMP:20260420T104934
CREATED:20250915T122852Z
LAST-MODIFIED:20260106T111609Z
UID:10001389-1813933800-1813941000@hospizverein-bramsche.de
SUMMARY:Trostbank Friedwald Bramsche
DESCRIPTION:
URL:https://hospizverein-bramsche.de/event/trostbank-friedwald-bramsche-2/2027-06-25/
LOCATION:Friedwald Bramsche
END:VEVENT
BEGIN:VEVENT
DTSTART;TZID=Europe/Berlin:20270723T143000
DTEND;TZID=Europe/Berlin:20270723T163000
DTSTAMP:20260420T104934
CREATED:20250915T122852Z
LAST-MODIFIED:20260106T111609Z
UID:10001390-1816353000-1816360200@hospizverein-bramsche.de
SUMMARY:Trostbank Friedwald Bramsche
DESCRIPTION:
URL:https://hospizverein-bramsche.de/event/trostbank-friedwald-bramsche-2/2027-07-23/
LOCATION:Friedwald Bramsche
END:VEVENT
BEGIN:VEVENT
DTSTART;TZID=Europe/Berlin:20270827T143000
DTEND;TZID=Europe/Berlin:20270827T163000
DTSTAMP:20260420T104934
CREATED:20250915T122852Z
LAST-MODIFIED:20260106T111609Z
UID:10001391-1819377000-1819384200@hospizverein-bramsche.de
SUMMARY:Trostbank Friedwald Bramsche
DESCRIPTION:
URL:https://hospizverein-bramsche.de/event/trostbank-friedwald-bramsche-2/2027-08-27/
LOCATION:Friedwald Bramsche
END:VEVENT
BEGIN:VEVENT
DTSTART;TZID=Europe/Berlin:20270924T143000
DTEND;TZID=Europe/Berlin:20270924T163000
DTSTAMP:20260420T104934
CREATED:20250915T122852Z
LAST-MODIFIED:20260106T111609Z
UID:10001392-1821796200-1821803400@hospizverein-bramsche.de
SUMMARY:Trostbank Friedwald Bramsche
DESCRIPTION:
URL:https://hospizverein-bramsche.de/event/trostbank-friedwald-bramsche-2/2027-09-24/
LOCATION:Friedwald Bramsche
END:VEVENT
BEGIN:VEVENT
DTSTART;TZID=Europe/Berlin:20271022T143000
DTEND;TZID=Europe/Berlin:20271022T163000
DTSTAMP:20260420T104934
CREATED:20250915T122852Z
LAST-MODIFIED:20260106T111609Z
UID:10001393-1824215400-1824222600@hospizverein-bramsche.de
SUMMARY:Trostbank Friedwald Bramsche
DESCRIPTION:
URL:https://hospizverein-bramsche.de/event/trostbank-friedwald-bramsche-2/2027-10-22/
LOCATION:Friedwald Bramsche
END:VEVENT
BEGIN:VEVENT
DTSTART;TZID=Europe/Berlin:20271126T143000
DTEND;TZID=Europe/Berlin:20271126T163000
DTSTAMP:20260420T104934
CREATED:20250915T122852Z
LAST-MODIFIED:20260106T111609Z
UID:10001394-1827239400-1827246600@hospizverein-bramsche.de
SUMMARY:Trostbank Friedwald Bramsche
DESCRIPTION:
URL:https://hospizverein-bramsche.de/event/trostbank-friedwald-bramsche-2/2027-11-26/
LOCATION:Friedwald Bramsche
END:VEVENT
BEGIN:VEVENT
DTSTART;TZID=Europe/Berlin:20271224T143000
DTEND;TZID=Europe/Berlin:20271224T163000
DTSTAMP:20260420T104934
CREATED:20250915T122852Z
LAST-MODIFIED:20260106T111609Z
UID:10001395-1829658600-1829665800@hospizverein-bramsche.de
SUMMARY:Trostbank Friedwald Bramsche
DESCRIPTION:
URL:https://hospizverein-bramsche.de/event/trostbank-friedwald-bramsche-2/2027-12-24/
LOCATION:Friedwald Bramsche
END:VEVENT
BEGIN:VEVENT
DTSTART;TZID=Europe/Berlin:20280128T143000
DTEND;TZID=Europe/Berlin:20280128T163000
DTSTAMP:20260420T104934
CREATED:20250915T122852Z
LAST-MODIFIED:20260106T111609Z
UID:10001396-1832682600-1832689800@hospizverein-bramsche.de
SUMMARY:Trostbank Friedwald Bramsche
DESCRIPTION:
URL:https://hospizverein-bramsche.de/event/trostbank-friedwald-bramsche-2/2028-01-28/
LOCATION:Friedwald Bramsche
END:VEVENT
BEGIN:VEVENT
DTSTART;TZID=Europe/Berlin:20280225T143000
DTEND;TZID=Europe/Berlin:20280225T163000
DTSTAMP:20260420T104934
CREATED:20250915T122852Z
LAST-MODIFIED:20260106T111609Z
UID:10001397-1835101800-1835109000@hospizverein-bramsche.de
SUMMARY:Trostbank Friedwald Bramsche
DESCRIPTION:
URL:https://hospizverein-bramsche.de/event/trostbank-friedwald-bramsche-2/2028-02-25/
LOCATION:Friedwald Bramsche
END:VEVENT
BEGIN:VEVENT
DTSTART;TZID=Europe/Berlin:20280324T143000
DTEND;TZID=Europe/Berlin:20280324T163000
DTSTAMP:20260420T104934
CREATED:20250915T122852Z
LAST-MODIFIED:20260106T111609Z
UID:10001398-1837521000-1837528200@hospizverein-bramsche.de
SUMMARY:Trostbank Friedwald Bramsche
DESCRIPTION:
URL:https://hospizverein-bramsche.de/event/trostbank-friedwald-bramsche-2/2028-03-24/
LOCATION:Friedwald Bramsche
END:VEVENT
BEGIN:VEVENT
DTSTART;TZID=Europe/Berlin:20280428T143000
DTEND;TZID=Europe/Berlin:20280428T163000
DTSTAMP:20260420T104934
CREATED:20250915T122852Z
LAST-MODIFIED:20260106T111609Z
UID:10001399-1840545000-1840552200@hospizverein-bramsche.de
SUMMARY:Trostbank Friedwald Bramsche
DESCRIPTION:
URL:https://hospizverein-bramsche.de/event/trostbank-friedwald-bramsche-2/2028-04-28/
LOCATION:Friedwald Bramsche
END:VEVENT
BEGIN:VEVENT
DTSTART;TZID=Europe/Berlin:20280526T143000
DTEND;TZID=Europe/Berlin:20280526T163000
DTSTAMP:20260420T104934
CREATED:20250915T122852Z
LAST-MODIFIED:20260106T111609Z
UID:10001400-1842964200-1842971400@hospizverein-bramsche.de
SUMMARY:Trostbank Friedwald Bramsche
DESCRIPTION:
URL:https://hospizverein-bramsche.de/event/trostbank-friedwald-bramsche-2/2028-05-26/
LOCATION:Friedwald Bramsche
END:VEVENT
BEGIN:VEVENT
DTSTART;TZID=Europe/Berlin:20280623T143000
DTEND;TZID=Europe/Berlin:20280623T163000
DTSTAMP:20260420T104934
CREATED:20250915T122852Z
LAST-MODIFIED:20260106T111609Z
UID:10001401-1845383400-1845390600@hospizverein-bramsche.de
SUMMARY:Trostbank Friedwald Bramsche
DESCRIPTION:
URL:https://hospizverein-bramsche.de/event/trostbank-friedwald-bramsche-2/2028-06-23/
LOCATION:Friedwald Bramsche
END:VEVENT
BEGIN:VEVENT
DTSTART;TZID=Europe/Berlin:20280728T143000
DTEND;TZID=Europe/Berlin:20280728T163000
DTSTAMP:20260420T104934
CREATED:20250915T122852Z
LAST-MODIFIED:20260106T111609Z
UID:10001402-1848407400-1848414600@hospizverein-bramsche.de
SUMMARY:Trostbank Friedwald Bramsche
DESCRIPTION:
URL:https://hospizverein-bramsche.de/event/trostbank-friedwald-bramsche-2/2028-07-28/
LOCATION:Friedwald Bramsche
END:VEVENT
BEGIN:VEVENT
DTSTART;TZID=Europe/Berlin:20280825T143000
DTEND;TZID=Europe/Berlin:20280825T163000
DTSTAMP:20260420T104934
CREATED:20250915T122852Z
LAST-MODIFIED:20260106T111609Z
UID:10001403-1850826600-1850833800@hospizverein-bramsche.de
SUMMARY:Trostbank Friedwald Bramsche
DESCRIPTION:
URL:https://hospizverein-bramsche.de/event/trostbank-friedwald-bramsche-2/2028-08-25/
LOCATION:Friedwald Bramsche
END:VEVENT
BEGIN:VEVENT
DTSTART;TZID=Europe/Berlin:20280922T143000
DTEND;TZID=Europe/Berlin:20280922T163000
DTSTAMP:20260420T104934
CREATED:20250915T122852Z
LAST-MODIFIED:20260106T111609Z
UID:10001404-1853245800-1853253000@hospizverein-bramsche.de
SUMMARY:Trostbank Friedwald Bramsche
DESCRIPTION:
URL:https://hospizverein-bramsche.de/event/trostbank-friedwald-bramsche-2/2028-09-22/
LOCATION:Friedwald Bramsche
END:VEVENT
BEGIN:VEVENT
DTSTART;TZID=Europe/Berlin:20281027T143000
DTEND;TZID=Europe/Berlin:20281027T163000
DTSTAMP:20260420T104934
CREATED:20250915T122852Z
LAST-MODIFIED:20260106T111609Z
UID:10001405-1856269800-1856277000@hospizverein-bramsche.de
SUMMARY:Trostbank Friedwald Bramsche
DESCRIPTION:
URL:https://hospizverein-bramsche.de/event/trostbank-friedwald-bramsche-2/2028-10-27/
LOCATION:Friedwald Bramsche
END:VEVENT
BEGIN:VEVENT
DTSTART;TZID=Europe/Berlin:20281124T143000
DTEND;TZID=Europe/Berlin:20281124T163000
DTSTAMP:20260420T104934
CREATED:20250915T122852Z
LAST-MODIFIED:20260106T111609Z
UID:10001406-1858689000-1858696200@hospizverein-bramsche.de
SUMMARY:Trostbank Friedwald Bramsche
DESCRIPTION:
URL:https://hospizverein-bramsche.de/event/trostbank-friedwald-bramsche-2/2028-11-24/
LOCATION:Friedwald Bramsche
END:VEVENT
BEGIN:VEVENT
DTSTART;TZID=Europe/Berlin:20281222T143000
DTEND;TZID=Europe/Berlin:20281222T163000
DTSTAMP:20260420T104934
CREATED:20250915T122852Z
LAST-MODIFIED:20260106T111609Z
UID:10001407-1861108200-1861115400@hospizverein-bramsche.de
SUMMARY:Trostbank Friedwald Bramsche
DESCRIPTION:
URL:https://hospizverein-bramsche.de/event/trostbank-friedwald-bramsche-2/2028-12-22/
LOCATION:Friedwald Bramsche
END:VEVENT
BEGIN:VEVENT
DTSTART;TZID=Europe/Berlin:20290126T143000
DTEND;TZID=Europe/Berlin:20290126T163000
DTSTAMP:20260420T104934
CREATED:20250915T122852Z
LAST-MODIFIED:20260106T111609Z
UID:10001408-1864132200-1864139400@hospizverein-bramsche.de
SUMMARY:Trostbank Friedwald Bramsche
DESCRIPTION:
URL:https://hospizverein-bramsche.de/event/trostbank-friedwald-bramsche-2/2029-01-26/
LOCATION:Friedwald Bramsche
END:VEVENT
BEGIN:VEVENT
DTSTART;TZID=Europe/Berlin:20290223T143000
DTEND;TZID=Europe/Berlin:20290223T163000
DTSTAMP:20260420T104934
CREATED:20250915T122852Z
LAST-MODIFIED:20260106T111609Z
UID:10001409-1866551400-1866558600@hospizverein-bramsche.de
SUMMARY:Trostbank Friedwald Bramsche
DESCRIPTION:
URL:https://hospizverein-bramsche.de/event/trostbank-friedwald-bramsche-2/2029-02-23/
LOCATION:Friedwald Bramsche
END:VEVENT
BEGIN:VEVENT
DTSTART;TZID=Europe/Berlin:20290323T143000
DTEND;TZID=Europe/Berlin:20290323T163000
DTSTAMP:20260420T104934
CREATED:20250915T122852Z
LAST-MODIFIED:20260106T111609Z
UID:10001410-1868970600-1868977800@hospizverein-bramsche.de
SUMMARY:Trostbank Friedwald Bramsche
DESCRIPTION:
URL:https://hospizverein-bramsche.de/event/trostbank-friedwald-bramsche-2/2029-03-23/
LOCATION:Friedwald Bramsche
END:VEVENT
BEGIN:VEVENT
DTSTART;TZID=Europe/Berlin:20290427T143000
DTEND;TZID=Europe/Berlin:20290427T163000
DTSTAMP:20260420T104934
CREATED:20250915T122852Z
LAST-MODIFIED:20260106T111609Z
UID:10001411-1871994600-1872001800@hospizverein-bramsche.de
SUMMARY:Trostbank Friedwald Bramsche
DESCRIPTION:
URL:https://hospizverein-bramsche.de/event/trostbank-friedwald-bramsche-2/2029-04-27/
LOCATION:Friedwald Bramsche
END:VEVENT
BEGIN:VEVENT
DTSTART;TZID=Europe/Berlin:20290525T143000
DTEND;TZID=Europe/Berlin:20290525T163000
DTSTAMP:20260420T104934
CREATED:20250915T122852Z
LAST-MODIFIED:20260106T111609Z
UID:10001412-1874413800-1874421000@hospizverein-bramsche.de
SUMMARY:Trostbank Friedwald Bramsche
DESCRIPTION:
URL:https://hospizverein-bramsche.de/event/trostbank-friedwald-bramsche-2/2029-05-25/
LOCATION:Friedwald Bramsche
END:VEVENT
BEGIN:VEVENT
DTSTART;TZID=Europe/Berlin:20290622T143000
DTEND;TZID=Europe/Berlin:20290622T163000
DTSTAMP:20260420T104934
CREATED:20250915T122852Z
LAST-MODIFIED:20260106T111609Z
UID:10001413-1876833000-1876840200@hospizverein-bramsche.de
SUMMARY:Trostbank Friedwald Bramsche
DESCRIPTION:
URL:https://hospizverein-bramsche.de/event/trostbank-friedwald-bramsche-2/2029-06-22/
LOCATION:Friedwald Bramsche
END:VEVENT
BEGIN:VEVENT
DTSTART;TZID=Europe/Berlin:20290727T143000
DTEND;TZID=Europe/Berlin:20290727T163000
DTSTAMP:20260420T104934
CREATED:20250915T122852Z
LAST-MODIFIED:20260106T111609Z
UID:10001414-1879857000-1879864200@hospizverein-bramsche.de
SUMMARY:Trostbank Friedwald Bramsche
DESCRIPTION:
URL:https://hospizverein-bramsche.de/event/trostbank-friedwald-bramsche-2/2029-07-27/
LOCATION:Friedwald Bramsche
END:VEVENT
BEGIN:VEVENT
DTSTART;TZID=Europe/Berlin:20290824T143000
DTEND;TZID=Europe/Berlin:20290824T163000
DTSTAMP:20260420T104934
CREATED:20250915T122852Z
LAST-MODIFIED:20260106T111609Z
UID:10001415-1882276200-1882283400@hospizverein-bramsche.de
SUMMARY:Trostbank Friedwald Bramsche
DESCRIPTION:
URL:https://hospizverein-bramsche.de/event/trostbank-friedwald-bramsche-2/2029-08-24/
LOCATION:Friedwald Bramsche
END:VEVENT
BEGIN:VEVENT
DTSTART;TZID=Europe/Berlin:20290928T143000
DTEND;TZID=Europe/Berlin:20290928T163000
DTSTAMP:20260420T104934
CREATED:20250915T122852Z
LAST-MODIFIED:20260106T111609Z
UID:10001416-1885300200-1885307400@hospizverein-bramsche.de
SUMMARY:Trostbank Friedwald Bramsche
DESCRIPTION:
URL:https://hospizverein-bramsche.de/event/trostbank-friedwald-bramsche-2/2029-09-28/
LOCATION:Friedwald Bramsche
END:VEVENT
END:VCALENDAR