BEGIN:VCALENDAR
VERSION:2.0
PRODID:-//Hospizverein Bramsche - ECPv6.15.16//NONSGML v1.0//EN
CALSCALE:GREGORIAN
METHOD:PUBLISH
X-ORIGINAL-URL:https://hospizverein-bramsche.de
X-WR-CALDESC:Veranstaltungen für Hospizverein Bramsche
REFRESH-INTERVAL;VALUE=DURATION:PT1H
X-Robots-Tag:noindex
X-PUBLISHED-TTL:PT1H
BEGIN:VTIMEZONE
TZID:Europe/Berlin
BEGIN:DAYLIGHT
TZOFFSETFROM:+0100
TZOFFSETTO:+0200
TZNAME:CEST
DTSTART:20240331T010000
END:DAYLIGHT
BEGIN:STANDARD
TZOFFSETFROM:+0200
TZOFFSETTO:+0100
TZNAME:CET
DTSTART:20241027T010000
END:STANDARD
BEGIN:DAYLIGHT
TZOFFSETFROM:+0100
TZOFFSETTO:+0200
TZNAME:CEST
DTSTART:20250330T010000
END:DAYLIGHT
BEGIN:STANDARD
TZOFFSETFROM:+0200
TZOFFSETTO:+0100
TZNAME:CET
DTSTART:20251026T010000
END:STANDARD
BEGIN:DAYLIGHT
TZOFFSETFROM:+0100
TZOFFSETTO:+0200
TZNAME:CEST
DTSTART:20260329T010000
END:DAYLIGHT
BEGIN:STANDARD
TZOFFSETFROM:+0200
TZOFFSETTO:+0100
TZNAME:CET
DTSTART:20261025T010000
END:STANDARD
END:VTIMEZONE
BEGIN:VEVENT
DTSTART;TZID=Europe/Berlin:20250625T150000
DTEND;TZID=Europe/Berlin:20250625T170000
DTSTAMP:20260426T052850
CREATED:20241218T143731Z
LAST-MODIFIED:20241219T171346Z
UID:10000576-1750863600-1750870800@hospizverein-bramsche.de
SUMMARY:Bürozeiten
DESCRIPTION:
URL:https://hospizverein-bramsche.de/event/buerozeiten/2025-06-25/
LOCATION:Hopizbüro\, Münsterstrasse 16\, Bramsche\, Niedersachsen\, 49565\, Deutschland
END:VEVENT
BEGIN:VEVENT
DTSTART;TZID=Europe/Berlin:20250625T080000
DTEND;TZID=Europe/Berlin:20250625T170000
DTSTAMP:20260426T052850
CREATED:20241218T145418Z
LAST-MODIFIED:20241218T145418Z
UID:10001105-1750838400-1750870800@hospizverein-bramsche.de
SUMMARY:Stadtfest Bramsche
DESCRIPTION:Flohmarktstand beim Hospizbüro
URL:https://hospizverein-bramsche.de/event/stadtfest-bramsche/2025-06-25/
LOCATION:Hopizbüro\, Münsterstrasse 16\, Bramsche\, Niedersachsen\, 49565\, Deutschland
END:VEVENT
BEGIN:VEVENT
DTSTART;TZID=Europe/Berlin:20250624T080000
DTEND;TZID=Europe/Berlin:20250624T170000
DTSTAMP:20260426T052850
CREATED:20241218T145418Z
LAST-MODIFIED:20241218T145418Z
UID:10001104-1750752000-1750784400@hospizverein-bramsche.de
SUMMARY:Stadtfest Bramsche
DESCRIPTION:Flohmarktstand beim Hospizbüro
URL:https://hospizverein-bramsche.de/event/stadtfest-bramsche/2025-06-24/
LOCATION:Hopizbüro\, Münsterstrasse 16\, Bramsche\, Niedersachsen\, 49565\, Deutschland
END:VEVENT
BEGIN:VEVENT
DTSTART;TZID=Europe/Berlin:20250620T100000
DTEND;TZID=Europe/Berlin:20250620T120000
DTSTAMP:20260426T052850
CREATED:20241218T143911Z
LAST-MODIFIED:20241219T171401Z
UID:10000864-1750413600-1750420800@hospizverein-bramsche.de
SUMMARY:Bürozeiten
DESCRIPTION:
URL:https://hospizverein-bramsche.de/event/buerozeiten-2/2025-06-20/
LOCATION:Hopizbüro\, Münsterstrasse 16\, Bramsche\, Niedersachsen\, 49565\, Deutschland
END:VEVENT
BEGIN:VEVENT
DTSTART;TZID=Europe/Berlin:20250618T150000
DTEND;TZID=Europe/Berlin:20250618T170000
DTSTAMP:20260426T052850
CREATED:20241218T143731Z
LAST-MODIFIED:20241219T171346Z
UID:10000575-1750258800-1750266000@hospizverein-bramsche.de
SUMMARY:Bürozeiten
DESCRIPTION:
URL:https://hospizverein-bramsche.de/event/buerozeiten/2025-06-18/
LOCATION:Hopizbüro\, Münsterstrasse 16\, Bramsche\, Niedersachsen\, 49565\, Deutschland
END:VEVENT
BEGIN:VEVENT
DTSTART;TZID=Europe/Berlin:20250613T100000
DTEND;TZID=Europe/Berlin:20250613T120000
DTSTAMP:20260426T052850
CREATED:20241218T143911Z
LAST-MODIFIED:20241219T171401Z
UID:10000863-1749808800-1749816000@hospizverein-bramsche.de
SUMMARY:Bürozeiten
DESCRIPTION:
URL:https://hospizverein-bramsche.de/event/buerozeiten-2/2025-06-13/
LOCATION:Hopizbüro\, Münsterstrasse 16\, Bramsche\, Niedersachsen\, 49565\, Deutschland
END:VEVENT
BEGIN:VEVENT
DTSTART;TZID=Europe/Berlin:20250611T180000
DTEND;TZID=Europe/Berlin:20250611T203000
DTSTAMP:20260426T052850
CREATED:20240606T164438Z
LAST-MODIFIED:20241218T143553Z
UID:10000470-1749664800-1749673800@hospizverein-bramsche.de
SUMMARY:Begleitertreffen
DESCRIPTION:
URL:https://hospizverein-bramsche.de/event/begleitertreffen/2025-06-11/
LOCATION:Hopizbüro\, Münsterstrasse 16\, Bramsche\, Niedersachsen\, 49565\, Deutschland
END:VEVENT
BEGIN:VEVENT
DTSTART;TZID=Europe/Berlin:20250611T150000
DTEND;TZID=Europe/Berlin:20250611T170000
DTSTAMP:20260426T052850
CREATED:20241218T143731Z
LAST-MODIFIED:20241219T171346Z
UID:10000574-1749654000-1749661200@hospizverein-bramsche.de
SUMMARY:Bürozeiten
DESCRIPTION:
URL:https://hospizverein-bramsche.de/event/buerozeiten/2025-06-11/
LOCATION:Hopizbüro\, Münsterstrasse 16\, Bramsche\, Niedersachsen\, 49565\, Deutschland
END:VEVENT
BEGIN:VEVENT
DTSTART;TZID=Europe/Berlin:20250606T100000
DTEND;TZID=Europe/Berlin:20250606T120000
DTSTAMP:20260426T052850
CREATED:20241218T143911Z
LAST-MODIFIED:20241219T171401Z
UID:10000862-1749204000-1749211200@hospizverein-bramsche.de
SUMMARY:Bürozeiten
DESCRIPTION:
URL:https://hospizverein-bramsche.de/event/buerozeiten-2/2025-06-06/
LOCATION:Hopizbüro\, Münsterstrasse 16\, Bramsche\, Niedersachsen\, 49565\, Deutschland
END:VEVENT
BEGIN:VEVENT
DTSTART;TZID=Europe/Berlin:20250604T160000
DTEND;TZID=Europe/Berlin:20250604T173000
DTSTAMP:20260426T052850
CREATED:20240514T133036Z
LAST-MODIFIED:20241219T171135Z
UID:10000208-1749052800-1749058200@hospizverein-bramsche.de
SUMMARY:Hospizcafe
DESCRIPTION:
URL:https://hospizverein-bramsche.de/event/hospizcafe/2025-06-04/
LOCATION:Hopizbüro\, Münsterstrasse 16\, Bramsche\, Niedersachsen\, 49565\, Deutschland
END:VEVENT
BEGIN:VEVENT
DTSTART;TZID=Europe/Berlin:20250604T150000
DTEND;TZID=Europe/Berlin:20250604T170000
DTSTAMP:20260426T052850
CREATED:20241218T143731Z
LAST-MODIFIED:20241219T171346Z
UID:10000573-1749049200-1749056400@hospizverein-bramsche.de
SUMMARY:Bürozeiten
DESCRIPTION:
URL:https://hospizverein-bramsche.de/event/buerozeiten/2025-06-04/
LOCATION:Hopizbüro\, Münsterstrasse 16\, Bramsche\, Niedersachsen\, 49565\, Deutschland
END:VEVENT
BEGIN:VEVENT
DTSTART;TZID=Europe/Berlin:20250602T150000
DTEND;TZID=Europe/Berlin:20250602T170000
DTSTAMP:20260426T052850
CREATED:20241218T141550Z
LAST-MODIFIED:20241218T143113Z
UID:10000067-1748876400-1748883600@hospizverein-bramsche.de
SUMMARY:Gesprächskreis für Trauernde
DESCRIPTION:
URL:https://hospizverein-bramsche.de/event/gespraechskreis-fuer-trauernde-6-copy/2025-06-02/
LOCATION:Hopizbüro\, Münsterstrasse 16\, Bramsche\, Niedersachsen\, 49565\, Deutschland
END:VEVENT
BEGIN:VEVENT
DTSTART;TZID=Europe/Berlin:20250530T100000
DTEND;TZID=Europe/Berlin:20250530T120000
DTSTAMP:20260426T052850
CREATED:20241218T143911Z
LAST-MODIFIED:20241219T171401Z
UID:10000861-1748599200-1748606400@hospizverein-bramsche.de
SUMMARY:Bürozeiten
DESCRIPTION:
URL:https://hospizverein-bramsche.de/event/buerozeiten-2/2025-05-30/
LOCATION:Hopizbüro\, Münsterstrasse 16\, Bramsche\, Niedersachsen\, 49565\, Deutschland
END:VEVENT
BEGIN:VEVENT
DTSTART;TZID=Europe/Berlin:20250528T150000
DTEND;TZID=Europe/Berlin:20250528T170000
DTSTAMP:20260426T052850
CREATED:20241218T143731Z
LAST-MODIFIED:20241219T171346Z
UID:10000572-1748444400-1748451600@hospizverein-bramsche.de
SUMMARY:Bürozeiten
DESCRIPTION:
URL:https://hospizverein-bramsche.de/event/buerozeiten/2025-05-28/
LOCATION:Hopizbüro\, Münsterstrasse 16\, Bramsche\, Niedersachsen\, 49565\, Deutschland
END:VEVENT
BEGIN:VEVENT
DTSTART;TZID=Europe/Berlin:20250523T100000
DTEND;TZID=Europe/Berlin:20250523T120000
DTSTAMP:20260426T052850
CREATED:20241218T143911Z
LAST-MODIFIED:20241219T171401Z
UID:10000860-1747994400-1748001600@hospizverein-bramsche.de
SUMMARY:Bürozeiten
DESCRIPTION:
URL:https://hospizverein-bramsche.de/event/buerozeiten-2/2025-05-23/
LOCATION:Hopizbüro\, Münsterstrasse 16\, Bramsche\, Niedersachsen\, 49565\, Deutschland
END:VEVENT
BEGIN:VEVENT
DTSTART;TZID=Europe/Berlin:20250521T150000
DTEND;TZID=Europe/Berlin:20250521T170000
DTSTAMP:20260426T052850
CREATED:20241218T143731Z
LAST-MODIFIED:20241219T171346Z
UID:10000571-1747839600-1747846800@hospizverein-bramsche.de
SUMMARY:Bürozeiten
DESCRIPTION:
URL:https://hospizverein-bramsche.de/event/buerozeiten/2025-05-21/
LOCATION:Hopizbüro\, Münsterstrasse 16\, Bramsche\, Niedersachsen\, 49565\, Deutschland
END:VEVENT
BEGIN:VEVENT
DTSTART;TZID=Europe/Berlin:20250516T100000
DTEND;TZID=Europe/Berlin:20250516T120000
DTSTAMP:20260426T052850
CREATED:20241218T143911Z
LAST-MODIFIED:20241219T171401Z
UID:10000859-1747389600-1747396800@hospizverein-bramsche.de
SUMMARY:Bürozeiten
DESCRIPTION:
URL:https://hospizverein-bramsche.de/event/buerozeiten-2/2025-05-16/
LOCATION:Hopizbüro\, Münsterstrasse 16\, Bramsche\, Niedersachsen\, 49565\, Deutschland
END:VEVENT
BEGIN:VEVENT
DTSTART;TZID=Europe/Berlin:20250514T180000
DTEND;TZID=Europe/Berlin:20250514T203000
DTSTAMP:20260426T052850
CREATED:20240606T164438Z
LAST-MODIFIED:20241218T143553Z
UID:10000469-1747245600-1747254600@hospizverein-bramsche.de
SUMMARY:Begleitertreffen
DESCRIPTION:
URL:https://hospizverein-bramsche.de/event/begleitertreffen/2025-05-14/
LOCATION:Hopizbüro\, Münsterstrasse 16\, Bramsche\, Niedersachsen\, 49565\, Deutschland
END:VEVENT
BEGIN:VEVENT
DTSTART;TZID=Europe/Berlin:20250514T150000
DTEND;TZID=Europe/Berlin:20250514T170000
DTSTAMP:20260426T052850
CREATED:20241218T143731Z
LAST-MODIFIED:20241219T171346Z
UID:10000570-1747234800-1747242000@hospizverein-bramsche.de
SUMMARY:Bürozeiten
DESCRIPTION:
URL:https://hospizverein-bramsche.de/event/buerozeiten/2025-05-14/
LOCATION:Hopizbüro\, Münsterstrasse 16\, Bramsche\, Niedersachsen\, 49565\, Deutschland
END:VEVENT
BEGIN:VEVENT
DTSTART;TZID=Europe/Berlin:20250509T100000
DTEND;TZID=Europe/Berlin:20250509T120000
DTSTAMP:20260426T052850
CREATED:20241218T143911Z
LAST-MODIFIED:20241219T171401Z
UID:10000858-1746784800-1746792000@hospizverein-bramsche.de
SUMMARY:Bürozeiten
DESCRIPTION:
URL:https://hospizverein-bramsche.de/event/buerozeiten-2/2025-05-09/
LOCATION:Hopizbüro\, Münsterstrasse 16\, Bramsche\, Niedersachsen\, 49565\, Deutschland
END:VEVENT
BEGIN:VEVENT
DTSTART;TZID=Europe/Berlin:20250507T160000
DTEND;TZID=Europe/Berlin:20250507T173000
DTSTAMP:20260426T052850
CREATED:20240514T133036Z
LAST-MODIFIED:20241219T171135Z
UID:10000207-1746633600-1746639000@hospizverein-bramsche.de
SUMMARY:Hospizcafe
DESCRIPTION:
URL:https://hospizverein-bramsche.de/event/hospizcafe/2025-05-07/
LOCATION:Hopizbüro\, Münsterstrasse 16\, Bramsche\, Niedersachsen\, 49565\, Deutschland
END:VEVENT
BEGIN:VEVENT
DTSTART;TZID=Europe/Berlin:20250507T150000
DTEND;TZID=Europe/Berlin:20250507T170000
DTSTAMP:20260426T052850
CREATED:20241218T143731Z
LAST-MODIFIED:20241219T171346Z
UID:10000569-1746630000-1746637200@hospizverein-bramsche.de
SUMMARY:Bürozeiten
DESCRIPTION:
URL:https://hospizverein-bramsche.de/event/buerozeiten/2025-05-07/
LOCATION:Hopizbüro\, Münsterstrasse 16\, Bramsche\, Niedersachsen\, 49565\, Deutschland
END:VEVENT
BEGIN:VEVENT
DTSTART;TZID=Europe/Berlin:20250505T150000
DTEND;TZID=Europe/Berlin:20250505T170000
DTSTAMP:20260426T052850
CREATED:20241218T141550Z
LAST-MODIFIED:20241218T143113Z
UID:10000066-1746457200-1746464400@hospizverein-bramsche.de
SUMMARY:Gesprächskreis für Trauernde
DESCRIPTION:
URL:https://hospizverein-bramsche.de/event/gespraechskreis-fuer-trauernde-6-copy/2025-05-05/
LOCATION:Hopizbüro\, Münsterstrasse 16\, Bramsche\, Niedersachsen\, 49565\, Deutschland
END:VEVENT
BEGIN:VEVENT
DTSTART;TZID=Europe/Berlin:20250502T100000
DTEND;TZID=Europe/Berlin:20250502T120000
DTSTAMP:20260426T052850
CREATED:20241218T143911Z
LAST-MODIFIED:20241219T171401Z
UID:10000857-1746180000-1746187200@hospizverein-bramsche.de
SUMMARY:Bürozeiten
DESCRIPTION:
URL:https://hospizverein-bramsche.de/event/buerozeiten-2/2025-05-02/
LOCATION:Hopizbüro\, Münsterstrasse 16\, Bramsche\, Niedersachsen\, 49565\, Deutschland
END:VEVENT
BEGIN:VEVENT
DTSTART;TZID=Europe/Berlin:20250430T150000
DTEND;TZID=Europe/Berlin:20250430T170000
DTSTAMP:20260426T052850
CREATED:20241218T143731Z
LAST-MODIFIED:20241219T171346Z
UID:10000568-1746025200-1746032400@hospizverein-bramsche.de
SUMMARY:Bürozeiten
DESCRIPTION:
URL:https://hospizverein-bramsche.de/event/buerozeiten/2025-04-30/
LOCATION:Hopizbüro\, Münsterstrasse 16\, Bramsche\, Niedersachsen\, 49565\, Deutschland
END:VEVENT
BEGIN:VEVENT
DTSTART;TZID=Europe/Berlin:20250425T100000
DTEND;TZID=Europe/Berlin:20250425T120000
DTSTAMP:20260426T052850
CREATED:20241218T143911Z
LAST-MODIFIED:20241219T171401Z
UID:10000856-1745575200-1745582400@hospizverein-bramsche.de
SUMMARY:Bürozeiten
DESCRIPTION:
URL:https://hospizverein-bramsche.de/event/buerozeiten-2/2025-04-25/
LOCATION:Hopizbüro\, Münsterstrasse 16\, Bramsche\, Niedersachsen\, 49565\, Deutschland
END:VEVENT
BEGIN:VEVENT
DTSTART;TZID=Europe/Berlin:20250423T150000
DTEND;TZID=Europe/Berlin:20250423T170000
DTSTAMP:20260426T052850
CREATED:20241218T143731Z
LAST-MODIFIED:20241219T171346Z
UID:10000567-1745420400-1745427600@hospizverein-bramsche.de
SUMMARY:Bürozeiten
DESCRIPTION:
URL:https://hospizverein-bramsche.de/event/buerozeiten/2025-04-23/
LOCATION:Hopizbüro\, Münsterstrasse 16\, Bramsche\, Niedersachsen\, 49565\, Deutschland
END:VEVENT
BEGIN:VEVENT
DTSTART;TZID=Europe/Berlin:20250418T100000
DTEND;TZID=Europe/Berlin:20250418T120000
DTSTAMP:20260426T052850
CREATED:20241218T143911Z
LAST-MODIFIED:20241219T171401Z
UID:10000855-1744970400-1744977600@hospizverein-bramsche.de
SUMMARY:Bürozeiten
DESCRIPTION:
URL:https://hospizverein-bramsche.de/event/buerozeiten-2/2025-04-18/
LOCATION:Hopizbüro\, Münsterstrasse 16\, Bramsche\, Niedersachsen\, 49565\, Deutschland
END:VEVENT
BEGIN:VEVENT
DTSTART;TZID=Europe/Berlin:20250416T150000
DTEND;TZID=Europe/Berlin:20250416T170000
DTSTAMP:20260426T052850
CREATED:20241218T143731Z
LAST-MODIFIED:20241219T171346Z
UID:10000566-1744815600-1744822800@hospizverein-bramsche.de
SUMMARY:Bürozeiten
DESCRIPTION:
URL:https://hospizverein-bramsche.de/event/buerozeiten/2025-04-16/
LOCATION:Hopizbüro\, Münsterstrasse 16\, Bramsche\, Niedersachsen\, 49565\, Deutschland
END:VEVENT
BEGIN:VEVENT
DTSTART;TZID=Europe/Berlin:20250411T100000
DTEND;TZID=Europe/Berlin:20250411T120000
DTSTAMP:20260426T052850
CREATED:20241218T143911Z
LAST-MODIFIED:20241219T171401Z
UID:10000854-1744365600-1744372800@hospizverein-bramsche.de
SUMMARY:Bürozeiten
DESCRIPTION:
URL:https://hospizverein-bramsche.de/event/buerozeiten-2/2025-04-11/
LOCATION:Hopizbüro\, Münsterstrasse 16\, Bramsche\, Niedersachsen\, 49565\, Deutschland
END:VEVENT
END:VCALENDAR