BEGIN:VCALENDAR
VERSION:2.0
PRODID:-//Hospizverein Bramsche - ECPv6.15.16//NONSGML v1.0//EN
CALSCALE:GREGORIAN
METHOD:PUBLISH
X-WR-CALNAME:Hospizverein Bramsche
X-ORIGINAL-URL:https://hospizverein-bramsche.de
X-WR-CALDESC:Veranstaltungen für Hospizverein Bramsche
REFRESH-INTERVAL;VALUE=DURATION:PT1H
X-Robots-Tag:noindex
X-PUBLISHED-TTL:PT1H
BEGIN:VTIMEZONE
TZID:Europe/Berlin
BEGIN:DAYLIGHT
TZOFFSETFROM:+0100
TZOFFSETTO:+0200
TZNAME:CEST
DTSTART:20260329T010000
END:DAYLIGHT
BEGIN:STANDARD
TZOFFSETFROM:+0200
TZOFFSETTO:+0100
TZNAME:CET
DTSTART:20261025T010000
END:STANDARD
BEGIN:DAYLIGHT
TZOFFSETFROM:+0100
TZOFFSETTO:+0200
TZNAME:CEST
DTSTART:20270328T010000
END:DAYLIGHT
BEGIN:STANDARD
TZOFFSETFROM:+0200
TZOFFSETTO:+0100
TZNAME:CET
DTSTART:20271031T010000
END:STANDARD
BEGIN:DAYLIGHT
TZOFFSETFROM:+0100
TZOFFSETTO:+0200
TZNAME:CEST
DTSTART:20280326T010000
END:DAYLIGHT
BEGIN:STANDARD
TZOFFSETFROM:+0200
TZOFFSETTO:+0100
TZNAME:CET
DTSTART:20281029T010000
END:STANDARD
END:VTIMEZONE
BEGIN:VEVENT
DTSTART;TZID=Europe/Berlin:20270407T150000
DTEND;TZID=Europe/Berlin:20270407T170000
DTSTAMP:20260426T051407
CREATED:20241218T143731Z
LAST-MODIFIED:20241219T171346Z
UID:10000669-1807110000-1807117200@hospizverein-bramsche.de
SUMMARY:Bürozeiten
DESCRIPTION:
URL:https://hospizverein-bramsche.de/event/buerozeiten/2027-04-07/
LOCATION:Hopizbüro\, Münsterstrasse 16\, Bramsche\, Niedersachsen\, 49565\, Deutschland
END:VEVENT
BEGIN:VEVENT
DTSTART;TZID=Europe/Berlin:20270407T160000
DTEND;TZID=Europe/Berlin:20270407T173000
DTSTAMP:20260426T051407
CREATED:20240514T133036Z
LAST-MODIFIED:20241219T171135Z
UID:10000230-1807113600-1807119000@hospizverein-bramsche.de
SUMMARY:Hospizcafe
DESCRIPTION:
URL:https://hospizverein-bramsche.de/event/hospizcafe/2027-04-07/
LOCATION:Hopizbüro\, Münsterstrasse 16\, Bramsche\, Niedersachsen\, 49565\, Deutschland
END:VEVENT
BEGIN:VEVENT
DTSTART;TZID=Europe/Berlin:20270409T100000
DTEND;TZID=Europe/Berlin:20270409T120000
DTSTAMP:20260426T051407
CREATED:20241218T143911Z
LAST-MODIFIED:20241219T171401Z
UID:10000958-1807264800-1807272000@hospizverein-bramsche.de
SUMMARY:Bürozeiten
DESCRIPTION:
URL:https://hospizverein-bramsche.de/event/buerozeiten-2/2027-04-09/
LOCATION:Hopizbüro\, Münsterstrasse 16\, Bramsche\, Niedersachsen\, 49565\, Deutschland
END:VEVENT
BEGIN:VEVENT
DTSTART;TZID=Europe/Berlin:20270414T150000
DTEND;TZID=Europe/Berlin:20270414T170000
DTSTAMP:20260426T051407
CREATED:20241218T143731Z
LAST-MODIFIED:20241219T171346Z
UID:10000670-1807714800-1807722000@hospizverein-bramsche.de
SUMMARY:Bürozeiten
DESCRIPTION:
URL:https://hospizverein-bramsche.de/event/buerozeiten/2027-04-14/
LOCATION:Hopizbüro\, Münsterstrasse 16\, Bramsche\, Niedersachsen\, 49565\, Deutschland
END:VEVENT
BEGIN:VEVENT
DTSTART;TZID=Europe/Berlin:20270414T180000
DTEND;TZID=Europe/Berlin:20270414T203000
DTSTAMP:20260426T051407
CREATED:20240606T164438Z
LAST-MODIFIED:20241218T143553Z
UID:10000492-1807725600-1807734600@hospizverein-bramsche.de
SUMMARY:Begleitertreffen
DESCRIPTION:
URL:https://hospizverein-bramsche.de/event/begleitertreffen/2027-04-14/
LOCATION:Hopizbüro\, Münsterstrasse 16\, Bramsche\, Niedersachsen\, 49565\, Deutschland
END:VEVENT
BEGIN:VEVENT
DTSTART;TZID=Europe/Berlin:20270416T100000
DTEND;TZID=Europe/Berlin:20270416T120000
DTSTAMP:20260426T051407
CREATED:20241218T143911Z
LAST-MODIFIED:20241219T171401Z
UID:10000959-1807869600-1807876800@hospizverein-bramsche.de
SUMMARY:Bürozeiten
DESCRIPTION:
URL:https://hospizverein-bramsche.de/event/buerozeiten-2/2027-04-16/
LOCATION:Hopizbüro\, Münsterstrasse 16\, Bramsche\, Niedersachsen\, 49565\, Deutschland
END:VEVENT
BEGIN:VEVENT
DTSTART;TZID=Europe/Berlin:20270421T150000
DTEND;TZID=Europe/Berlin:20270421T170000
DTSTAMP:20260426T051407
CREATED:20241218T143731Z
LAST-MODIFIED:20241219T171346Z
UID:10000671-1808319600-1808326800@hospizverein-bramsche.de
SUMMARY:Bürozeiten
DESCRIPTION:
URL:https://hospizverein-bramsche.de/event/buerozeiten/2027-04-21/
LOCATION:Hopizbüro\, Münsterstrasse 16\, Bramsche\, Niedersachsen\, 49565\, Deutschland
END:VEVENT
BEGIN:VEVENT
DTSTART;TZID=Europe/Berlin:20270423T100000
DTEND;TZID=Europe/Berlin:20270423T120000
DTSTAMP:20260426T051407
CREATED:20241218T143911Z
LAST-MODIFIED:20241219T171401Z
UID:10000960-1808474400-1808481600@hospizverein-bramsche.de
SUMMARY:Bürozeiten
DESCRIPTION:
URL:https://hospizverein-bramsche.de/event/buerozeiten-2/2027-04-23/
LOCATION:Hopizbüro\, Münsterstrasse 16\, Bramsche\, Niedersachsen\, 49565\, Deutschland
END:VEVENT
BEGIN:VEVENT
DTSTART;TZID=Europe/Berlin:20270428T150000
DTEND;TZID=Europe/Berlin:20270428T170000
DTSTAMP:20260426T051407
CREATED:20241218T143731Z
LAST-MODIFIED:20241219T171346Z
UID:10000672-1808924400-1808931600@hospizverein-bramsche.de
SUMMARY:Bürozeiten
DESCRIPTION:
URL:https://hospizverein-bramsche.de/event/buerozeiten/2027-04-28/
LOCATION:Hopizbüro\, Münsterstrasse 16\, Bramsche\, Niedersachsen\, 49565\, Deutschland
END:VEVENT
BEGIN:VEVENT
DTSTART;TZID=Europe/Berlin:20270430T100000
DTEND;TZID=Europe/Berlin:20270430T120000
DTSTAMP:20260426T051407
CREATED:20241218T143911Z
LAST-MODIFIED:20241219T171401Z
UID:10000961-1809079200-1809086400@hospizverein-bramsche.de
SUMMARY:Bürozeiten
DESCRIPTION:
URL:https://hospizverein-bramsche.de/event/buerozeiten-2/2027-04-30/
LOCATION:Hopizbüro\, Münsterstrasse 16\, Bramsche\, Niedersachsen\, 49565\, Deutschland
END:VEVENT
BEGIN:VEVENT
DTSTART;TZID=Europe/Berlin:20270503T150000
DTEND;TZID=Europe/Berlin:20270503T170000
DTSTAMP:20260426T051407
CREATED:20241218T141550Z
LAST-MODIFIED:20241218T143113Z
UID:10000090-1809356400-1809363600@hospizverein-bramsche.de
SUMMARY:Gesprächskreis für Trauernde
DESCRIPTION:
URL:https://hospizverein-bramsche.de/event/gespraechskreis-fuer-trauernde-6-copy/2027-05-03/
LOCATION:Hopizbüro\, Münsterstrasse 16\, Bramsche\, Niedersachsen\, 49565\, Deutschland
END:VEVENT
BEGIN:VEVENT
DTSTART;TZID=Europe/Berlin:20270505T150000
DTEND;TZID=Europe/Berlin:20270505T170000
DTSTAMP:20260426T051407
CREATED:20241218T143731Z
LAST-MODIFIED:20241219T171346Z
UID:10000673-1809529200-1809536400@hospizverein-bramsche.de
SUMMARY:Bürozeiten
DESCRIPTION:
URL:https://hospizverein-bramsche.de/event/buerozeiten/2027-05-05/
LOCATION:Hopizbüro\, Münsterstrasse 16\, Bramsche\, Niedersachsen\, 49565\, Deutschland
END:VEVENT
BEGIN:VEVENT
DTSTART;TZID=Europe/Berlin:20270505T160000
DTEND;TZID=Europe/Berlin:20270505T173000
DTSTAMP:20260426T051407
CREATED:20240514T133036Z
LAST-MODIFIED:20241219T171135Z
UID:10000231-1809532800-1809538200@hospizverein-bramsche.de
SUMMARY:Hospizcafe
DESCRIPTION:
URL:https://hospizverein-bramsche.de/event/hospizcafe/2027-05-05/
LOCATION:Hopizbüro\, Münsterstrasse 16\, Bramsche\, Niedersachsen\, 49565\, Deutschland
END:VEVENT
BEGIN:VEVENT
DTSTART;TZID=Europe/Berlin:20270507T100000
DTEND;TZID=Europe/Berlin:20270507T120000
DTSTAMP:20260426T051407
CREATED:20241218T143911Z
LAST-MODIFIED:20241219T171401Z
UID:10000962-1809684000-1809691200@hospizverein-bramsche.de
SUMMARY:Bürozeiten
DESCRIPTION:
URL:https://hospizverein-bramsche.de/event/buerozeiten-2/2027-05-07/
LOCATION:Hopizbüro\, Münsterstrasse 16\, Bramsche\, Niedersachsen\, 49565\, Deutschland
END:VEVENT
BEGIN:VEVENT
DTSTART;TZID=Europe/Berlin:20270512T150000
DTEND;TZID=Europe/Berlin:20270512T170000
DTSTAMP:20260426T051407
CREATED:20241218T143731Z
LAST-MODIFIED:20241219T171346Z
UID:10000674-1810134000-1810141200@hospizverein-bramsche.de
SUMMARY:Bürozeiten
DESCRIPTION:
URL:https://hospizverein-bramsche.de/event/buerozeiten/2027-05-12/
LOCATION:Hopizbüro\, Münsterstrasse 16\, Bramsche\, Niedersachsen\, 49565\, Deutschland
END:VEVENT
BEGIN:VEVENT
DTSTART;TZID=Europe/Berlin:20270512T180000
DTEND;TZID=Europe/Berlin:20270512T203000
DTSTAMP:20260426T051407
CREATED:20240606T164438Z
LAST-MODIFIED:20241218T143553Z
UID:10000493-1810144800-1810153800@hospizverein-bramsche.de
SUMMARY:Begleitertreffen
DESCRIPTION:
URL:https://hospizverein-bramsche.de/event/begleitertreffen/2027-05-12/
LOCATION:Hopizbüro\, Münsterstrasse 16\, Bramsche\, Niedersachsen\, 49565\, Deutschland
END:VEVENT
BEGIN:VEVENT
DTSTART;TZID=Europe/Berlin:20270514T100000
DTEND;TZID=Europe/Berlin:20270514T120000
DTSTAMP:20260426T051407
CREATED:20241218T143911Z
LAST-MODIFIED:20241219T171401Z
UID:10000963-1810288800-1810296000@hospizverein-bramsche.de
SUMMARY:Bürozeiten
DESCRIPTION:
URL:https://hospizverein-bramsche.de/event/buerozeiten-2/2027-05-14/
LOCATION:Hopizbüro\, Münsterstrasse 16\, Bramsche\, Niedersachsen\, 49565\, Deutschland
END:VEVENT
BEGIN:VEVENT
DTSTART;TZID=Europe/Berlin:20270519T150000
DTEND;TZID=Europe/Berlin:20270519T170000
DTSTAMP:20260426T051407
CREATED:20241218T143731Z
LAST-MODIFIED:20241219T171346Z
UID:10000675-1810738800-1810746000@hospizverein-bramsche.de
SUMMARY:Bürozeiten
DESCRIPTION:
URL:https://hospizverein-bramsche.de/event/buerozeiten/2027-05-19/
LOCATION:Hopizbüro\, Münsterstrasse 16\, Bramsche\, Niedersachsen\, 49565\, Deutschland
END:VEVENT
BEGIN:VEVENT
DTSTART;TZID=Europe/Berlin:20270521T100000
DTEND;TZID=Europe/Berlin:20270521T120000
DTSTAMP:20260426T051407
CREATED:20241218T143911Z
LAST-MODIFIED:20241219T171401Z
UID:10000964-1810893600-1810900800@hospizverein-bramsche.de
SUMMARY:Bürozeiten
DESCRIPTION:
URL:https://hospizverein-bramsche.de/event/buerozeiten-2/2027-05-21/
LOCATION:Hopizbüro\, Münsterstrasse 16\, Bramsche\, Niedersachsen\, 49565\, Deutschland
END:VEVENT
BEGIN:VEVENT
DTSTART;TZID=Europe/Berlin:20270526T150000
DTEND;TZID=Europe/Berlin:20270526T170000
DTSTAMP:20260426T051407
CREATED:20241218T143731Z
LAST-MODIFIED:20241219T171346Z
UID:10000676-1811343600-1811350800@hospizverein-bramsche.de
SUMMARY:Bürozeiten
DESCRIPTION:
URL:https://hospizverein-bramsche.de/event/buerozeiten/2027-05-26/
LOCATION:Hopizbüro\, Münsterstrasse 16\, Bramsche\, Niedersachsen\, 49565\, Deutschland
END:VEVENT
BEGIN:VEVENT
DTSTART;TZID=Europe/Berlin:20270528T100000
DTEND;TZID=Europe/Berlin:20270528T120000
DTSTAMP:20260426T051407
CREATED:20241218T143911Z
LAST-MODIFIED:20241219T171401Z
UID:10000965-1811498400-1811505600@hospizverein-bramsche.de
SUMMARY:Bürozeiten
DESCRIPTION:
URL:https://hospizverein-bramsche.de/event/buerozeiten-2/2027-05-28/
LOCATION:Hopizbüro\, Münsterstrasse 16\, Bramsche\, Niedersachsen\, 49565\, Deutschland
END:VEVENT
BEGIN:VEVENT
DTSTART;TZID=Europe/Berlin:20270602T150000
DTEND;TZID=Europe/Berlin:20270602T170000
DTSTAMP:20260426T051407
CREATED:20241218T143731Z
LAST-MODIFIED:20241219T171346Z
UID:10000677-1811948400-1811955600@hospizverein-bramsche.de
SUMMARY:Bürozeiten
DESCRIPTION:
URL:https://hospizverein-bramsche.de/event/buerozeiten/2027-06-02/
LOCATION:Hopizbüro\, Münsterstrasse 16\, Bramsche\, Niedersachsen\, 49565\, Deutschland
END:VEVENT
BEGIN:VEVENT
DTSTART;TZID=Europe/Berlin:20270602T160000
DTEND;TZID=Europe/Berlin:20270602T173000
DTSTAMP:20260426T051407
CREATED:20240514T133036Z
LAST-MODIFIED:20241219T171135Z
UID:10000232-1811952000-1811957400@hospizverein-bramsche.de
SUMMARY:Hospizcafe
DESCRIPTION:
URL:https://hospizverein-bramsche.de/event/hospizcafe/2027-06-02/
LOCATION:Hopizbüro\, Münsterstrasse 16\, Bramsche\, Niedersachsen\, 49565\, Deutschland
END:VEVENT
BEGIN:VEVENT
DTSTART;TZID=Europe/Berlin:20270604T100000
DTEND;TZID=Europe/Berlin:20270604T120000
DTSTAMP:20260426T051407
CREATED:20241218T143911Z
LAST-MODIFIED:20241219T171401Z
UID:10000966-1812103200-1812110400@hospizverein-bramsche.de
SUMMARY:Bürozeiten
DESCRIPTION:
URL:https://hospizverein-bramsche.de/event/buerozeiten-2/2027-06-04/
LOCATION:Hopizbüro\, Münsterstrasse 16\, Bramsche\, Niedersachsen\, 49565\, Deutschland
END:VEVENT
BEGIN:VEVENT
DTSTART;TZID=Europe/Berlin:20270607T150000
DTEND;TZID=Europe/Berlin:20270607T170000
DTSTAMP:20260426T051407
CREATED:20241218T141550Z
LAST-MODIFIED:20241218T143113Z
UID:10000091-1812380400-1812387600@hospizverein-bramsche.de
SUMMARY:Gesprächskreis für Trauernde
DESCRIPTION:
URL:https://hospizverein-bramsche.de/event/gespraechskreis-fuer-trauernde-6-copy/2027-06-07/
LOCATION:Hopizbüro\, Münsterstrasse 16\, Bramsche\, Niedersachsen\, 49565\, Deutschland
END:VEVENT
BEGIN:VEVENT
DTSTART;TZID=Europe/Berlin:20270609T150000
DTEND;TZID=Europe/Berlin:20270609T170000
DTSTAMP:20260426T051407
CREATED:20241218T143731Z
LAST-MODIFIED:20241219T171346Z
UID:10000678-1812553200-1812560400@hospizverein-bramsche.de
SUMMARY:Bürozeiten
DESCRIPTION:
URL:https://hospizverein-bramsche.de/event/buerozeiten/2027-06-09/
LOCATION:Hopizbüro\, Münsterstrasse 16\, Bramsche\, Niedersachsen\, 49565\, Deutschland
END:VEVENT
BEGIN:VEVENT
DTSTART;TZID=Europe/Berlin:20270609T180000
DTEND;TZID=Europe/Berlin:20270609T203000
DTSTAMP:20260426T051407
CREATED:20240606T164438Z
LAST-MODIFIED:20241218T143553Z
UID:10000494-1812564000-1812573000@hospizverein-bramsche.de
SUMMARY:Begleitertreffen
DESCRIPTION:
URL:https://hospizverein-bramsche.de/event/begleitertreffen/2027-06-09/
LOCATION:Hopizbüro\, Münsterstrasse 16\, Bramsche\, Niedersachsen\, 49565\, Deutschland
END:VEVENT
BEGIN:VEVENT
DTSTART;TZID=Europe/Berlin:20270611T100000
DTEND;TZID=Europe/Berlin:20270611T120000
DTSTAMP:20260426T051407
CREATED:20241218T143911Z
LAST-MODIFIED:20241219T171401Z
UID:10000967-1812708000-1812715200@hospizverein-bramsche.de
SUMMARY:Bürozeiten
DESCRIPTION:
URL:https://hospizverein-bramsche.de/event/buerozeiten-2/2027-06-11/
LOCATION:Hopizbüro\, Münsterstrasse 16\, Bramsche\, Niedersachsen\, 49565\, Deutschland
END:VEVENT
BEGIN:VEVENT
DTSTART;TZID=Europe/Berlin:20270616T150000
DTEND;TZID=Europe/Berlin:20270616T170000
DTSTAMP:20260426T051407
CREATED:20241218T143731Z
LAST-MODIFIED:20241219T171346Z
UID:10000679-1813158000-1813165200@hospizverein-bramsche.de
SUMMARY:Bürozeiten
DESCRIPTION:
URL:https://hospizverein-bramsche.de/event/buerozeiten/2027-06-16/
LOCATION:Hopizbüro\, Münsterstrasse 16\, Bramsche\, Niedersachsen\, 49565\, Deutschland
END:VEVENT
BEGIN:VEVENT
DTSTART;TZID=Europe/Berlin:20270618T100000
DTEND;TZID=Europe/Berlin:20270618T120000
DTSTAMP:20260426T051407
CREATED:20241218T143911Z
LAST-MODIFIED:20241219T171401Z
UID:10000968-1813312800-1813320000@hospizverein-bramsche.de
SUMMARY:Bürozeiten
DESCRIPTION:
URL:https://hospizverein-bramsche.de/event/buerozeiten-2/2027-06-18/
LOCATION:Hopizbüro\, Münsterstrasse 16\, Bramsche\, Niedersachsen\, 49565\, Deutschland
END:VEVENT
END:VCALENDAR