BEGIN:VCALENDAR
VERSION:2.0
PRODID:-//Hospizverein Bramsche - ECPv6.15.16//NONSGML v1.0//EN
CALSCALE:GREGORIAN
METHOD:PUBLISH
X-WR-CALNAME:Hospizverein Bramsche
X-ORIGINAL-URL:https://hospizverein-bramsche.de
X-WR-CALDESC:Veranstaltungen für Hospizverein Bramsche
REFRESH-INTERVAL;VALUE=DURATION:PT1H
X-Robots-Tag:noindex
X-PUBLISHED-TTL:PT1H
BEGIN:VTIMEZONE
TZID:Europe/Berlin
BEGIN:DAYLIGHT
TZOFFSETFROM:+0100
TZOFFSETTO:+0200
TZNAME:CEST
DTSTART:20240331T010000
END:DAYLIGHT
BEGIN:STANDARD
TZOFFSETFROM:+0200
TZOFFSETTO:+0100
TZNAME:CET
DTSTART:20241027T010000
END:STANDARD
BEGIN:DAYLIGHT
TZOFFSETFROM:+0100
TZOFFSETTO:+0200
TZNAME:CEST
DTSTART:20250330T010000
END:DAYLIGHT
BEGIN:STANDARD
TZOFFSETFROM:+0200
TZOFFSETTO:+0100
TZNAME:CET
DTSTART:20251026T010000
END:STANDARD
BEGIN:DAYLIGHT
TZOFFSETFROM:+0100
TZOFFSETTO:+0200
TZNAME:CEST
DTSTART:20260329T010000
END:DAYLIGHT
BEGIN:STANDARD
TZOFFSETFROM:+0200
TZOFFSETTO:+0100
TZNAME:CET
DTSTART:20261025T010000
END:STANDARD
END:VTIMEZONE
BEGIN:VEVENT
DTSTART;TZID=Europe/Berlin:20250827T150000
DTEND;TZID=Europe/Berlin:20250827T170000
DTSTAMP:20260426T023336
CREATED:20241218T143731Z
LAST-MODIFIED:20241219T171346Z
UID:10000585-1756306800-1756314000@hospizverein-bramsche.de
SUMMARY:Bürozeiten
DESCRIPTION:
URL:https://hospizverein-bramsche.de/event/buerozeiten/2025-08-27/
LOCATION:Hopizbüro\, Münsterstrasse 16\, Bramsche\, Niedersachsen\, 49565\, Deutschland
END:VEVENT
BEGIN:VEVENT
DTSTART;TZID=Europe/Berlin:20250822T100000
DTEND;TZID=Europe/Berlin:20250822T120000
DTSTAMP:20260426T023336
CREATED:20241218T143911Z
LAST-MODIFIED:20241219T171401Z
UID:10000873-1755856800-1755864000@hospizverein-bramsche.de
SUMMARY:Bürozeiten
DESCRIPTION:
URL:https://hospizverein-bramsche.de/event/buerozeiten-2/2025-08-22/
LOCATION:Hopizbüro\, Münsterstrasse 16\, Bramsche\, Niedersachsen\, 49565\, Deutschland
END:VEVENT
BEGIN:VEVENT
DTSTART;TZID=Europe/Berlin:20250820T150000
DTEND;TZID=Europe/Berlin:20250820T170000
DTSTAMP:20260426T023336
CREATED:20241218T143731Z
LAST-MODIFIED:20241219T171346Z
UID:10000584-1755702000-1755709200@hospizverein-bramsche.de
SUMMARY:Bürozeiten
DESCRIPTION:
URL:https://hospizverein-bramsche.de/event/buerozeiten/2025-08-20/
LOCATION:Hopizbüro\, Münsterstrasse 16\, Bramsche\, Niedersachsen\, 49565\, Deutschland
END:VEVENT
BEGIN:VEVENT
DTSTART;TZID=Europe/Berlin:20250815T100000
DTEND;TZID=Europe/Berlin:20250815T120000
DTSTAMP:20260426T023336
CREATED:20241218T143911Z
LAST-MODIFIED:20241219T171401Z
UID:10000872-1755252000-1755259200@hospizverein-bramsche.de
SUMMARY:Bürozeiten
DESCRIPTION:
URL:https://hospizverein-bramsche.de/event/buerozeiten-2/2025-08-15/
LOCATION:Hopizbüro\, Münsterstrasse 16\, Bramsche\, Niedersachsen\, 49565\, Deutschland
END:VEVENT
BEGIN:VEVENT
DTSTART;TZID=Europe/Berlin:20250813T180000
DTEND;TZID=Europe/Berlin:20250813T203000
DTSTAMP:20260426T023336
CREATED:20240606T164438Z
LAST-MODIFIED:20241218T143553Z
UID:10000472-1755108000-1755117000@hospizverein-bramsche.de
SUMMARY:Begleitertreffen
DESCRIPTION:
URL:https://hospizverein-bramsche.de/event/begleitertreffen/2025-08-13/
LOCATION:Hopizbüro\, Münsterstrasse 16\, Bramsche\, Niedersachsen\, 49565\, Deutschland
END:VEVENT
BEGIN:VEVENT
DTSTART;TZID=Europe/Berlin:20250813T150000
DTEND;TZID=Europe/Berlin:20250813T170000
DTSTAMP:20260426T023336
CREATED:20241218T143731Z
LAST-MODIFIED:20241219T171346Z
UID:10000583-1755097200-1755104400@hospizverein-bramsche.de
SUMMARY:Bürozeiten
DESCRIPTION:
URL:https://hospizverein-bramsche.de/event/buerozeiten/2025-08-13/
LOCATION:Hopizbüro\, Münsterstrasse 16\, Bramsche\, Niedersachsen\, 49565\, Deutschland
END:VEVENT
BEGIN:VEVENT
DTSTART;TZID=Europe/Berlin:20250808T100000
DTEND;TZID=Europe/Berlin:20250808T120000
DTSTAMP:20260426T023336
CREATED:20241218T143911Z
LAST-MODIFIED:20241219T171401Z
UID:10000871-1754647200-1754654400@hospizverein-bramsche.de
SUMMARY:Bürozeiten
DESCRIPTION:
URL:https://hospizverein-bramsche.de/event/buerozeiten-2/2025-08-08/
LOCATION:Hopizbüro\, Münsterstrasse 16\, Bramsche\, Niedersachsen\, 49565\, Deutschland
END:VEVENT
BEGIN:VEVENT
DTSTART;TZID=Europe/Berlin:20250806T160000
DTEND;TZID=Europe/Berlin:20250806T173000
DTSTAMP:20260426T023336
CREATED:20240514T133036Z
LAST-MODIFIED:20241219T171135Z
UID:10000210-1754496000-1754501400@hospizverein-bramsche.de
SUMMARY:Hospizcafe
DESCRIPTION:
URL:https://hospizverein-bramsche.de/event/hospizcafe/2025-08-06/
LOCATION:Hopizbüro\, Münsterstrasse 16\, Bramsche\, Niedersachsen\, 49565\, Deutschland
END:VEVENT
BEGIN:VEVENT
DTSTART;TZID=Europe/Berlin:20250806T150000
DTEND;TZID=Europe/Berlin:20250806T170000
DTSTAMP:20260426T023336
CREATED:20241218T143731Z
LAST-MODIFIED:20241219T171346Z
UID:10000582-1754492400-1754499600@hospizverein-bramsche.de
SUMMARY:Bürozeiten
DESCRIPTION:
URL:https://hospizverein-bramsche.de/event/buerozeiten/2025-08-06/
LOCATION:Hopizbüro\, Münsterstrasse 16\, Bramsche\, Niedersachsen\, 49565\, Deutschland
END:VEVENT
BEGIN:VEVENT
DTSTART;TZID=Europe/Berlin:20250804T150000
DTEND;TZID=Europe/Berlin:20250804T170000
DTSTAMP:20260426T023336
CREATED:20241218T141550Z
LAST-MODIFIED:20241218T143113Z
UID:10000069-1754319600-1754326800@hospizverein-bramsche.de
SUMMARY:Gesprächskreis für Trauernde
DESCRIPTION:
URL:https://hospizverein-bramsche.de/event/gespraechskreis-fuer-trauernde-6-copy/2025-08-04/
LOCATION:Hopizbüro\, Münsterstrasse 16\, Bramsche\, Niedersachsen\, 49565\, Deutschland
END:VEVENT
BEGIN:VEVENT
DTSTART;TZID=Europe/Berlin:20250801T100000
DTEND;TZID=Europe/Berlin:20250801T120000
DTSTAMP:20260426T023336
CREATED:20241218T143911Z
LAST-MODIFIED:20241219T171401Z
UID:10000870-1754042400-1754049600@hospizverein-bramsche.de
SUMMARY:Bürozeiten
DESCRIPTION:
URL:https://hospizverein-bramsche.de/event/buerozeiten-2/2025-08-01/
LOCATION:Hopizbüro\, Münsterstrasse 16\, Bramsche\, Niedersachsen\, 49565\, Deutschland
END:VEVENT
BEGIN:VEVENT
DTSTART;TZID=Europe/Berlin:20250730T150000
DTEND;TZID=Europe/Berlin:20250730T170000
DTSTAMP:20260426T023336
CREATED:20241218T143731Z
LAST-MODIFIED:20241219T171346Z
UID:10000581-1753887600-1753894800@hospizverein-bramsche.de
SUMMARY:Bürozeiten
DESCRIPTION:
URL:https://hospizverein-bramsche.de/event/buerozeiten/2025-07-30/
LOCATION:Hopizbüro\, Münsterstrasse 16\, Bramsche\, Niedersachsen\, 49565\, Deutschland
END:VEVENT
BEGIN:VEVENT
DTSTART;TZID=Europe/Berlin:20250725T100000
DTEND;TZID=Europe/Berlin:20250725T120000
DTSTAMP:20260426T023336
CREATED:20241218T143911Z
LAST-MODIFIED:20241219T171401Z
UID:10000869-1753437600-1753444800@hospizverein-bramsche.de
SUMMARY:Bürozeiten
DESCRIPTION:
URL:https://hospizverein-bramsche.de/event/buerozeiten-2/2025-07-25/
LOCATION:Hopizbüro\, Münsterstrasse 16\, Bramsche\, Niedersachsen\, 49565\, Deutschland
END:VEVENT
BEGIN:VEVENT
DTSTART;TZID=Europe/Berlin:20250723T150000
DTEND;TZID=Europe/Berlin:20250723T170000
DTSTAMP:20260426T023336
CREATED:20241218T143731Z
LAST-MODIFIED:20241219T171346Z
UID:10000580-1753282800-1753290000@hospizverein-bramsche.de
SUMMARY:Bürozeiten
DESCRIPTION:
URL:https://hospizverein-bramsche.de/event/buerozeiten/2025-07-23/
LOCATION:Hopizbüro\, Münsterstrasse 16\, Bramsche\, Niedersachsen\, 49565\, Deutschland
END:VEVENT
BEGIN:VEVENT
DTSTART;TZID=Europe/Berlin:20250718T100000
DTEND;TZID=Europe/Berlin:20250718T120000
DTSTAMP:20260426T023336
CREATED:20241218T143911Z
LAST-MODIFIED:20241219T171401Z
UID:10000868-1752832800-1752840000@hospizverein-bramsche.de
SUMMARY:Bürozeiten
DESCRIPTION:
URL:https://hospizverein-bramsche.de/event/buerozeiten-2/2025-07-18/
LOCATION:Hopizbüro\, Münsterstrasse 16\, Bramsche\, Niedersachsen\, 49565\, Deutschland
END:VEVENT
BEGIN:VEVENT
DTSTART;TZID=Europe/Berlin:20250716T150000
DTEND;TZID=Europe/Berlin:20250716T170000
DTSTAMP:20260426T023336
CREATED:20241218T143731Z
LAST-MODIFIED:20241219T171346Z
UID:10000579-1752678000-1752685200@hospizverein-bramsche.de
SUMMARY:Bürozeiten
DESCRIPTION:
URL:https://hospizverein-bramsche.de/event/buerozeiten/2025-07-16/
LOCATION:Hopizbüro\, Münsterstrasse 16\, Bramsche\, Niedersachsen\, 49565\, Deutschland
END:VEVENT
BEGIN:VEVENT
DTSTART;TZID=Europe/Berlin:20250711T100000
DTEND;TZID=Europe/Berlin:20250711T120000
DTSTAMP:20260426T023336
CREATED:20241218T143911Z
LAST-MODIFIED:20241219T171401Z
UID:10000867-1752228000-1752235200@hospizverein-bramsche.de
SUMMARY:Bürozeiten
DESCRIPTION:
URL:https://hospizverein-bramsche.de/event/buerozeiten-2/2025-07-11/
LOCATION:Hopizbüro\, Münsterstrasse 16\, Bramsche\, Niedersachsen\, 49565\, Deutschland
END:VEVENT
BEGIN:VEVENT
DTSTART;TZID=Europe/Berlin:20250709T180000
DTEND;TZID=Europe/Berlin:20250709T203000
DTSTAMP:20260426T023336
CREATED:20240606T164438Z
LAST-MODIFIED:20241218T143553Z
UID:10000471-1752084000-1752093000@hospizverein-bramsche.de
SUMMARY:Begleitertreffen
DESCRIPTION:
URL:https://hospizverein-bramsche.de/event/begleitertreffen/2025-07-09/
LOCATION:Hopizbüro\, Münsterstrasse 16\, Bramsche\, Niedersachsen\, 49565\, Deutschland
END:VEVENT
BEGIN:VEVENT
DTSTART;TZID=Europe/Berlin:20250709T150000
DTEND;TZID=Europe/Berlin:20250709T170000
DTSTAMP:20260426T023336
CREATED:20241218T143731Z
LAST-MODIFIED:20241219T171346Z
UID:10000578-1752073200-1752080400@hospizverein-bramsche.de
SUMMARY:Bürozeiten
DESCRIPTION:
URL:https://hospizverein-bramsche.de/event/buerozeiten/2025-07-09/
LOCATION:Hopizbüro\, Münsterstrasse 16\, Bramsche\, Niedersachsen\, 49565\, Deutschland
END:VEVENT
BEGIN:VEVENT
DTSTART;TZID=Europe/Berlin:20250707T150000
DTEND;TZID=Europe/Berlin:20250707T170000
DTSTAMP:20260426T023336
CREATED:20241218T141550Z
LAST-MODIFIED:20241218T143113Z
UID:10000068-1751900400-1751907600@hospizverein-bramsche.de
SUMMARY:Gesprächskreis für Trauernde
DESCRIPTION:
URL:https://hospizverein-bramsche.de/event/gespraechskreis-fuer-trauernde-6-copy/2025-07-07/
LOCATION:Hopizbüro\, Münsterstrasse 16\, Bramsche\, Niedersachsen\, 49565\, Deutschland
END:VEVENT
BEGIN:VEVENT
DTSTART;TZID=Europe/Berlin:20250704T100000
DTEND;TZID=Europe/Berlin:20250704T120000
DTSTAMP:20260426T023336
CREATED:20241218T143911Z
LAST-MODIFIED:20241219T171401Z
UID:10000866-1751623200-1751630400@hospizverein-bramsche.de
SUMMARY:Bürozeiten
DESCRIPTION:
URL:https://hospizverein-bramsche.de/event/buerozeiten-2/2025-07-04/
LOCATION:Hopizbüro\, Münsterstrasse 16\, Bramsche\, Niedersachsen\, 49565\, Deutschland
END:VEVENT
BEGIN:VEVENT
DTSTART;TZID=Europe/Berlin:20250702T160000
DTEND;TZID=Europe/Berlin:20250702T173000
DTSTAMP:20260426T023336
CREATED:20240514T133036Z
LAST-MODIFIED:20241219T171135Z
UID:10000209-1751472000-1751477400@hospizverein-bramsche.de
SUMMARY:Hospizcafe
DESCRIPTION:
URL:https://hospizverein-bramsche.de/event/hospizcafe/2025-07-02/
LOCATION:Hopizbüro\, Münsterstrasse 16\, Bramsche\, Niedersachsen\, 49565\, Deutschland
END:VEVENT
BEGIN:VEVENT
DTSTART;TZID=Europe/Berlin:20250702T150000
DTEND;TZID=Europe/Berlin:20250702T170000
DTSTAMP:20260426T023336
CREATED:20241218T143731Z
LAST-MODIFIED:20241219T171346Z
UID:10000577-1751468400-1751475600@hospizverein-bramsche.de
SUMMARY:Bürozeiten
DESCRIPTION:
URL:https://hospizverein-bramsche.de/event/buerozeiten/2025-07-02/
LOCATION:Hopizbüro\, Münsterstrasse 16\, Bramsche\, Niedersachsen\, 49565\, Deutschland
END:VEVENT
BEGIN:VEVENT
DTSTART;TZID=Europe/Berlin:20250627T100000
DTEND;TZID=Europe/Berlin:20250627T120000
DTSTAMP:20260426T023336
CREATED:20241218T143911Z
LAST-MODIFIED:20241219T171401Z
UID:10000865-1751018400-1751025600@hospizverein-bramsche.de
SUMMARY:Bürozeiten
DESCRIPTION:
URL:https://hospizverein-bramsche.de/event/buerozeiten-2/2025-06-27/
LOCATION:Hopizbüro\, Münsterstrasse 16\, Bramsche\, Niedersachsen\, 49565\, Deutschland
END:VEVENT
BEGIN:VEVENT
DTSTART;TZID=Europe/Berlin:20250625T150000
DTEND;TZID=Europe/Berlin:20250625T170000
DTSTAMP:20260426T023336
CREATED:20241218T143731Z
LAST-MODIFIED:20241219T171346Z
UID:10000576-1750863600-1750870800@hospizverein-bramsche.de
SUMMARY:Bürozeiten
DESCRIPTION:
URL:https://hospizverein-bramsche.de/event/buerozeiten/2025-06-25/
LOCATION:Hopizbüro\, Münsterstrasse 16\, Bramsche\, Niedersachsen\, 49565\, Deutschland
END:VEVENT
BEGIN:VEVENT
DTSTART;TZID=Europe/Berlin:20250625T080000
DTEND;TZID=Europe/Berlin:20250625T170000
DTSTAMP:20260426T023336
CREATED:20241218T145418Z
LAST-MODIFIED:20241218T145418Z
UID:10001105-1750838400-1750870800@hospizverein-bramsche.de
SUMMARY:Stadtfest Bramsche
DESCRIPTION:Flohmarktstand beim Hospizbüro
URL:https://hospizverein-bramsche.de/event/stadtfest-bramsche/2025-06-25/
LOCATION:Hopizbüro\, Münsterstrasse 16\, Bramsche\, Niedersachsen\, 49565\, Deutschland
END:VEVENT
BEGIN:VEVENT
DTSTART;TZID=Europe/Berlin:20250624T080000
DTEND;TZID=Europe/Berlin:20250624T170000
DTSTAMP:20260426T023336
CREATED:20241218T145418Z
LAST-MODIFIED:20241218T145418Z
UID:10001104-1750752000-1750784400@hospizverein-bramsche.de
SUMMARY:Stadtfest Bramsche
DESCRIPTION:Flohmarktstand beim Hospizbüro
URL:https://hospizverein-bramsche.de/event/stadtfest-bramsche/2025-06-24/
LOCATION:Hopizbüro\, Münsterstrasse 16\, Bramsche\, Niedersachsen\, 49565\, Deutschland
END:VEVENT
BEGIN:VEVENT
DTSTART;TZID=Europe/Berlin:20250620T100000
DTEND;TZID=Europe/Berlin:20250620T120000
DTSTAMP:20260426T023336
CREATED:20241218T143911Z
LAST-MODIFIED:20241219T171401Z
UID:10000864-1750413600-1750420800@hospizverein-bramsche.de
SUMMARY:Bürozeiten
DESCRIPTION:
URL:https://hospizverein-bramsche.de/event/buerozeiten-2/2025-06-20/
LOCATION:Hopizbüro\, Münsterstrasse 16\, Bramsche\, Niedersachsen\, 49565\, Deutschland
END:VEVENT
BEGIN:VEVENT
DTSTART;TZID=Europe/Berlin:20250618T150000
DTEND;TZID=Europe/Berlin:20250618T170000
DTSTAMP:20260426T023336
CREATED:20241218T143731Z
LAST-MODIFIED:20241219T171346Z
UID:10000575-1750258800-1750266000@hospizverein-bramsche.de
SUMMARY:Bürozeiten
DESCRIPTION:
URL:https://hospizverein-bramsche.de/event/buerozeiten/2025-06-18/
LOCATION:Hopizbüro\, Münsterstrasse 16\, Bramsche\, Niedersachsen\, 49565\, Deutschland
END:VEVENT
BEGIN:VEVENT
DTSTART;TZID=Europe/Berlin:20250613T100000
DTEND;TZID=Europe/Berlin:20250613T120000
DTSTAMP:20260426T023336
CREATED:20241218T143911Z
LAST-MODIFIED:20241219T171401Z
UID:10000863-1749808800-1749816000@hospizverein-bramsche.de
SUMMARY:Bürozeiten
DESCRIPTION:
URL:https://hospizverein-bramsche.de/event/buerozeiten-2/2025-06-13/
LOCATION:Hopizbüro\, Münsterstrasse 16\, Bramsche\, Niedersachsen\, 49565\, Deutschland
END:VEVENT
END:VCALENDAR