BEGIN:VCALENDAR
VERSION:2.0
PRODID:-//Hospizverein Bramsche - ECPv6.15.16//NONSGML v1.0//EN
CALSCALE:GREGORIAN
METHOD:PUBLISH
X-ORIGINAL-URL:https://hospizverein-bramsche.de
X-WR-CALDESC:Veranstaltungen für Hospizverein Bramsche
REFRESH-INTERVAL;VALUE=DURATION:PT1H
X-Robots-Tag:noindex
X-PUBLISHED-TTL:PT1H
BEGIN:VTIMEZONE
TZID:Europe/Berlin
BEGIN:DAYLIGHT
TZOFFSETFROM:+0100
TZOFFSETTO:+0200
TZNAME:CEST
DTSTART:20260329T010000
END:DAYLIGHT
BEGIN:STANDARD
TZOFFSETFROM:+0200
TZOFFSETTO:+0100
TZNAME:CET
DTSTART:20261025T010000
END:STANDARD
BEGIN:DAYLIGHT
TZOFFSETFROM:+0100
TZOFFSETTO:+0200
TZNAME:CEST
DTSTART:20270328T010000
END:DAYLIGHT
BEGIN:STANDARD
TZOFFSETFROM:+0200
TZOFFSETTO:+0100
TZNAME:CET
DTSTART:20271031T010000
END:STANDARD
BEGIN:DAYLIGHT
TZOFFSETFROM:+0100
TZOFFSETTO:+0200
TZNAME:CEST
DTSTART:20280326T010000
END:DAYLIGHT
BEGIN:STANDARD
TZOFFSETFROM:+0200
TZOFFSETTO:+0100
TZNAME:CET
DTSTART:20281029T010000
END:STANDARD
END:VTIMEZONE
BEGIN:VEVENT
DTSTART;TZID=Europe/Berlin:20270104T150000
DTEND;TZID=Europe/Berlin:20270104T170000
DTSTAMP:20260426T010707
CREATED:20241218T141550Z
LAST-MODIFIED:20241218T143113Z
UID:10000086-1799074800-1799082000@hospizverein-bramsche.de
SUMMARY:Gesprächskreis für Trauernde
DESCRIPTION:
URL:https://hospizverein-bramsche.de/event/gespraechskreis-fuer-trauernde-6-copy/2027-01-04/
LOCATION:Hopizbüro\, Münsterstrasse 16\, Bramsche\, Niedersachsen\, 49565\, Deutschland
END:VEVENT
BEGIN:VEVENT
DTSTART;TZID=Europe/Berlin:20270106T150000
DTEND;TZID=Europe/Berlin:20270106T170000
DTSTAMP:20260426T010707
CREATED:20241218T143731Z
LAST-MODIFIED:20241219T171346Z
UID:10000656-1799247600-1799254800@hospizverein-bramsche.de
SUMMARY:Bürozeiten
DESCRIPTION:
URL:https://hospizverein-bramsche.de/event/buerozeiten/2027-01-06/
LOCATION:Hopizbüro\, Münsterstrasse 16\, Bramsche\, Niedersachsen\, 49565\, Deutschland
END:VEVENT
BEGIN:VEVENT
DTSTART;TZID=Europe/Berlin:20270106T160000
DTEND;TZID=Europe/Berlin:20270106T173000
DTSTAMP:20260426T010707
CREATED:20240514T133036Z
LAST-MODIFIED:20241219T171135Z
UID:10000227-1799251200-1799256600@hospizverein-bramsche.de
SUMMARY:Hospizcafe
DESCRIPTION:
URL:https://hospizverein-bramsche.de/event/hospizcafe/2027-01-06/
LOCATION:Hopizbüro\, Münsterstrasse 16\, Bramsche\, Niedersachsen\, 49565\, Deutschland
END:VEVENT
BEGIN:VEVENT
DTSTART;TZID=Europe/Berlin:20270108T100000
DTEND;TZID=Europe/Berlin:20270108T120000
DTSTAMP:20260426T010707
CREATED:20241218T143911Z
LAST-MODIFIED:20241219T171401Z
UID:10000945-1799402400-1799409600@hospizverein-bramsche.de
SUMMARY:Bürozeiten
DESCRIPTION:
URL:https://hospizverein-bramsche.de/event/buerozeiten-2/2027-01-08/
LOCATION:Hopizbüro\, Münsterstrasse 16\, Bramsche\, Niedersachsen\, 49565\, Deutschland
END:VEVENT
BEGIN:VEVENT
DTSTART;TZID=Europe/Berlin:20270113T150000
DTEND;TZID=Europe/Berlin:20270113T170000
DTSTAMP:20260426T010707
CREATED:20241218T143731Z
LAST-MODIFIED:20241219T171346Z
UID:10000657-1799852400-1799859600@hospizverein-bramsche.de
SUMMARY:Bürozeiten
DESCRIPTION:
URL:https://hospizverein-bramsche.de/event/buerozeiten/2027-01-13/
LOCATION:Hopizbüro\, Münsterstrasse 16\, Bramsche\, Niedersachsen\, 49565\, Deutschland
END:VEVENT
BEGIN:VEVENT
DTSTART;TZID=Europe/Berlin:20270113T180000
DTEND;TZID=Europe/Berlin:20270113T203000
DTSTAMP:20260426T010707
CREATED:20240606T164438Z
LAST-MODIFIED:20241218T143553Z
UID:10000489-1799863200-1799872200@hospizverein-bramsche.de
SUMMARY:Begleitertreffen
DESCRIPTION:
URL:https://hospizverein-bramsche.de/event/begleitertreffen/2027-01-13/
LOCATION:Hopizbüro\, Münsterstrasse 16\, Bramsche\, Niedersachsen\, 49565\, Deutschland
END:VEVENT
BEGIN:VEVENT
DTSTART;TZID=Europe/Berlin:20270115T100000
DTEND;TZID=Europe/Berlin:20270115T120000
DTSTAMP:20260426T010707
CREATED:20241218T143911Z
LAST-MODIFIED:20241219T171401Z
UID:10000946-1800007200-1800014400@hospizverein-bramsche.de
SUMMARY:Bürozeiten
DESCRIPTION:
URL:https://hospizverein-bramsche.de/event/buerozeiten-2/2027-01-15/
LOCATION:Hopizbüro\, Münsterstrasse 16\, Bramsche\, Niedersachsen\, 49565\, Deutschland
END:VEVENT
BEGIN:VEVENT
DTSTART;TZID=Europe/Berlin:20270120T150000
DTEND;TZID=Europe/Berlin:20270120T170000
DTSTAMP:20260426T010707
CREATED:20241218T143731Z
LAST-MODIFIED:20241219T171346Z
UID:10000658-1800457200-1800464400@hospizverein-bramsche.de
SUMMARY:Bürozeiten
DESCRIPTION:
URL:https://hospizverein-bramsche.de/event/buerozeiten/2027-01-20/
LOCATION:Hopizbüro\, Münsterstrasse 16\, Bramsche\, Niedersachsen\, 49565\, Deutschland
END:VEVENT
BEGIN:VEVENT
DTSTART;TZID=Europe/Berlin:20270122T100000
DTEND;TZID=Europe/Berlin:20270122T120000
DTSTAMP:20260426T010707
CREATED:20241218T143911Z
LAST-MODIFIED:20241219T171401Z
UID:10000947-1800612000-1800619200@hospizverein-bramsche.de
SUMMARY:Bürozeiten
DESCRIPTION:
URL:https://hospizverein-bramsche.de/event/buerozeiten-2/2027-01-22/
LOCATION:Hopizbüro\, Münsterstrasse 16\, Bramsche\, Niedersachsen\, 49565\, Deutschland
END:VEVENT
BEGIN:VEVENT
DTSTART;TZID=Europe/Berlin:20270127T150000
DTEND;TZID=Europe/Berlin:20270127T170000
DTSTAMP:20260426T010707
CREATED:20241218T143731Z
LAST-MODIFIED:20241219T171346Z
UID:10000659-1801062000-1801069200@hospizverein-bramsche.de
SUMMARY:Bürozeiten
DESCRIPTION:
URL:https://hospizverein-bramsche.de/event/buerozeiten/2027-01-27/
LOCATION:Hopizbüro\, Münsterstrasse 16\, Bramsche\, Niedersachsen\, 49565\, Deutschland
END:VEVENT
BEGIN:VEVENT
DTSTART;TZID=Europe/Berlin:20270129T100000
DTEND;TZID=Europe/Berlin:20270129T120000
DTSTAMP:20260426T010707
CREATED:20241218T143911Z
LAST-MODIFIED:20241219T171401Z
UID:10000948-1801216800-1801224000@hospizverein-bramsche.de
SUMMARY:Bürozeiten
DESCRIPTION:
URL:https://hospizverein-bramsche.de/event/buerozeiten-2/2027-01-29/
LOCATION:Hopizbüro\, Münsterstrasse 16\, Bramsche\, Niedersachsen\, 49565\, Deutschland
END:VEVENT
BEGIN:VEVENT
DTSTART;TZID=Europe/Berlin:20270201T150000
DTEND;TZID=Europe/Berlin:20270201T170000
DTSTAMP:20260426T010707
CREATED:20241218T141550Z
LAST-MODIFIED:20241218T143113Z
UID:10000087-1801494000-1801501200@hospizverein-bramsche.de
SUMMARY:Gesprächskreis für Trauernde
DESCRIPTION:
URL:https://hospizverein-bramsche.de/event/gespraechskreis-fuer-trauernde-6-copy/2027-02-01/
LOCATION:Hopizbüro\, Münsterstrasse 16\, Bramsche\, Niedersachsen\, 49565\, Deutschland
END:VEVENT
BEGIN:VEVENT
DTSTART;TZID=Europe/Berlin:20270203T150000
DTEND;TZID=Europe/Berlin:20270203T170000
DTSTAMP:20260426T010707
CREATED:20241218T143731Z
LAST-MODIFIED:20241219T171346Z
UID:10000660-1801666800-1801674000@hospizverein-bramsche.de
SUMMARY:Bürozeiten
DESCRIPTION:
URL:https://hospizverein-bramsche.de/event/buerozeiten/2027-02-03/
LOCATION:Hopizbüro\, Münsterstrasse 16\, Bramsche\, Niedersachsen\, 49565\, Deutschland
END:VEVENT
BEGIN:VEVENT
DTSTART;TZID=Europe/Berlin:20270203T160000
DTEND;TZID=Europe/Berlin:20270203T173000
DTSTAMP:20260426T010707
CREATED:20240514T133036Z
LAST-MODIFIED:20241219T171135Z
UID:10000228-1801670400-1801675800@hospizverein-bramsche.de
SUMMARY:Hospizcafe
DESCRIPTION:
URL:https://hospizverein-bramsche.de/event/hospizcafe/2027-02-03/
LOCATION:Hopizbüro\, Münsterstrasse 16\, Bramsche\, Niedersachsen\, 49565\, Deutschland
END:VEVENT
BEGIN:VEVENT
DTSTART;TZID=Europe/Berlin:20270205T100000
DTEND;TZID=Europe/Berlin:20270205T120000
DTSTAMP:20260426T010707
CREATED:20241218T143911Z
LAST-MODIFIED:20241219T171401Z
UID:10000949-1801821600-1801828800@hospizverein-bramsche.de
SUMMARY:Bürozeiten
DESCRIPTION:
URL:https://hospizverein-bramsche.de/event/buerozeiten-2/2027-02-05/
LOCATION:Hopizbüro\, Münsterstrasse 16\, Bramsche\, Niedersachsen\, 49565\, Deutschland
END:VEVENT
BEGIN:VEVENT
DTSTART;TZID=Europe/Berlin:20270210T150000
DTEND;TZID=Europe/Berlin:20270210T170000
DTSTAMP:20260426T010707
CREATED:20241218T143731Z
LAST-MODIFIED:20241219T171346Z
UID:10000661-1802271600-1802278800@hospizverein-bramsche.de
SUMMARY:Bürozeiten
DESCRIPTION:
URL:https://hospizverein-bramsche.de/event/buerozeiten/2027-02-10/
LOCATION:Hopizbüro\, Münsterstrasse 16\, Bramsche\, Niedersachsen\, 49565\, Deutschland
END:VEVENT
BEGIN:VEVENT
DTSTART;TZID=Europe/Berlin:20270210T180000
DTEND;TZID=Europe/Berlin:20270210T203000
DTSTAMP:20260426T010707
CREATED:20240606T164438Z
LAST-MODIFIED:20241218T143553Z
UID:10000490-1802282400-1802291400@hospizverein-bramsche.de
SUMMARY:Begleitertreffen
DESCRIPTION:
URL:https://hospizverein-bramsche.de/event/begleitertreffen/2027-02-10/
LOCATION:Hopizbüro\, Münsterstrasse 16\, Bramsche\, Niedersachsen\, 49565\, Deutschland
END:VEVENT
BEGIN:VEVENT
DTSTART;TZID=Europe/Berlin:20270212T100000
DTEND;TZID=Europe/Berlin:20270212T120000
DTSTAMP:20260426T010707
CREATED:20241218T143911Z
LAST-MODIFIED:20241219T171401Z
UID:10000950-1802426400-1802433600@hospizverein-bramsche.de
SUMMARY:Bürozeiten
DESCRIPTION:
URL:https://hospizverein-bramsche.de/event/buerozeiten-2/2027-02-12/
LOCATION:Hopizbüro\, Münsterstrasse 16\, Bramsche\, Niedersachsen\, 49565\, Deutschland
END:VEVENT
BEGIN:VEVENT
DTSTART;TZID=Europe/Berlin:20270217T150000
DTEND;TZID=Europe/Berlin:20270217T170000
DTSTAMP:20260426T010707
CREATED:20241218T143731Z
LAST-MODIFIED:20241219T171346Z
UID:10000662-1802876400-1802883600@hospizverein-bramsche.de
SUMMARY:Bürozeiten
DESCRIPTION:
URL:https://hospizverein-bramsche.de/event/buerozeiten/2027-02-17/
LOCATION:Hopizbüro\, Münsterstrasse 16\, Bramsche\, Niedersachsen\, 49565\, Deutschland
END:VEVENT
BEGIN:VEVENT
DTSTART;TZID=Europe/Berlin:20270219T100000
DTEND;TZID=Europe/Berlin:20270219T120000
DTSTAMP:20260426T010707
CREATED:20241218T143911Z
LAST-MODIFIED:20241219T171401Z
UID:10000951-1803031200-1803038400@hospizverein-bramsche.de
SUMMARY:Bürozeiten
DESCRIPTION:
URL:https://hospizverein-bramsche.de/event/buerozeiten-2/2027-02-19/
LOCATION:Hopizbüro\, Münsterstrasse 16\, Bramsche\, Niedersachsen\, 49565\, Deutschland
END:VEVENT
BEGIN:VEVENT
DTSTART;TZID=Europe/Berlin:20270224T150000
DTEND;TZID=Europe/Berlin:20270224T170000
DTSTAMP:20260426T010707
CREATED:20241218T143731Z
LAST-MODIFIED:20241219T171346Z
UID:10000663-1803481200-1803488400@hospizverein-bramsche.de
SUMMARY:Bürozeiten
DESCRIPTION:
URL:https://hospizverein-bramsche.de/event/buerozeiten/2027-02-24/
LOCATION:Hopizbüro\, Münsterstrasse 16\, Bramsche\, Niedersachsen\, 49565\, Deutschland
END:VEVENT
BEGIN:VEVENT
DTSTART;TZID=Europe/Berlin:20270226T100000
DTEND;TZID=Europe/Berlin:20270226T120000
DTSTAMP:20260426T010707
CREATED:20241218T143911Z
LAST-MODIFIED:20241219T171401Z
UID:10000952-1803636000-1803643200@hospizverein-bramsche.de
SUMMARY:Bürozeiten
DESCRIPTION:
URL:https://hospizverein-bramsche.de/event/buerozeiten-2/2027-02-26/
LOCATION:Hopizbüro\, Münsterstrasse 16\, Bramsche\, Niedersachsen\, 49565\, Deutschland
END:VEVENT
BEGIN:VEVENT
DTSTART;TZID=Europe/Berlin:20270301T150000
DTEND;TZID=Europe/Berlin:20270301T170000
DTSTAMP:20260426T010707
CREATED:20241218T141550Z
LAST-MODIFIED:20241218T143113Z
UID:10000088-1803913200-1803920400@hospizverein-bramsche.de
SUMMARY:Gesprächskreis für Trauernde
DESCRIPTION:
URL:https://hospizverein-bramsche.de/event/gespraechskreis-fuer-trauernde-6-copy/2027-03-01/
LOCATION:Hopizbüro\, Münsterstrasse 16\, Bramsche\, Niedersachsen\, 49565\, Deutschland
END:VEVENT
BEGIN:VEVENT
DTSTART;TZID=Europe/Berlin:20270303T150000
DTEND;TZID=Europe/Berlin:20270303T170000
DTSTAMP:20260426T010707
CREATED:20241218T143731Z
LAST-MODIFIED:20241219T171346Z
UID:10000664-1804086000-1804093200@hospizverein-bramsche.de
SUMMARY:Bürozeiten
DESCRIPTION:
URL:https://hospizverein-bramsche.de/event/buerozeiten/2027-03-03/
LOCATION:Hopizbüro\, Münsterstrasse 16\, Bramsche\, Niedersachsen\, 49565\, Deutschland
END:VEVENT
BEGIN:VEVENT
DTSTART;TZID=Europe/Berlin:20270303T160000
DTEND;TZID=Europe/Berlin:20270303T173000
DTSTAMP:20260426T010707
CREATED:20240514T133036Z
LAST-MODIFIED:20241219T171135Z
UID:10000229-1804089600-1804095000@hospizverein-bramsche.de
SUMMARY:Hospizcafe
DESCRIPTION:
URL:https://hospizverein-bramsche.de/event/hospizcafe/2027-03-03/
LOCATION:Hopizbüro\, Münsterstrasse 16\, Bramsche\, Niedersachsen\, 49565\, Deutschland
END:VEVENT
BEGIN:VEVENT
DTSTART;TZID=Europe/Berlin:20270305T100000
DTEND;TZID=Europe/Berlin:20270305T120000
DTSTAMP:20260426T010707
CREATED:20241218T143911Z
LAST-MODIFIED:20241219T171401Z
UID:10000953-1804240800-1804248000@hospizverein-bramsche.de
SUMMARY:Bürozeiten
DESCRIPTION:
URL:https://hospizverein-bramsche.de/event/buerozeiten-2/2027-03-05/
LOCATION:Hopizbüro\, Münsterstrasse 16\, Bramsche\, Niedersachsen\, 49565\, Deutschland
END:VEVENT
BEGIN:VEVENT
DTSTART;TZID=Europe/Berlin:20270310T150000
DTEND;TZID=Europe/Berlin:20270310T170000
DTSTAMP:20260426T010707
CREATED:20241218T143731Z
LAST-MODIFIED:20241219T171346Z
UID:10000665-1804690800-1804698000@hospizverein-bramsche.de
SUMMARY:Bürozeiten
DESCRIPTION:
URL:https://hospizverein-bramsche.de/event/buerozeiten/2027-03-10/
LOCATION:Hopizbüro\, Münsterstrasse 16\, Bramsche\, Niedersachsen\, 49565\, Deutschland
END:VEVENT
BEGIN:VEVENT
DTSTART;TZID=Europe/Berlin:20270310T180000
DTEND;TZID=Europe/Berlin:20270310T203000
DTSTAMP:20260426T010707
CREATED:20240606T164438Z
LAST-MODIFIED:20241218T143553Z
UID:10000491-1804701600-1804710600@hospizverein-bramsche.de
SUMMARY:Begleitertreffen
DESCRIPTION:
URL:https://hospizverein-bramsche.de/event/begleitertreffen/2027-03-10/
LOCATION:Hopizbüro\, Münsterstrasse 16\, Bramsche\, Niedersachsen\, 49565\, Deutschland
END:VEVENT
BEGIN:VEVENT
DTSTART;TZID=Europe/Berlin:20270312T100000
DTEND;TZID=Europe/Berlin:20270312T120000
DTSTAMP:20260426T010707
CREATED:20241218T143911Z
LAST-MODIFIED:20241219T171401Z
UID:10000954-1804845600-1804852800@hospizverein-bramsche.de
SUMMARY:Bürozeiten
DESCRIPTION:
URL:https://hospizverein-bramsche.de/event/buerozeiten-2/2027-03-12/
LOCATION:Hopizbüro\, Münsterstrasse 16\, Bramsche\, Niedersachsen\, 49565\, Deutschland
END:VEVENT
BEGIN:VEVENT
DTSTART;TZID=Europe/Berlin:20270317T150000
DTEND;TZID=Europe/Berlin:20270317T170000
DTSTAMP:20260426T010707
CREATED:20241218T143731Z
LAST-MODIFIED:20241219T171346Z
UID:10000666-1805295600-1805302800@hospizverein-bramsche.de
SUMMARY:Bürozeiten
DESCRIPTION:
URL:https://hospizverein-bramsche.de/event/buerozeiten/2027-03-17/
LOCATION:Hopizbüro\, Münsterstrasse 16\, Bramsche\, Niedersachsen\, 49565\, Deutschland
END:VEVENT
END:VCALENDAR